BEGIN:VCALENDAR
VERSION:2.0
PRODID:-//Discover Rutland - ECPv6.15.12.2//NONSGML v1.0//EN
CALSCALE:GREGORIAN
METHOD:PUBLISH
X-WR-CALNAME:Discover Rutland
X-ORIGINAL-URL:https://discover-rutland.co.uk
X-WR-CALDESC:Events for Discover Rutland
REFRESH-INTERVAL;VALUE=DURATION:PT1H
X-Robots-Tag:noindex
X-PUBLISHED-TTL:PT1H
BEGIN:VTIMEZONE
TZID:Europe/London
BEGIN:DAYLIGHT
TZOFFSETFROM:+0000
TZOFFSETTO:+0100
TZNAME:BST
DTSTART:20250330T010000
END:DAYLIGHT
BEGIN:STANDARD
TZOFFSETFROM:+0100
TZOFFSETTO:+0000
TZNAME:GMT
DTSTART:20251026T010000
END:STANDARD
BEGIN:DAYLIGHT
TZOFFSETFROM:+0000
TZOFFSETTO:+0100
TZNAME:BST
DTSTART:20260329T010000
END:DAYLIGHT
BEGIN:STANDARD
TZOFFSETFROM:+0100
TZOFFSETTO:+0000
TZNAME:GMT
DTSTART:20261025T010000
END:STANDARD
BEGIN:DAYLIGHT
TZOFFSETFROM:+0000
TZOFFSETTO:+0100
TZNAME:BST
DTSTART:20270328T010000
END:DAYLIGHT
BEGIN:STANDARD
TZOFFSETFROM:+0100
TZOFFSETTO:+0000
TZNAME:GMT
DTSTART:20271031T010000
END:STANDARD
END:VTIMEZONE
BEGIN:VEVENT
DTSTART;TZID=Europe/London:20260723T100000
DTEND;TZID=Europe/London:20260723T130000
DTSTAMP:20260421T113818
CREATED:20260421T064041Z
LAST-MODIFIED:20260421T064041Z
UID:38765-1784800800-1784811600@discover-rutland.co.uk
SUMMARY:Beginners Wildlife Photography Course 2026
DESCRIPTION:Spend a day immersed in the world of wildlife photography with Conservation Ranger Luke\, a unique experience designed for nature enthusiasts and photography lovers alike.  \nThis hands-on workshop begins in a dedicated classroom setting where you’ll learn the fundamentals of camera settings\, composition\, and how to capture the perfect shot of wildlife. \nOnce you’ve mastered the basics\, you’ll head out to a nearby hide\, where you can put your newly acquired skills into practice in a real-world setting. \nLocation: Anglian water Bird Watching Centre\, Egleton\, Oakham\, LE15 8BT
URL:https://discover-rutland.co.uk/event/beginners-wildlife-photography-course-2026-4/
LOCATION:The Anglian Water Bird Watching Centre\, Oakham\, Rutland\, LE15 8BT\, United Kingdom
CATEGORIES:Workshops & Courses
ATTACH;FMTTYPE=image/jpeg:https://discover-rutland.co.uk/wp-content/uploads/2026/04/IMG_9435-2-1.jpeg
END:VEVENT
BEGIN:VEVENT
DTSTART;TZID=Europe/London:20260725T100000
DTEND;TZID=Europe/London:20260725T123000
DTSTAMP:20260421T113818
CREATED:20260401T121652Z
LAST-MODIFIED:20260401T121652Z
UID:38038-1784973600-1784982600@discover-rutland.co.uk
SUMMARY:The New Garden: Where a Blank Canvas Comes to Life. 25th July 2026
DESCRIPTION:10am-12:30pm\nAn inspiring course designed for beginners\, as well as those starting with a new-build garden or a completely blank outdoor space. This workshop guides you through the process of transforming an empty plot into a thriving\, beautiful garden tailored to your personal vision. \nIn this workshop you’ll learn: \n\nYour garden space\, understanding aspect\, soil and planning a new design or redevelopment.\nThe importance of ‘Right plant\, right place’.\nIntroduction to core gardening principles and plant care.\n\nLed by passionate plantaholic\, Burghley House head gardener\, Joe Whitehead. \nPrice includes tea/coffee and entry to the Gardens
URL:https://discover-rutland.co.uk/event/the-new-garden-where-a-blank-canvas-comes-to-life-25th-july-2026/
LOCATION:Barnsdale Gardens\, Barnsdale Avenue\, Exton\, Rutland\, United Kingdom
CATEGORIES:Workshops & Courses
ATTACH;FMTTYPE=image/jpeg:https://discover-rutland.co.uk/wp-content/uploads/2026/04/Mediterranean-Garden-at-Barnsdale-Gardens-20200807_4620-STACK.jpg
END:VEVENT
BEGIN:VEVENT
DTSTART;TZID=Europe/London:20260804T100000
DTEND;TZID=Europe/London:20260804T123000
DTSTAMP:20260421T113818
CREATED:20260401T121733Z
LAST-MODIFIED:20260401T121733Z
UID:38044-1785837600-1785846600@discover-rutland.co.uk
SUMMARY:Gardening in Shade. 4th August\, 2026
DESCRIPTION:10am-12:30pm\nDiscover a range of plants that are perfect for the shady areas in your garden and clever ways to improve growing conditions and broaden your scope for planting. \nNick Hamilton’s morning course combines indoor tuition with an outdoor exploration of Barnsdale’s beautiful Gardens in search of some of the shade-loving plants that grow there. \nPerfect for gardeners of all levels looking to transform shaded spaces into thriving\, vibrant parts of the garden. \nPrice includes tea/coffee on arrival and entry to the Gardens.
URL:https://discover-rutland.co.uk/event/gardening-in-shade-4th-august-2026/
LOCATION:Barnsdale Gardens\, Barnsdale Avenue\, Exton\, Rutland\, United Kingdom
CATEGORIES:Workshops & Courses
ATTACH;FMTTYPE=image/jpeg:https://discover-rutland.co.uk/wp-content/uploads/2026/04/Hydrangea-arborescens-Annabelle-in-the-Country-Paradise-Garden-at-Barnsdale-Gardens-20170807_1433.jpg
END:VEVENT
BEGIN:VEVENT
DTSTART;TZID=Europe/London:20260805T100000
DTEND;TZID=Europe/London:20260805T160000
DTSTAMP:20260421T113818
CREATED:20260331T062000Z
LAST-MODIFIED:20260331T062000Z
UID:37969-1785924000-1785945600@discover-rutland.co.uk
SUMMARY:Sculpture Workshop - Carving in Plaster
DESCRIPTION:A full-day creative workshop exploring the art of plaster carving. \nGuided by local sculptor Robert Fogell\, you’ll create your own unique organic form using plaster of Paris\, experimenting with carving and shaping techniques throughout the day. You’ll be encouraged to explore ideas and translate them into three-dimensional form\, building confidence as your piece develops. \nDrawing inspiration from Modernist artists such as Arp and Moore\, the workshop offers an opportunity to deepen your understanding of form\, balance and composition while refining your practical skills \nSuitable for all abilities\, this workshop is designed to support both beginners and those with more experience. Robert will provide individual guidance throughout\, allowing you to progress in a way that suits you. \nAll materials will be provided. \nLunch can be purchased at the Garden Café or Orangery Restaurant on the day or participants are welcome to bring a packed lunch.
URL:https://discover-rutland.co.uk/event/sculpture-workshop-carving-in-plaster/
LOCATION:Burghley House\, Peterborough\, Stamford\, PE93JY\, United Kingdom
CATEGORIES:Workshops & Courses
ATTACH;FMTTYPE=image/jpeg:https://discover-rutland.co.uk/wp-content/uploads/2026/03/Carving-plaster.jpg
END:VEVENT
BEGIN:VEVENT
DTSTART;TZID=Europe/London:20260901T100000
DTEND;TZID=Europe/London:20260901T123000
DTSTAMP:20260421T113818
CREATED:20260401T143654Z
LAST-MODIFIED:20260401T143654Z
UID:38069-1788256800-1788265800@discover-rutland.co.uk
SUMMARY:Composting with Nick Hamilton
DESCRIPTION:10am-12:30pm\nBeing able to compost all that free material that we generate at home and in the garden is an exciting thought. This course will show you how. \nNick Hamilton takes a look at what can and cannot be composted\, the requirements of a compost heap\, activators\, turning a heap and the pros and cons of each type of compost bin. \nPrice includes tea/coffee on arrival and entry to the Gardens.
URL:https://discover-rutland.co.uk/event/composting-with-nick-hamilton/
LOCATION:Barnsdale Gardens\, Barnsdale Avenue\, Exton\, Rutland\, United Kingdom
CATEGORIES:Workshops & Courses
ATTACH;FMTTYPE=image/jpeg:https://discover-rutland.co.uk/wp-content/uploads/2026/04/composting-course-03-1.jpg
END:VEVENT
BEGIN:VEVENT
DTSTART;TZID=Europe/London:20260914T100000
DTEND;TZID=Europe/London:20260914T123000
DTSTAMP:20260421T113818
CREATED:20260401T140717Z
LAST-MODIFIED:20260401T140717Z
UID:38064-1789380000-1789389000@discover-rutland.co.uk
SUMMARY:Growing Flowers for Cutting
DESCRIPTION:10am-12:30pm\nAn informal talk with slides\, with a demonstration and a chance to make your own jam jar posy and hand tied bouquet to take home. \nA sowing and propagation demonstration\, hands-on workshop sowing seeds and you can take home some pots of seeds (cosmos\, poppies\, love in a mist). \nA handout covering all the information from the day will be available. Focussing on hard-working\, favourite flowers that give value for money and provide spectacular\, modern\, fresh flower arrangements to give as presents or for you to enjoy at home. \nAll materials included plus tea/coffee\, garden entry and Cream Tea.
URL:https://discover-rutland.co.uk/event/growing-flowers-for-cutting/
LOCATION:Barnsdale Gardens\, Barnsdale Avenue\, Exton\, Rutland\, United Kingdom
CATEGORIES:Workshops & Courses
ATTACH;FMTTYPE=image/jpeg:https://discover-rutland.co.uk/wp-content/uploads/2026/04/Karen-G.jpg
END:VEVENT
BEGIN:VEVENT
DTSTART;TZID=Europe/London:20261021T100000
DTEND;TZID=Europe/London:20261021T160000
DTSTAMP:20260421T113818
CREATED:20260331T062036Z
LAST-MODIFIED:20260331T062036Z
UID:37974-1792576800-1792598400@discover-rutland.co.uk
SUMMARY:Sculpture Workshop - Automata
DESCRIPTION:Discover the art of movement and mechanics in this engaging full-day sculpture workshop. \nLed by local sculptor Robert Fogell\, you’ll design and build your own simple automata – a small mechanical sculpture brought to life through movement. Using a range of mixed media materials\, you’ll explore how components interact to create motion\, combining creativity with basic mechanical principles. \nTaking inspiration from a variety of automata examples\, you’ll develop your ideas from concept through to construction\, building confidence in both your creative thinking and practical making skills. \nSuitable for all abilities\, this workshop welcomes complete beginners as well as those with more experience. Robert will offer support and guidance throughout the day\, allowing you to experiment\, problem-solve and progress at your own pace.
URL:https://discover-rutland.co.uk/event/sculpture-workshop-automata/
LOCATION:Burghley House\, Peterborough\, Stamford\, PE93JY\, United Kingdom
CATEGORIES:Workshops & Courses
ATTACH;FMTTYPE=image/jpeg:https://discover-rutland.co.uk/wp-content/uploads/2026/03/automata.jpg
END:VEVENT
END:VCALENDAR