BEGIN:VCALENDAR
VERSION:2.0
PRODID:-//Discover Rutland - ECPv6.15.12.2//NONSGML v1.0//EN
CALSCALE:GREGORIAN
METHOD:PUBLISH
X-ORIGINAL-URL:https://discover-rutland.co.uk
X-WR-CALDESC:Events for Discover Rutland
REFRESH-INTERVAL;VALUE=DURATION:PT1H
X-Robots-Tag:noindex
X-PUBLISHED-TTL:PT1H
BEGIN:VTIMEZONE
TZID:Europe/London
BEGIN:DAYLIGHT
TZOFFSETFROM:+0000
TZOFFSETTO:+0100
TZNAME:BST
DTSTART:20250330T010000
END:DAYLIGHT
BEGIN:STANDARD
TZOFFSETFROM:+0100
TZOFFSETTO:+0000
TZNAME:GMT
DTSTART:20251026T010000
END:STANDARD
BEGIN:DAYLIGHT
TZOFFSETFROM:+0000
TZOFFSETTO:+0100
TZNAME:BST
DTSTART:20260329T010000
END:DAYLIGHT
BEGIN:STANDARD
TZOFFSETFROM:+0100
TZOFFSETTO:+0000
TZNAME:GMT
DTSTART:20261025T010000
END:STANDARD
BEGIN:DAYLIGHT
TZOFFSETFROM:+0000
TZOFFSETTO:+0100
TZNAME:BST
DTSTART:20270328T010000
END:DAYLIGHT
BEGIN:STANDARD
TZOFFSETFROM:+0100
TZOFFSETTO:+0000
TZNAME:GMT
DTSTART:20271031T010000
END:STANDARD
END:VTIMEZONE
BEGIN:VEVENT
DTSTART;TZID=Europe/London:20260317T093000
DTEND;TZID=Europe/London:20260317T150000
DTSTAMP:20260421T132454
CREATED:20251111T100125Z
LAST-MODIFIED:20251120T142202Z
UID:31284-1773739800-1773759600@discover-rutland.co.uk
SUMMARY:Write in Rutland
DESCRIPTION:Monthly writing workshops \n3rd Tuesdays of the month. All abilities welcome. \nInspiring prompts and activities; time to work on your writing (all genres); get creative; improve wellbeing; meet other writers; find your voice; express yourself. \n£25 pp includes hot drinks. Price includes discounts on garden entry and in the tearoom. Free Parking
URL:https://discover-rutland.co.uk/event/write-in-rutland-copy-copy/
LOCATION:Barnsdale Gardens\, Barnsdale Avenue\, Exton\, Rutland\, United Kingdom
CATEGORIES:Experiences & Workshops,Workshops & Courses
ATTACH;FMTTYPE=image/jpeg:https://discover-rutland.co.uk/wp-content/uploads/2025/11/IMG_20251104_191505.jpg
END:VEVENT
BEGIN:VEVENT
DTSTART;TZID=Europe/London:20260321T100000
DTEND;TZID=Europe/London:20260321T163000
DTSTAMP:20260421T132454
CREATED:20260218T130317Z
LAST-MODIFIED:20260218T130317Z
UID:35155-1774087200-1774110600@discover-rutland.co.uk
SUMMARY:Garden Design Workshop with David Stevens
DESCRIPTION:10am-4.30pm\nWhile many of us are more than competent to design and decorate our homes\, the ideas can often dry up as soon as we move outside. Just where is the best place for a patio or path\, the shed\, greenhouse or an arbour and of course the whole question of choosing and using plants taxes many of us. \nDavid Stevens has been designing gardens all over the world for over 40 years with 11 Chelsea Gold medals to his credit. David will take you right the way through the planning process from the initial analysis of what you have got and what you would like\, though the many choices of paving and walling which will lead in turn to the whole question of the actual design which will very much reflect your own personality and needs. \nPlanting and planting design will bring the garden alive and can be tailored to the amount of maintenance you are happy to undertake\, this of course backed up with an in depth tour of Barnsdale Gardens. \nDavid is in great demand as a designer and lecturer in garden design all over the world\, so this day is a treat not to be missed! \nPrice includes tea/coffee\, lunch and entry to the Gardens. \nCombine any Garden Design Workshop with any Planting Design Workshop for a 10% discount off one course\, applied at checkout.
URL:https://discover-rutland.co.uk/event/garden-design-workshop-with-david-stevens-2/
LOCATION:Barnsdale Gardens\, Barnsdale Avenue\, Exton\, Rutland\, United Kingdom
CATEGORIES:Workshops & Courses
ATTACH;FMTTYPE=image/jpeg:https://discover-rutland.co.uk/wp-content/uploads/2026/02/David-Stevens-2.jpg
END:VEVENT
END:VCALENDAR