BEGIN:VCALENDAR
VERSION:2.0
PRODID:-//Discover Rutland - ECPv6.15.12.2//NONSGML v1.0//EN
CALSCALE:GREGORIAN
METHOD:PUBLISH
X-ORIGINAL-URL:https://discover-rutland.co.uk
X-WR-CALDESC:Events for Discover Rutland
REFRESH-INTERVAL;VALUE=DURATION:PT1H
X-Robots-Tag:noindex
X-PUBLISHED-TTL:PT1H
BEGIN:VTIMEZONE
TZID:Europe/London
BEGIN:DAYLIGHT
TZOFFSETFROM:+0000
TZOFFSETTO:+0100
TZNAME:BST
DTSTART:20240331T010000
END:DAYLIGHT
BEGIN:STANDARD
TZOFFSETFROM:+0100
TZOFFSETTO:+0000
TZNAME:GMT
DTSTART:20241027T010000
END:STANDARD
BEGIN:DAYLIGHT
TZOFFSETFROM:+0000
TZOFFSETTO:+0100
TZNAME:BST
DTSTART:20250330T010000
END:DAYLIGHT
BEGIN:STANDARD
TZOFFSETFROM:+0100
TZOFFSETTO:+0000
TZNAME:GMT
DTSTART:20251026T010000
END:STANDARD
BEGIN:DAYLIGHT
TZOFFSETFROM:+0000
TZOFFSETTO:+0100
TZNAME:BST
DTSTART:20260329T010000
END:DAYLIGHT
BEGIN:STANDARD
TZOFFSETFROM:+0100
TZOFFSETTO:+0000
TZNAME:GMT
DTSTART:20261025T010000
END:STANDARD
END:VTIMEZONE
BEGIN:VEVENT
DTSTART;TZID=Europe/London:20251205T180000
DTEND;TZID=Europe/London:20251205T200000
DTSTAMP:20260421T175103
CREATED:20251120T081317Z
LAST-MODIFIED:20251120T081327Z
UID:31592-1764957600-1764964800@discover-rutland.co.uk
SUMMARY:Wreath Making at Belvoir Bistro
DESCRIPTION:Join us for a magical evening of Christmas creativity and festive cheer at Belvoir Bistro as we welcome the incredibly talented Sarah Youngman from Sage and Satin Florals. Learn how to craft your very own beautiful Christmas wreath using seasonal foliage\, natural decorations\, and expert floristry tips in this exclusive Christmas workshop. \nWhether you’re coming with friends\, family\, or flying solo\, it’s the perfect way to kick off the Christmas season in style with this unique Christmas craft experience in Leicestershire.
URL:https://discover-rutland.co.uk/event/wreath-making-at-belvoir-bistro-2/
LOCATION:Belvoir Castle- Engine Yard\, Woolsthorpe Road\,\, Grantham\, Lincolnshire\, NG32 1PA
CATEGORIES:Workshops & Courses
ATTACH;FMTTYPE=image/jpeg:https://discover-rutland.co.uk/wp-content/uploads/2025/11/IMG_5594.jpg
END:VEVENT
BEGIN:VEVENT
DTSTART;VALUE=DATE:20251207
DTEND;VALUE=DATE:20251208
DTSTAMP:20260421T175103
CREATED:20250929T161419Z
LAST-MODIFIED:20251121T081157Z
UID:29237-1765065600-1765151999@discover-rutland.co.uk
SUMMARY:Festive Cocktail Making Workshop
DESCRIPTION:Festive Cocktail Making Workshop – Ovation Wine & Spirit Bar\nThis holiday season\, join Ovation for their festive cocktail-making workshop and celebrate in style. Learn to mix and shake like a pro\, then enjoy the delicious cocktails you’ve just created.
URL:https://discover-rutland.co.uk/event/festive-cocktail-making-workshop/
LOCATION:Ovation Wine & Spirit Bar\, Gaol Street\, Oakham\, Rutland\, United Kingdom
CATEGORIES:Experiences & Workshops,Food & Drink,Seasonal,Workshops & Courses
ATTACH;FMTTYPE=image/jpeg:https://discover-rutland.co.uk/wp-content/uploads/2025/08/Festive-Cocktail-Making-Workshop-Ovation-Wine-Spirit-Bar.jpg
END:VEVENT
BEGIN:VEVENT
DTSTART;TZID=Europe/London:20251211T100000
DTEND;TZID=Europe/London:20251211T140000
DTSTAMP:20260421T175103
CREATED:20251111T104015Z
LAST-MODIFIED:20251121T081026Z
UID:31304-1765447200-1765461600@discover-rutland.co.uk
SUMMARY:Festive Cookery Demonstration with Lunch
DESCRIPTION:Spend a festive morning with head chef Dean. Learn back-to-basics methods\, seasonal sourcing and time-saving tips during an interactive two-hour demo. Afterwards enjoy a three-course lunch based on the dishes you’ve seen\, and take home recipe sheets. \n\n\nAt a glance• Coffee: 10:00am• Demonstration: 10:30am• Lunch: 12:30pm \n\n\nMenuVenison tartare\, English cep\, dark chocolate\, smoked oak—Roasted Gressingham duck breast\, honey butter pumpkin\, hen of the woods—Olive Branch tiramisu\, coffee ice cream \n\n\nBooking essential: 01780 410355 \n\n\nTimings: 10:00am–2:00pm (coffee from 10:00am; end time approximately 2:00pm) \n\nTicket price: £80 per person
URL:https://discover-rutland.co.uk/event/festive-cookery-demonstration-with-lunch-2/
LOCATION:The Olive Branch Country Inn\, Rutland Main St Clipsham Oakham\, St Clipsham\, Oakham\, LE15 7SH\, United Kingdom
CATEGORIES:Experiences & Workshops,Food & Drink,Workshops & Courses
ATTACH;FMTTYPE=image/jpeg:https://discover-rutland.co.uk/wp-content/uploads/2025/11/unnamed-2.jpg
END:VEVENT
BEGIN:VEVENT
DTSTART;TZID=Europe/London:20251213T100000
DTEND;TZID=Europe/London:20251213T123000
DTSTAMP:20260421T175103
CREATED:20251202T102251Z
LAST-MODIFIED:20251202T102251Z
UID:32085-1765620000-1765629000@discover-rutland.co.uk
SUMMARY:Willow Weaving Workshop: Christmas Decorations. 13th December\, 2025
DESCRIPTION:10am-12.30pm\nA fun\, hands-on session\, weaving natural festive decorations. Starting with a brief overview of the lifecycle of willow during which you make a wreath ring (great for creating your own natural wreath at home). This is followed by making an angel and then a mini-reindeer.  Depending on the time left\, you could then make a Christmas tree or a take the challenge of “One piece of Willow\, One Minute – One Star!”
URL:https://discover-rutland.co.uk/event/willow-weaving-workshop-christmas-decorations-13th-december-2025/
LOCATION:Barnsdale Gardens\, Barnsdale Avenue\, Exton\, Rutland\, United Kingdom
CATEGORIES:Workshops & Courses
ATTACH;FMTTYPE=image/jpeg:https://discover-rutland.co.uk/wp-content/uploads/2025/12/christmas-willow-04.jpg
END:VEVENT
BEGIN:VEVENT
DTSTART;TZID=Europe/London:20251221T100000
DTEND;TZID=Europe/London:20251221T120000
DTSTAMP:20260421T175103
CREATED:20251024T104726Z
LAST-MODIFIED:20251121T074525Z
UID:30528-1766311200-1766318400@discover-rutland.co.uk
SUMMARY:Robin Nest Box Building
DESCRIPTION:SongBird Survival’s National Robin Day is coming on 21st December \nNational Robin Day is to raise awareness of the challenges that birds\, such as robins and other wildlife\, face during the cold winter season. As temperatures fall and natural food becomes scarce. it can be very hard for songbirds to survive day-to-day. \nCreate a home for the Robin’s in your garden at our woodland workshop!  \nWork together and create your very own nest box! \nSession will last approximately 2 hours​ \nTake your box home with you!​ \n  \nAdditional Information \nMaterials provided flat packed and ready to assemble in our classroom.\nSuitable for ages 6+ (all under 18’s must be supervised by an adult)
URL:https://discover-rutland.co.uk/event/robin-nest-box-building/
LOCATION:The Anglian Water Bird Watching Centre\, Oakham\, Rutland\, LE15 8BT\, United Kingdom
CATEGORIES:Experiences & Workshops,Family Friendly,Workshops & Courses
ATTACH;FMTTYPE=image/jpeg:https://discover-rutland.co.uk/wp-content/uploads/2025/10/pexels-guvo59-30525572.jpg
END:VEVENT
END:VCALENDAR