BEGIN:VCALENDAR
VERSION:2.0
PRODID:-//Discover Rutland - ECPv6.15.12.2//NONSGML v1.0//EN
CALSCALE:GREGORIAN
METHOD:PUBLISH
X-ORIGINAL-URL:https://discover-rutland.co.uk
X-WR-CALDESC:Events for Discover Rutland
REFRESH-INTERVAL;VALUE=DURATION:PT1H
X-Robots-Tag:noindex
X-PUBLISHED-TTL:PT1H
BEGIN:VTIMEZONE
TZID:Europe/London
BEGIN:DAYLIGHT
TZOFFSETFROM:+0000
TZOFFSETTO:+0100
TZNAME:BST
DTSTART:20250330T010000
END:DAYLIGHT
BEGIN:STANDARD
TZOFFSETFROM:+0100
TZOFFSETTO:+0000
TZNAME:GMT
DTSTART:20251026T010000
END:STANDARD
BEGIN:DAYLIGHT
TZOFFSETFROM:+0000
TZOFFSETTO:+0100
TZNAME:BST
DTSTART:20260329T010000
END:DAYLIGHT
BEGIN:STANDARD
TZOFFSETFROM:+0100
TZOFFSETTO:+0000
TZNAME:GMT
DTSTART:20261025T010000
END:STANDARD
BEGIN:DAYLIGHT
TZOFFSETFROM:+0000
TZOFFSETTO:+0100
TZNAME:BST
DTSTART:20270328T010000
END:DAYLIGHT
BEGIN:STANDARD
TZOFFSETFROM:+0100
TZOFFSETTO:+0000
TZNAME:GMT
DTSTART:20271031T010000
END:STANDARD
END:VTIMEZONE
BEGIN:VEVENT
DTSTART;VALUE=DATE:20260802
DTEND;VALUE=DATE:20260803
DTSTAMP:20260421T192923
CREATED:20251124T093230Z
LAST-MODIFIED:20251124T093609Z
UID:31803-1785628800-1785715199@discover-rutland.co.uk
SUMMARY:SwimRutland 2026
DESCRIPTION:SwimRutland 2026 \n500m\, 2km\, 4km & 8km Open water swims across the width of Rutland Water. Join hundreds of swimmers taking on the epic challenge on an incredible open water swim course. \nBefore race day you’ll receive: \n\nSupport with your swimming journey\nA comprehensive race guide via email 2 weeks before race day\nFREE swimmer to swimmer transfers – should you no longer be able to take part (within the terms and conditions)\n\n  \nON RACE DAY \n\nFull event support from arriving at Rutland to departing a proud finisher.\nBespoke event medal for all finishers.\nQuality silicone event swim hat to keep and re use.\nA fantastic atmosphere with our amazing community and supporters.\nPrizes awarded for the top 3 men and women.\nAccess to our athlete Help Desk for any last minute queries or issues.\nA full briefing and athlete support on race morning.\nA safe swimming environment delivered by an experienced professional team.\nHydration on the lap turns and at the finish.\nComprehensive medical support throughout the course should you need assistance (these guys are the best).\nComprehensive results table available as you finish your race.\nFree event photos to download soon after you finish.\nFree event parking.\nKit bag for 2km swimmers.\nFree bag drop facilities.\n2km boat trip to the start line and bag transport to the finish line.\n\nEntry Prices: \n500m: £25 \n2km: £42 \n4km: £42 \n8km: £64 \nBeyond your event\, if you want to stay longer and discover our amazing county see our Spectators Guide.
URL:https://discover-rutland.co.uk/event/swimrutland-2026/
LOCATION:Rutland Water\, Sykes Lane\, Oakham\, Rutland\, United Kingdom
CATEGORIES:Sporting
ATTACH;FMTTYPE=image/avif:https://discover-rutland.co.uk/wp-content/uploads/2025/11/swimrutland-25.avif
END:VEVENT
END:VCALENDAR