BEGIN:VCALENDAR
VERSION:2.0
PRODID:-//Discover Rutland - ECPv6.15.12.2//NONSGML v1.0//EN
CALSCALE:GREGORIAN
METHOD:PUBLISH
X-ORIGINAL-URL:https://discover-rutland.co.uk
X-WR-CALDESC:Events for Discover Rutland
REFRESH-INTERVAL;VALUE=DURATION:PT1H
X-Robots-Tag:noindex
X-PUBLISHED-TTL:PT1H
BEGIN:VTIMEZONE
TZID:Europe/London
BEGIN:DAYLIGHT
TZOFFSETFROM:+0000
TZOFFSETTO:+0100
TZNAME:BST
DTSTART:20250330T010000
END:DAYLIGHT
BEGIN:STANDARD
TZOFFSETFROM:+0100
TZOFFSETTO:+0000
TZNAME:GMT
DTSTART:20251026T010000
END:STANDARD
BEGIN:DAYLIGHT
TZOFFSETFROM:+0000
TZOFFSETTO:+0100
TZNAME:BST
DTSTART:20260329T010000
END:DAYLIGHT
BEGIN:STANDARD
TZOFFSETFROM:+0100
TZOFFSETTO:+0000
TZNAME:GMT
DTSTART:20261025T010000
END:STANDARD
BEGIN:DAYLIGHT
TZOFFSETFROM:+0000
TZOFFSETTO:+0100
TZNAME:BST
DTSTART:20270328T010000
END:DAYLIGHT
BEGIN:STANDARD
TZOFFSETFROM:+0100
TZOFFSETTO:+0000
TZNAME:GMT
DTSTART:20271031T010000
END:STANDARD
END:VTIMEZONE
BEGIN:VEVENT
DTSTART;VALUE=DATE:20261125
DTEND;VALUE=DATE:20261126
DTSTAMP:20260421T175313
CREATED:20250929T144644Z
LAST-MODIFIED:20260310T140020Z
UID:29213-1795564800-1795651199@discover-rutland.co.uk
SUMMARY:The Uppingham Fatstock Show
DESCRIPTION:This time-honoured agricultural showcase proudly staged each year by a dedicated committee from the local farming community. It’s a wonderful opportunity to experience the traditions of rural life up close – a true celebration of livestock\, land\, and local pride. \nAfter a lapse of 10 years during the Second World War and rationing the Uppingham Fatstock Show was revived by a committee of local farmers in 1949. The show was held on December 15th when 17 cattle were shown\, 13 pens of sheep and 11 pigs. After that revival the show has been kept alive and prospered due to the efforts of the local community. \nIn 2017 the Committee has revised the native breed cattle class\, making it open to cattle sired by a pure bred bull currently on the Rare Breed Survival List of Native Breeds. This compliments the class in the pig section which has been in force for several years. \nList of Elgible Sires:\nAberdeen Angus\, Ayshire\, Beef Shorthorn\, Belted Galloway\, Britich White\, Devon\, Dexter\, Galloway\, Gloucester\, Guernsey\, Hereford\, Highland\, Irish Moiled\, Jersey\, Lincoln Red\, Longhorn\, Luing\, Northern Dairy Shorthorn\, Red Poll\, Shetland\, Shorthorn\, South Devon\, Sussex\, Welsh Black\, White Park\, Whitebread Shorthorn\, Vaynol. \nList of Eligible Pigs:\nBritish Lop\, Large Black\, Middle White\, Berkshire\, Tamworth\, Welsh\, British Saddleback\, Gloucester Old Spot\, Oxford Sandy & Black\, Large White.
URL:https://discover-rutland.co.uk/event/the-uppingham-fatstock-show/
LOCATION:Uppingham\, Uppingham
CATEGORIES:Festivals & Fairs,Fete / Fair / Festival,Outdoors,Seasonal
ATTACH;FMTTYPE=image/jpeg:https://discover-rutland.co.uk/wp-content/uploads/2025/08/The-Uppingham-Fatstock-Show.jpg
END:VEVENT
END:VCALENDAR