BEGIN:VCALENDAR
VERSION:2.0
PRODID:-//Discover Rutland - ECPv6.15.12.2//NONSGML v1.0//EN
CALSCALE:GREGORIAN
METHOD:PUBLISH
X-WR-CALNAME:Discover Rutland
X-ORIGINAL-URL:https://discover-rutland.co.uk
X-WR-CALDESC:Events for Discover Rutland
REFRESH-INTERVAL;VALUE=DURATION:PT1H
X-Robots-Tag:noindex
X-PUBLISHED-TTL:PT1H
BEGIN:VTIMEZONE
TZID:Europe/London
BEGIN:DAYLIGHT
TZOFFSETFROM:+0000
TZOFFSETTO:+0100
TZNAME:BST
DTSTART:20250330T010000
END:DAYLIGHT
BEGIN:STANDARD
TZOFFSETFROM:+0100
TZOFFSETTO:+0000
TZNAME:GMT
DTSTART:20251026T010000
END:STANDARD
BEGIN:DAYLIGHT
TZOFFSETFROM:+0000
TZOFFSETTO:+0100
TZNAME:BST
DTSTART:20260329T010000
END:DAYLIGHT
BEGIN:STANDARD
TZOFFSETFROM:+0100
TZOFFSETTO:+0000
TZNAME:GMT
DTSTART:20261025T010000
END:STANDARD
BEGIN:DAYLIGHT
TZOFFSETFROM:+0000
TZOFFSETTO:+0100
TZNAME:BST
DTSTART:20270328T010000
END:DAYLIGHT
BEGIN:STANDARD
TZOFFSETFROM:+0100
TZOFFSETTO:+0000
TZNAME:GMT
DTSTART:20271031T010000
END:STANDARD
BEGIN:DAYLIGHT
TZOFFSETFROM:+0000
TZOFFSETTO:+0100
TZNAME:BST
DTSTART:20280326T010000
END:DAYLIGHT
BEGIN:STANDARD
TZOFFSETFROM:+0100
TZOFFSETTO:+0000
TZNAME:GMT
DTSTART:20281029T010000
END:STANDARD
END:VTIMEZONE
BEGIN:VEVENT
DTSTART;VALUE=DATE:20260903
DTEND;VALUE=DATE:20260907
DTSTAMP:20260421T211903
CREATED:20260225T100936Z
LAST-MODIFIED:20260225T100936Z
UID:35412-1788393600-1788739199@discover-rutland.co.uk
SUMMARY:Burghley Horse Trials
DESCRIPTION:Defender Burghley attracts fantastic crowds to witness exhilarating equestrian action alongside browsing the world renowned shopping avenues in this truly stunning location at Burghley House. \nThree Day Eventing is a comprehensive test of the all round ability of the horse and rider\, comprising Dressage\, Cross Country and Jumping. \nWith over 173\,000 visitors over the four days\, more than 600 carefully selected exhibitors\, an average of 80 of the world’s top competitors and a prize fund of over £300\,000\, 21st century Burghley Horse Trials is a far cry from the inaugural event\, which took place over 60 years ago with just 19 competitors and in front of a mere 12\,000 people.
URL:https://discover-rutland.co.uk/event/burghley-horse-trials/
LOCATION:Burghley House\, Peterborough\, Stamford\, PE93JY\, United Kingdom
CATEGORIES:Outdoors,Sporting
ATTACH;FMTTYPE=image/jpeg:https://discover-rutland.co.uk/wp-content/uploads/2025/01/Burghley-Burghley-Horse-Trials-CREDIT_-Burghley-DR-1.jpg
END:VEVENT
BEGIN:VEVENT
DTSTART;VALUE=DATE:20260905
DTEND;VALUE=DATE:20270107
DTSTAMP:20260421T211903
CREATED:20251212T090606Z
LAST-MODIFIED:20260114T115005Z
UID:32513-1788566400-1799279999@discover-rutland.co.uk
SUMMARY:Rutland Water Night Swim
DESCRIPTION:In September 2026 we are giving you the chance to experience the thrill of swimming in open water underneath the stars. This unique experience will enliven your senses and create an atmosphere you will struggle to replicate. \nOur team will be on hand to ensure your safety whilst giving you the freedom to explore this environment at night. \n​ \n This is not a competitive event. We encourage people to soak in the atmosphere and enjoy their time in the lake. \nWe are very relaxed about how long you would like to stay on the course. \nWe encourage all ages and abilities to take part\, You must be 10 yrs old and able to swim the distance unassisted. We don’t mind how\, Breaststroke is not only an option\, its often preferable to soak in the atmosphere.  \n We swim into the Night! \n  \nDistances: You choose your distance in the time allocated\, there are two looped courses. The main loop is approximately 600m and a short loop is 250m. You may complete as many laps as possible within the time limit.  \n​ \nStart time: 8:15pm \nCut Off Time: 9:45pm  \nEntry Fee: £35.00 \n​ \nRace Registration: Whitwell\, Rutland Water \nStart Line: Whitwell\, Harbour Cafe \nEntry Limit: 300 \nMust be 10yrs + on the night of the swim \nOrganisers: SwimRutland \nCar Parking: Whitwell site parking included in entry \nBeyond your event\, if you want to stay longer and discover our amazing county see our Spectators Guide.
URL:https://discover-rutland.co.uk/event/rutland-water-night-swim/
LOCATION:Rutland
CATEGORIES:Outdoors,Sporting
ATTACH;FMTTYPE=image/jpeg:https://discover-rutland.co.uk/wp-content/uploads/2025/12/Screenshot-2025-12-12-090149.jpg
END:VEVENT
BEGIN:VEVENT
DTSTART;TZID=Europe/London:20260906T120000
DTEND;TZID=Europe/London:20260906T160000
DTSTAMP:20260421T211903
CREATED:20260119T153845Z
LAST-MODIFIED:20260421T123701Z
UID:33988-1788696000-1788710400@discover-rutland.co.uk
SUMMARY:Barnsdale Gardens - Dahlia Day
DESCRIPTION:Dahlia Day: 6th September\, 12pm – 4pm\n\n\nKaren Gimson will be hosting talk/walks throughout the day on everything Dahlia’s: from growing; storage; cuttings; varieties and flower arrangements. \nKaren Gimson has been a garden designer and travelling head gardener for large gardens for 25 years and writes a weekly column for Garden News Magazine. She also appears on the BBC Radio Leicester gardening show.  She is an ambassador for Rainbows Hospice for children and young people in Loughborough and is a member of the county team for Leicestershire NGS.   She lives in Leicestershire and gardens a one-acre plot\, focussing on attracting wildlife and growing as much fruit\, vegetables and cut flowers as she can.
URL:https://discover-rutland.co.uk/event/barnsdale-gardens-dahlia-day/
LOCATION:Barnsdale Gardens\, Barnsdale Avenue\, Exton\, Rutland\, United Kingdom
CATEGORIES:Outdoors
ATTACH;FMTTYPE=image/jpeg:https://discover-rutland.co.uk/wp-content/uploads/2026/01/Karen-Gimson-1.jpg
END:VEVENT
BEGIN:VEVENT
DTSTART;TZID=Europe/London:20260925T113000
DTEND;TZID=Europe/London:20260925T115000
DTSTAMP:20260421T211903
CREATED:20260119T153922Z
LAST-MODIFIED:20260421T123637Z
UID:33994-1790335800-1790337000@discover-rutland.co.uk
SUMMARY:Barnsdale Gardens - Nursery Walk & Talk\, 'Plants for an Autumn Lift'
DESCRIPTION:Nursery Walk & Talk\, ‘Plants for an Autumn Lift’: 25th September\, 11:30am – 11:50am\nJoin Emma for a free 20-minute walk and talk discovering plants that add colour\, texture and interest to the autumn garden. Exclusive plant discounts will be available to attendees on the day. \n  \nFree. No need to book\, just turn up.
URL:https://discover-rutland.co.uk/event/barnsdale-gardens-nursery-walk-talk-plants-for-an-autumn-lift/
LOCATION:Barnsdale Gardens\, Barnsdale Avenue\, Exton\, Rutland\, United Kingdom
CATEGORIES:Outdoors
ATTACH;FMTTYPE=image/jpeg:https://discover-rutland.co.uk/wp-content/uploads/2026/01/Emma_Jarvis_20230426_0844.jpg
END:VEVENT
BEGIN:VEVENT
DTSTART;TZID=Europe/London:20260926T110000
DTEND;TZID=Europe/London:20260927T160000
DTSTAMP:20260421T211903
CREATED:20260204T074449Z
LAST-MODIFIED:20260204T074449Z
UID:34698-1790420400-1790524800@discover-rutland.co.uk
SUMMARY:Autumn Artisan Fair
DESCRIPTION:This Autumn\, Rockingham Castle will once again host our popular Artisan Fair\, bringing together a vibrant mix of local food\, drink\, and craft producers for a truly memorable experience. \nAs you wander through the Castle grounds\, enjoy breathtaking views of the Welland Valley and the beauty of the surrounding formal gardens. The Autumn Artisan Fair offers a fantastic opportunity to explore a variety of high-quality\, handcrafted goods\, from delicious artisan food and refreshing drinks to exquisite handmade crafts\, all presented by talented local artisans. \nWhether you’re looking for unique gifts\, freshly baked treats\, or something special to enjoy at home\, you’ll find a wide range of products to suit all tastes. With each exhibitor offering something distinctive\, the fair is the perfect way to discover the very best of local craftsmanship and produce. All traders are based in their own units throughout the Castle gardens. \nDon’t miss this chance to support local businesses while enjoying the beauty of Rockingham Castle—an experience that’s as unique as the products on offer. \nDogs are welcome at this event! We ask that you keep your dog on a lead at all times and clean up after them – there are bins provided throughout the gardens. With the exception of assistance dogs\, we do not allow dogs into the Castle itself.
URL:https://discover-rutland.co.uk/event/autumn-artisan-fair/
LOCATION:Rockingham Castle\, Rockingham Castle Estate\, Market Harborough\, LE16 8TH\, United Kingdom
CATEGORIES:Food & Drink,Outdoors,Seasonal
ATTACH;FMTTYPE=image/jpeg:https://discover-rutland.co.uk/wp-content/uploads/2026/02/9f7e9312-c1e5-4a69-b77c-463b27b5b31a.jpg
END:VEVENT
END:VCALENDAR