BEGIN:VCALENDAR
VERSION:2.0
PRODID:-//Discover Rutland - ECPv6.15.12.2//NONSGML v1.0//EN
CALSCALE:GREGORIAN
METHOD:PUBLISH
X-ORIGINAL-URL:https://discover-rutland.co.uk
X-WR-CALDESC:Events for Discover Rutland
REFRESH-INTERVAL;VALUE=DURATION:PT1H
X-Robots-Tag:noindex
X-PUBLISHED-TTL:PT1H
BEGIN:VTIMEZONE
TZID:Europe/London
BEGIN:DAYLIGHT
TZOFFSETFROM:+0000
TZOFFSETTO:+0100
TZNAME:BST
DTSTART:20240331T010000
END:DAYLIGHT
BEGIN:STANDARD
TZOFFSETFROM:+0100
TZOFFSETTO:+0000
TZNAME:GMT
DTSTART:20241027T010000
END:STANDARD
BEGIN:DAYLIGHT
TZOFFSETFROM:+0000
TZOFFSETTO:+0100
TZNAME:BST
DTSTART:20250330T010000
END:DAYLIGHT
BEGIN:STANDARD
TZOFFSETFROM:+0100
TZOFFSETTO:+0000
TZNAME:GMT
DTSTART:20251026T010000
END:STANDARD
BEGIN:DAYLIGHT
TZOFFSETFROM:+0000
TZOFFSETTO:+0100
TZNAME:BST
DTSTART:20260329T010000
END:DAYLIGHT
BEGIN:STANDARD
TZOFFSETFROM:+0100
TZOFFSETTO:+0000
TZNAME:GMT
DTSTART:20261025T010000
END:STANDARD
END:VTIMEZONE
BEGIN:VEVENT
DTSTART;TZID=Europe/London:20251121T161500
DTEND;TZID=Europe/London:20251231T200000
DTSTAMP:20260424T101756
CREATED:20251001T084941Z
LAST-MODIFIED:20251121T082800Z
UID:29203-1763741700-1767211200@discover-rutland.co.uk
SUMMARY:Christmas Lights at Belton
DESCRIPTION:Experience the Festive Magic: Belton Estate Reveals Enchanting New Christmas Light Trail for 2025! \nCreated by award-winning\, internationally acclaimed light trail producers and firmly positioned within the UK’s seasonal calendar\, Christmas at Belton has everything you need for an unforgettable time with friends and family\, including a fairground\, and\, of course\, magical glimpses of Father Christmas along the way. \nAmong the new installation highlights for 2025 is ‘On the Tide’ by Squidsoup\, a water-based floating floral lightwork created from points of light floating in strands\, positioned by the natural movement of the water. \nOther features which visitors can enjoy this year include an immersive area filled with lasers\, a fire garden and a festive themed animated story projected onto Belton House’s facade. \nGuests can look forward to the iconic tunnel of lights\, larger-than-life installations\, and the ever-popular appearances by Father Christmas. The trail is designed to engage all the senses\, with seasonal music accompanying the stunning visual displays. \nGrab a seasonal snack from one of the hand-picked street food vendors who bring an indulgent twist to tempting treats on offer. Complete your walk under the stars with a festive *spiced winter warmer\, *hot chocolate or *toasted marshmallow and share it with someone special. \nAdult Ticket: £18 to £25 \nChild Ticket: £12.50 to £18.50 \nYour very merriest Christmas starts here. Limited capacity with timed entry. Plan now to secure the date and time of your choice. \n*Separate charges apply. \n 
URL:https://discover-rutland.co.uk/event/christmas-lights-at-belton/
LOCATION:Belton House\, High Road\, Belton\, Grantham\, Rutland\, NG32 2LW\, United Kingdom
CATEGORIES:Festivals & Fairs,Fete / Fair / Festival,Seasonal
ATTACH;FMTTYPE=image/jpeg:https://discover-rutland.co.uk/wp-content/uploads/2025/07/Events-LogosImages-for-DR-Listings-10.jpg
END:VEVENT
BEGIN:VEVENT
DTSTART;TZID=Europe/London:20251207T110000
DTEND;TZID=Europe/London:20251207T160000
DTSTAMP:20260424T101756
CREATED:20251006T092604Z
LAST-MODIFIED:20251121T081116Z
UID:29594-1765105200-1765123200@discover-rutland.co.uk
SUMMARY:Oakham Christmas Fair
DESCRIPTION:Outdoor stalls in the Market Place\, in the Castle Grounds and along Mill Street and the High Street\n\nIndoor stalls inside Oakham Castle\n\nSanta’s Grotto\n\nFun Fair\n\nLive Music\n\nFREE entry\n\nDogs very welcome
URL:https://discover-rutland.co.uk/event/oakham-christmas-fair-2/
LOCATION:Oakham Castle\, Castle Grounds Market Place\, Oakham\, LE15 6DR\, United Kingdom
CATEGORIES:Family Friendly,Festivals & Fairs,Fete / Fair / Festival,Seasonal
ATTACH;FMTTYPE=image/jpeg:https://discover-rutland.co.uk/wp-content/uploads/2025/10/Green-and-White-Minimalist-Christmas-Fair-Poster-2-1-scaled-1.jpg
ORGANIZER;CN="Carolyn Acton Events":MAILTO:info@carolynactonevents.co.uk
END:VEVENT
BEGIN:VEVENT
DTSTART;TZID=Europe/London:20251213T193000
DTEND;TZID=Europe/London:20251213T220000
DTSTAMP:20260424T101756
CREATED:20251020T062916Z
LAST-MODIFIED:20251114T130927Z
UID:30236-1765654200-1765663200@discover-rutland.co.uk
SUMMARY:The Colours Of Christmas
DESCRIPTION:  \nSaturday 13 December 2025\, 7.30pm \n  \nTHE COLOURS OF CHRISTMAS \n  \nUppingham School Chapel \n  \nAfter the success of their first Christmas concert in 2024\, the ladies of Rutland Voices will once again entertain you with a seasonal selection of traditional carols and pop & jazz Christmas favourites. They are joined by baritone soloist Andrew Ashwin\, pianist Anne Bolt and an instrumental trio\, under the direction of conductor Peter Davis. With interval refreshments and a chance to sing along with audience carols\, this promises to be an unmissable evening of uplifting festive music. Retiring collection for the Brain Tumour Research charity. \n  \nTickets £15.00 \nPlease use this link only  https://bit.ly/3IAkG0N or the QR code from the attached flyer.
URL:https://discover-rutland.co.uk/event/the-colours-of-christmas/
LOCATION:Uppingham School Chapel\, Rutland Voices\, Uppingham\, Rutland\, LE15 9QE\, United Kingdom
CATEGORIES:Fete / Fair / Festival
ATTACH;FMTTYPE=image/jpeg:https://discover-rutland.co.uk/wp-content/uploads/2025/10/PHOTO-2025-10-17-17-39-27.jpg
END:VEVENT
BEGIN:VEVENT
DTSTART;TZID=Europe/London:20251225T120000
DTEND;TZID=Europe/London:20251225T150000
DTSTAMP:20260424T101756
CREATED:20251016T124106Z
LAST-MODIFIED:20251209T084251Z
UID:30182-1766664000-1766674800@discover-rutland.co.uk
SUMMARY:Christmas Day Carvery at Rutland Hall
DESCRIPTION:Looking for a relaxed\, family-friendly way to celebrate Christmas Day?\nJoin us in the elegant Lakeview Suite for a festive carvery lunch — centrepieces carved to order\, all the classic trimmings\, and the cosy charm that makes Christmas effortless. \nGather your loved ones\, savour the moment\, and let us take care of the rest. \nDate: Thursday 25th December 2025\nServed: 12pm – 3pm\nPrice: £85 Adults | £42.50 Under 12s (Children under 3 dine FREE)\nVenue: Lakeview Suite at Rutland Hall Hotel & Spa \nTo book\, contact our Events Team:\nT: 01572 494 593  |  E: events@rutlandhall.co.uk \n*** THIS EVENT IS FULLY BOOKED ***
URL:https://discover-rutland.co.uk/event/christmas-day-carvery-at-rutland-hall/
LOCATION:Rutland Hall Hotel\, Oakham\, Rutland\, LE15 8AB\, United Kingdom
CATEGORIES:Family Friendly,Fete / Fair / Festival,Food & Drink
ATTACH;FMTTYPE=image/jpeg:https://discover-rutland.co.uk/wp-content/uploads/2025/10/5.jpg
END:VEVENT
END:VCALENDAR