BEGIN:VCALENDAR
VERSION:2.0
PRODID:-//Discover Rutland - ECPv6.15.12.2//NONSGML v1.0//EN
CALSCALE:GREGORIAN
METHOD:PUBLISH
X-ORIGINAL-URL:https://discover-rutland.co.uk
X-WR-CALDESC:Events for Discover Rutland
REFRESH-INTERVAL;VALUE=DURATION:PT1H
X-Robots-Tag:noindex
X-PUBLISHED-TTL:PT1H
BEGIN:VTIMEZONE
TZID:Europe/London
BEGIN:DAYLIGHT
TZOFFSETFROM:+0000
TZOFFSETTO:+0100
TZNAME:BST
DTSTART:20250330T010000
END:DAYLIGHT
BEGIN:STANDARD
TZOFFSETFROM:+0100
TZOFFSETTO:+0000
TZNAME:GMT
DTSTART:20251026T010000
END:STANDARD
BEGIN:DAYLIGHT
TZOFFSETFROM:+0000
TZOFFSETTO:+0100
TZNAME:BST
DTSTART:20260329T010000
END:DAYLIGHT
BEGIN:STANDARD
TZOFFSETFROM:+0100
TZOFFSETTO:+0000
TZNAME:GMT
DTSTART:20261025T010000
END:STANDARD
BEGIN:DAYLIGHT
TZOFFSETFROM:+0000
TZOFFSETTO:+0100
TZNAME:BST
DTSTART:20270328T010000
END:DAYLIGHT
BEGIN:STANDARD
TZOFFSETFROM:+0100
TZOFFSETTO:+0000
TZNAME:GMT
DTSTART:20271031T010000
END:STANDARD
END:VTIMEZONE
BEGIN:VEVENT
DTSTART;VALUE=DATE:20260605
DTEND;VALUE=DATE:20260608
DTSTAMP:20260421T151249
CREATED:20260224T141241Z
LAST-MODIFIED:20260224T141259Z
UID:35354-1780617600-1780876799@discover-rutland.co.uk
SUMMARY:The BADA Art & Antiques Fair Rutland
DESCRIPTION:The British Antique Dealers’ Association (BADA) is delighted to announce the launch of the first ever major BADA art and antiques fair outside London\, since its foundation in 1918. The BADA Art & Antiques Fair Rutland\, will take place at the Pavilion\, Rutland Hall Hotel from Friday 5 to Sunday 7 June 2026. \nThe fair will feature 40 BADA members exhibiting a wide selection of fine art\, antiques and design. Among the specialist disciplines represented will be jewellery\, fine furniture\, drawings\, paintings and watercolours\, sculpture\, clocks and watches\, glass\, rare books and silver. Each object will be individually vetted for quality and authenticity by BADA’s leading experts\, meaning visitors can buy with complete assurance. \nAmong the exhibitors confirmed for the inaugural event are international specialists in European sculpture and Old Masters\, Tomasso\, 18th and early 19th century furniture dealers Freshfords Fine Antiques\, renowned Impressionist and Post-Impressionist art dealers Gladwell & Patterson\, 19th and 20th century furniture dealer Holly Johnson Antiques\, French clock specialist Richard Price of BBC Antiques Roadshow fame and Abbott and Holder\, dealers in watercolours\, drawings\, prints and oils from 1750 to 2000. \nFriday      5 June 2026 – 11.00 – 20.00\nSaturday  6 June 2026 – 11.00 – 18.00\nSunday    7 June 2026 – 11.00 – 17.00 \nFor further information or if you have any questions about the Fair\, please email enquiries@badafair.com or telephone +44 (0)1797 252030
URL:https://discover-rutland.co.uk/event/the-bada-art-antiques-fair-rutland/
LOCATION:Rutland Hall Hotel\, Oakham\, Rutland\, LE15 8AB\, United Kingdom
CATEGORIES:Festivals & Fairs
ATTACH;FMTTYPE=image/jpeg:https://discover-rutland.co.uk/wp-content/uploads/2026/02/The-BADA-Art-Antiques-Fair-Rutland_0.jpg
END:VEVENT
BEGIN:VEVENT
DTSTART;VALUE=DATE:20260614
DTEND;VALUE=DATE:20260615
DTSTAMP:20260421T151249
CREATED:20260226T105729Z
LAST-MODIFIED:20260226T105950Z
UID:35574-1781395200-1781481599@discover-rutland.co.uk
SUMMARY:Uppingham Feast Day
DESCRIPTION:A vibrant celebration that transforms the historic Market Place into Rutland’s ultimate summer party on Sunday 14th June.\n\nThis free\, volunteer-led community event attracts hundreds of visitors for a family-fun day packed with entertainment and local flavour.\n\nLive Music & Entertainment: Enjoy a continuous programme from mid-day until late evening\, featuring everything from jazz and folk to soul\, pop\, and rock across multiple stages.\nA “Feast” for All: The High Street will be lined with an array of food stalls\, offering a wide variety of local and international treats.\nFamily Fun: Children can enjoy varied activities and entertainment throughout the day.\nCrafts & Gifts: Browse unique handmade goods and gifts at the craft fair hosted in the Town Hall.\n\nExperience the best of Uppingham’s community spirit at this “super Sunday” event.
URL:https://discover-rutland.co.uk/event/uppingham-feast-day/
LOCATION:Uppingham\, Uppingham
CATEGORIES:Arts & Performances,Family Friendly,Festivals & Fairs,Food & Drink,Outdoors
ATTACH;FMTTYPE=image/jpeg:https://discover-rutland.co.uk/wp-content/uploads/2022/06/uppingham-feast-day.jpg
END:VEVENT
BEGIN:VEVENT
DTSTART;VALUE=DATE:20260620
DTEND;VALUE=DATE:20260622
DTSTAMP:20260421T151249
CREATED:20260225T131537Z
LAST-MODIFIED:20260225T131537Z
UID:35464-1781913600-1782086399@discover-rutland.co.uk
SUMMARY:Living History Display
DESCRIPTION:Living History Display\n\n\n\nStep into the 17th century\n\n\n\n\n\nExperience the sights\, sounds\, and skills of the English Civil War as Colonel John Pickering’s Regiment of Foote brings history to life at Burghley. This immersive Living History event showcases the crafts\, trades\, and daily life of the mid-1640s\, offering a fascinating journey into the past. \nMeet the soldiers who fought on the side of Parliament as well as their Royalist adversaries\, and discover how they lived while on the march. Learn about the role of soldiers\, the equipment they used\, and how a regiment was structured. There will also be displays of arms\, offering detailed explanations of the weaponry of the time and its role in 17th century life. \nExplore 17th century encampments where re-enactors demonstrate traditional crafts such as wood carving\, spinning\, and candle-making. Engage with history as you handle period objects\, try on traditional clothing\, and discover the realities of life during the Civil War—from domestic routines to the challenges of the time. \nPerfect for history enthusiasts of all ages\, this event offers a unique opportunity to step back in time and experience 17th century life up close!
URL:https://discover-rutland.co.uk/event/living-history-display/
LOCATION:Burghley House\, Peterborough\, Stamford\, PE93JY\, United Kingdom
CATEGORIES:Arts & Performances,Family Friendly,Festivals & Fairs
ATTACH;FMTTYPE=image/jpeg:https://discover-rutland.co.uk/wp-content/uploads/2026/02/Burghley_Living-History5.jpg
END:VEVENT
BEGIN:VEVENT
DTSTART;VALUE=DATE:20260621
DTEND;VALUE=DATE:20260622
DTSTAMP:20260421T151249
CREATED:20260326T134518Z
LAST-MODIFIED:20260326T134518Z
UID:37793-1782000000-1782086399@discover-rutland.co.uk
SUMMARY:Vintage and Craft Market
DESCRIPTION:Set within the charming surroundings of the Belvoir Retail Village\, the Vintage & Craft Market is a monthly celebration of craftsmanship\, character and timeless finds. \nTaking place on the third Sunday of every month from April to September\, the market brings together a carefully curated mix of local artists\, makers and craftspeople\, alongside antique and collectable sellers\, offering everything from handmade homewares and gifts to vintage treasures and unique statement pieces. \nVisitors can enjoy a relaxed day out browsing stalls set around the Retail Village\, while also making the most of everything Belvoir Retail Village has to offer. From the welcoming bistro serving food and drink\, to the independent retail outlets and the much-loved Belvoir Farm Shop. \nWhether you’re searching for something special\, supporting local creatives\, or simply enjoying a leisurely Sunday in beautiful surroundings\, the Vintage & Craft Market is the perfect place to explore\, discover and be inspired.
URL:https://discover-rutland.co.uk/event/vintage-and-craft-market/
LOCATION:Belvoir Castle- Engine Yard\, Woolsthorpe Road\,\, Grantham\, Lincolnshire\, NG32 1PA
CATEGORIES:Festivals & Fairs,Fete / Fair / Festival,Food & Drink
ATTACH;FMTTYPE=image/jpeg:https://discover-rutland.co.uk/wp-content/uploads/2026/03/DSC00169-2.jpg
END:VEVENT
END:VCALENDAR