BEGIN:VCALENDAR
VERSION:2.0
PRODID:-//Discover Rutland - ECPv6.15.12.2//NONSGML v1.0//EN
CALSCALE:GREGORIAN
METHOD:PUBLISH
X-WR-CALNAME:Discover Rutland
X-ORIGINAL-URL:https://discover-rutland.co.uk
X-WR-CALDESC:Events for Discover Rutland
REFRESH-INTERVAL;VALUE=DURATION:PT1H
X-Robots-Tag:noindex
X-PUBLISHED-TTL:PT1H
BEGIN:VTIMEZONE
TZID:Europe/London
BEGIN:DAYLIGHT
TZOFFSETFROM:+0000
TZOFFSETTO:+0100
TZNAME:BST
DTSTART:20250330T010000
END:DAYLIGHT
BEGIN:STANDARD
TZOFFSETFROM:+0100
TZOFFSETTO:+0000
TZNAME:GMT
DTSTART:20251026T010000
END:STANDARD
BEGIN:DAYLIGHT
TZOFFSETFROM:+0000
TZOFFSETTO:+0100
TZNAME:BST
DTSTART:20260329T010000
END:DAYLIGHT
BEGIN:STANDARD
TZOFFSETFROM:+0100
TZOFFSETTO:+0000
TZNAME:GMT
DTSTART:20261025T010000
END:STANDARD
BEGIN:DAYLIGHT
TZOFFSETFROM:+0000
TZOFFSETTO:+0100
TZNAME:BST
DTSTART:20270328T010000
END:DAYLIGHT
BEGIN:STANDARD
TZOFFSETFROM:+0100
TZOFFSETTO:+0000
TZNAME:GMT
DTSTART:20271031T010000
END:STANDARD
END:VTIMEZONE
BEGIN:VEVENT
DTSTART;VALUE=DATE:20260502
DTEND;VALUE=DATE:20260505
DTSTAMP:20260421T132709
CREATED:20260225T124252Z
LAST-MODIFIED:20260225T124252Z
UID:35433-1777680000-1777939199@discover-rutland.co.uk
SUMMARY:Spring Fine Food Market
DESCRIPTION:Set within the charming Chestnut and Stable Courtyards\, the Spring Fine Food Market brings together fantastic local producers and artisan food makers\, alongside flavours from further afield. Browse\, sample and savour everything from handmade cheeses and rare breed meats to luxury sweet treats and beautifully crafted drinks. Pick from a range of cuisines available to enjoy on the day and stock up on foodie treats to take home. It’s the perfect excuse for a relaxed foodie day out in beautiful surroundings. Entry is free of charge.
URL:https://discover-rutland.co.uk/event/spring-fine-food-market-2/
LOCATION:Burghley House\, Peterborough\, Stamford\, PE93JY\, United Kingdom
CATEGORIES:Festivals & Fairs
ATTACH;FMTTYPE=image/jpeg:https://discover-rutland.co.uk/wp-content/uploads/2026/02/Burghley-Fine-Food-Market.jpg
END:VEVENT
BEGIN:VEVENT
DTSTART;VALUE=DATE:20260504
DTEND;VALUE=DATE:20260505
DTSTAMP:20260421T132709
CREATED:20260416T064718Z
LAST-MODIFIED:20260416T064718Z
UID:38552-1777852800-1777939199@discover-rutland.co.uk
SUMMARY:May Day Celebration at Belvoir Castle
DESCRIPTION:Celebrate the arrival of spring in timeless British style at Belvoir Castle\, as we welcome visitors to a traditional May Day celebration filled with heritage\, music\, and family-friendly entertainment. \nRooted in centuries-old customs\, May Day marks the turning of the seasons and is a joyful celebration of renewal\, community\, and the blooming countryside. Set against the stunning backdrop of Belvoir Castle in Leicestershire\, this special event brings these traditions to life with a vibrant programme of activities for all ages. \nWhat’s On: Castle Terrace & Lawn\nStart your day with the enchanting spectacle of maypole dancing\, performed by pupils from Denton Primary School—a much-loved British tradition symbolising unity and community spirit. \nThroughout the day\, enjoy: \n\nTraditional Morris dancing by New St George Morris Dancers\nA roaming Belvoir Castle bagpiper\nA lively afternoon performance by Burton Joyce Brass Band\nClassic lawn games for all ages\nFace painting by Miles for Smiles\n\nTake time to relax on the lawn and soak up the festive atmosphere\, surrounded by the beauty of the Belvoir estate. \nWhen hunger strikes\, indulge in delicious seasonal food from Hungry Belvoir and refreshing drinks from Thirsty Belvoir.
URL:https://discover-rutland.co.uk/event/may-day-celebration-at-belvoir-castle/
LOCATION:Belvoir Castle\, Woolsthorpe Rd\,\, Grantham\, Lincolnshire\, NG32 1PA
CATEGORIES:Family Friendly,Festivals & Fairs
ATTACH;FMTTYPE=image/jpeg:https://discover-rutland.co.uk/wp-content/uploads/2026/04/Castle-May.jpg
END:VEVENT
BEGIN:VEVENT
DTSTART;VALUE=DATE:20260516
DTEND;VALUE=DATE:20260530
DTSTAMP:20260421T132709
CREATED:20260224T132144Z
LAST-MODIFIED:20260414T093154Z
UID:35346-1778889600-1780099199@discover-rutland.co.uk
SUMMARY:Rutland Walking & Cycling Festival 2026
DESCRIPTION:The popular festival will be returning from 16-29 May 2026\, celebrating movement\, wellbeing and community across Rutland. \nThe first week features the much loved Rutland Round – a 65-mile circular route around the perimeter of the county\, with its start and finish in Oakham and a couple of detours to visit Rutland Water. The 65-mile walk will be split into six days and led by fantastic volunteer leaders who bring local knowledge\, encouragement and inspiration along the way. Limited transport will be available to return participants to start points (subject to availability). You can book to walk as many sections as you like or why not take on the challenge of the full Rutland Round. \nThe second week shines a spotlight on the amazing local services\, clubs\, programmes\, and community groups that make Rutland thrive. Offering a range of guided walks\, bike trade in event and inclusive events for all ages and abilities\, from gentle family sessions to more challenging experiences. \nDownload the programme here\nBookings will go live on 16 April\, so be sure to save the date and secure your place on your preferred events. Please visit the website to view the booking link: \nWalking and Cycling Festival | Rutland County Council \nIf you’d like to hear more about the festival this year and future years\, join the Living Well Rutland mailing list by emailing livingwellactive@rutland.gov.uk or visit www.facebook.com/LivingWellActiveRutland.
URL:https://discover-rutland.co.uk/event/rutland-walking-cycling-festival/
CATEGORIES:Festivals & Fairs,Outdoors
ATTACH;FMTTYPE=image/jpeg:https://discover-rutland.co.uk/wp-content/uploads/2021/09/walking-festival-1.jpg
END:VEVENT
BEGIN:VEVENT
DTSTART;VALUE=DATE:20260517
DTEND;VALUE=DATE:20260518
DTSTAMP:20260421T132709
CREATED:20260224T133549Z
LAST-MODIFIED:20260224T133549Z
UID:35350-1778976000-1779062399@discover-rutland.co.uk
SUMMARY:Classic Wheels
DESCRIPTION:A fantastic family day out – Rutland Showground will host the next Classic Wheels’ event on Sunday 17th May 2026. \nIf\, like us\, you can’t wait to get out and about in your pride and joy – take a ride out to Rutland this spring for an unforgettable day of motoring. More than 1000 classic vehicles were on display in 2025 alongside Autojumble stands\, Food & Craft stalls\, Live music\, Children’s Entertainment and Club displays. \nThe show is open from 10am – 4pm. Car parking is free. \nUnder 15s free\nAdults £12.50
URL:https://discover-rutland.co.uk/event/classic-wheels/
LOCATION:The Rutland Showground\, Showground Way\, Oakham\, Rutland\, United Kingdom
CATEGORIES:Family Friendly,Festivals & Fairs,Outdoors
ATTACH;FMTTYPE=image/jpeg:https://discover-rutland.co.uk/wp-content/uploads/2021/05/classic-wheels-rutland.jpg
END:VEVENT
BEGIN:VEVENT
DTSTART;VALUE=DATE:20260517
DTEND;VALUE=DATE:20260518
DTSTAMP:20260421T132709
CREATED:20260326T134446Z
LAST-MODIFIED:20260326T134456Z
UID:37788-1778976000-1779062399@discover-rutland.co.uk
SUMMARY:Vintage and Craft Market at Belvoir Engine Yard
DESCRIPTION:Set within the charming surroundings of the Belvoir Retail Village\, the Vintage & Craft Market is a monthly celebration of craftsmanship\, character and timeless finds. \nTaking place on the third Sunday of every month from April to September\, the market brings together a carefully curated mix of local artists\, makers and craftspeople\, alongside antique and collectable sellers\, offering everything from handmade homewares and gifts to vintage treasures and unique statement pieces. \nVisitors can enjoy a relaxed day out browsing stalls set around the Retail Village\, while also making the most of everything Belvoir Retail Village has to offer. From the welcoming bistro serving food and drink\, to the independent retail outlets and the much-loved Belvoir Farm Shop. \nWhether you’re searching for something special\, supporting local creatives\, or simply enjoying a leisurely Sunday in beautiful surroundings\, the Vintage & Craft Market is the perfect place to explore\, discover and be inspired.
URL:https://discover-rutland.co.uk/event/vintage-and-craft-market-at-belvoir-engine-yard/
LOCATION:Belvoir Castle- Engine Yard\, Woolsthorpe Road\,\, Grantham\, Lincolnshire\, NG32 1PA
CATEGORIES:Festivals & Fairs,Fete / Fair / Festival
ATTACH;FMTTYPE=image/jpeg:https://discover-rutland.co.uk/wp-content/uploads/2026/03/DSC00169-1.jpg
END:VEVENT
BEGIN:VEVENT
DTSTART;VALUE=DATE:20260521
DTEND;VALUE=DATE:20260526
DTSTAMP:20260421T132709
CREATED:20260224T135246Z
LAST-MODIFIED:20260224T135246Z
UID:35352-1779321600-1779753599@discover-rutland.co.uk
SUMMARY:Cider & Sausage Festival at The Grainstore
DESCRIPTION:Married with a great Barbecue and live music throughout the Cider and Sausage festival\, the atmosphere changes depending upon the time of day from relaxed and chilled during the day to vibrant and fun each evening as the party goers join in. There is always something for everyone. \nAnnually during the May Bank Holiday we go a wee bit ‘Wurzel’ and host our Cider and Sausage Festival. Featuring 40 real ciders straight from the barrel and locally crafted sausages including our own Pork and Ale\, this is another lively Festival full of great music. \nOpening Times: \nThursday – 5pm to 11pm\nFriday – Midday to 1am\nSaturday and Sunday – 9am to 1am\nMonday – 9am to 11pm \nBreakfast Served: \nSaturday & Sunday from 9am to 11am
URL:https://discover-rutland.co.uk/event/cider-sausage-festival-at-the-grainstore/
LOCATION:Grainstore\, The Grainstore Brewery & Tap\, Station Approach\, Oakham\, Rutland\, United Kingdom
CATEGORIES:Festivals & Fairs,Food & Drink
ATTACH;FMTTYPE=image/jpeg:https://discover-rutland.co.uk/wp-content/uploads/2021/08/Rutland-Beer-Festival-600x399-1.jpg
END:VEVENT
BEGIN:VEVENT
DTSTART;VALUE=DATE:20260522
DTEND;VALUE=DATE:20260525
DTSTAMP:20260421T132709
CREATED:20260326T134128Z
LAST-MODIFIED:20260326T134128Z
UID:37775-1779408000-1779667199@discover-rutland.co.uk
SUMMARY:Circus at Belvoir Engine Yard
DESCRIPTION:This May Bank Holiday\, prepare to be dazzled as we proudly welcome the sensational Boom Circus as they pitch their spectacular Big Top at the Belvoir Retail Village for three days only – 23rd\, 24th and 25th May 2025. \nBringing their extraordinarily talented team of acrobats\, jugglers and aerial athletes\, Boom Circus promises to wow the crowds with astonishing routines in their brand-new Pirate-themed production. Expect high-seas adventure\, theatrical flair\, perfectly timed comedy\, and breathtaking circus skill in a show that truly knows no bounds. \nA Show Like No Other\nPerforming two shows daily at 11:00am and 2:00pm\, audiences will experience a thrilling blend of breathtaking ground acrobatics and jaw-dropping aerial feats\, all delivered with Boom Circus’ signature storytelling and humour. This high-energy performance is packed with spectacle\, heart and swashbuckling fun for the whole family. \nSet against the vibrant atmosphere of the Belvoir Retail Village\, this three-day circus event promises excitement\, laughter and unforgettable moments for visitors of all ages. \nMore Family Fun Across the Weekend\nThe magic doesn’t stop under the Big Top! Across all three days\, spectacular stilt walkers will be roaming the Retail Village\, adding even more colour\, character and interactive entertainment to your visit. \nImportant Information\n\nDates: Friday 22rd May – Sunday 24th May 2025\nShow Times: 11:00am and 2:00pm daily\nLocation: The Big Top at Belvoir Retail Village\nChildren under 3: Free of charge\, but must sit on a parent or guardian’s lap
URL:https://discover-rutland.co.uk/event/circus-at-belvoir-engine-yard/
LOCATION:Belvoir Castle- Engine Yard\, Woolsthorpe Road\,\, Grantham\, Lincolnshire\, NG32 1PA
CATEGORIES:Arts & Performances,Family Friendly,Festivals & Fairs
ATTACH;FMTTYPE=image/jpeg:https://discover-rutland.co.uk/wp-content/uploads/2026/03/Circus-Workshop-Website-Image-1.jpg
END:VEVENT
BEGIN:VEVENT
DTSTART;TZID=Europe/London:20260522T080000
DTEND;TZID=Europe/London:20260524T170000
DTSTAMP:20260421T132709
CREATED:20260421T093236Z
LAST-MODIFIED:20260421T093236Z
UID:38789-1779436800-1779642000@discover-rutland.co.uk
SUMMARY:Uppingham Beer Festival
DESCRIPTION:🍺 The Vaults Uppingham Beer Festival\n📍 Location: The Vaults\, Uppingham📅 Dates: May 22nd – 24th \n🍻 What to Expect\n\n11 cask ales\nLive music each day\nFood vendors on site\n\n\n🎶 Live Music Lineup\n\nFriday\, May 22ndWithout A Doubt — 7:30 PM\nSaturday\, May 23rdRapscallions Band — 8:00 PM\nSunday\, May 24thTantric Specs — 3:00 PM\n\n\n🍴 Food Vendors\n\nFriday: Bring a Chinese\nSaturday: Griff’s Pizzas (Napoli-style stone baked)\nSunday: Roast Beef Baps
URL:https://discover-rutland.co.uk/event/uppingham-beer-festival/
LOCATION:The Vaults\, 4 Market Place\, LE15 6DT
CATEGORIES:Festivals & Fairs
ATTACH;FMTTYPE=image/jpeg:https://discover-rutland.co.uk/wp-content/uploads/2026/04/Screenshot-2026-04-21-093036.jpg
END:VEVENT
BEGIN:VEVENT
DTSTART;TZID=Europe/London:20260524T180000
DTEND;TZID=Europe/London:20260524T230000
DTSTAMP:20260421T132709
CREATED:20260326T135301Z
LAST-MODIFIED:20260326T135301Z
UID:37815-1779645600-1779663600@discover-rutland.co.uk
SUMMARY:ABBA Night at Belvoir Castle
DESCRIPTION:Get ready to dance\, jive and have the time of your life this May Bank Holiday weekend (Sunday 24th May) as ABBA INFERNO – the UK’s hottest ABBA tribute band – perform live on Belvoir Castle Grounds \nSet against the stunning backdrop of the Vale of Belvoir Leicestershire\, this spectacular live music event promises a glitter-filled evening of feel-good anthems\, iconic costumes and unforgettable party vibes. \nWhether you’re searching for Bank Holiday events in Leicestershire\, a live music night near Nottingham or Grantham\, or the ultimate ABBA tribute concert experience\, this is your chance to sing your heart out and dance the night away. \n\nThe Ultimate ABBA Tribute Experience\nHaving wowed audiences across the UK and Europe\, ABBA INFERNO deliver a world-class\, high-energy performance packed with: \n\n\nPowerhouse vocals \n\n\nKiller harmonies \n\n\nAuthentic ABBA costumes \n\n\nAudience participation \n\n\nClassic hits including Dancing Queen\, Mamma Mia\, Waterloo and more \n\n\nExpect a full-throttle tribute to Sweden’s biggest musical export — and quite possibly the greatest pop band of all time.
URL:https://discover-rutland.co.uk/event/abba-night-at-belvoir-castle/
LOCATION:Belvoir Castle\, Woolsthorpe Rd\,\, Grantham\, Lincolnshire\, NG32 1PA
CATEGORIES:Arts & Performances,Festivals & Fairs
ATTACH;FMTTYPE=image/jpeg:https://discover-rutland.co.uk/wp-content/uploads/2026/03/Untitled-design.jpg
END:VEVENT
BEGIN:VEVENT
DTSTART;TZID=Europe/London:20260529T173000
DTEND;TZID=Europe/London:20260529T220000
DTSTAMP:20260421T132709
CREATED:20260204T074529Z
LAST-MODIFIED:20260204T074529Z
UID:34714-1780075800-1780092000@discover-rutland.co.uk
SUMMARY:Fleetwood Mac by Moonlight
DESCRIPTION:Don’t miss a night of inspired renditions of Fleetwood Mac’s greatest hits. Relive the complex trials and tribulations of this remarkable band as Fleetwood Mac by Moonlight lead you through decades of nostalgia\, under a starry Rockingham Castle sky. \nDance\, laugh\, reminisce\, and Go Your Own Way down memory lane with your nearest and dearest\, on what promises to be an evening of fun at one of the most stunning live music locations in the Midlands. \nGates open at 5.30pm and the show starts at 7.00pm. \nPlease bring your own blankets or low-backed seating. Picnics are welcome. Please just tidy up after yourself\, either taking rubbish with you\, or using the bins provided. \nOutdoor performances will continue in all but the worst weather. Check the forecast and dress accordingly. \nAll tickets are non-refundable. \nIn the event of cancellation due to exceptionally bad weather\, or other extenuating circumstances\, Rockingham Castle will contact ticket holders regarding alternative arrangements. \nRegistered carers can accompany a visitor on a carers ticket. Please email estateoffice@rockinghamcastle.com with your booking confirmation email for your paid for ticket\, along with evidence of carer status. An additional carer ticket will then be added to your order.
URL:https://discover-rutland.co.uk/event/fleetwood-mac-by-moonlight-2/
LOCATION:Rockingham Castle\, Rockingham Castle Estate\, Market Harborough\, LE16 8TH\, United Kingdom
CATEGORIES:Arts & Performances,Festivals & Fairs,Outdoors
ATTACH;FMTTYPE=image/jpeg:https://discover-rutland.co.uk/wp-content/uploads/2026/02/6web.jpeg
END:VEVENT
BEGIN:VEVENT
DTSTART;TZID=Europe/London:20260530T173000
DTEND;TZID=Europe/London:20260530T220000
DTSTAMP:20260421T132709
CREATED:20260204T074600Z
LAST-MODIFIED:20260204T074600Z
UID:34719-1780162200-1780178400@discover-rutland.co.uk
SUMMARY:Country at the Castle
DESCRIPTION:Great ready to for a boot-stompin’\, sing-along kind of night! Country at the Castle is a brand-new music event which brings together the most iconic and inspiring country music from across the decades. \nPerformed by renowned country music talent\, Rory O’Neill\, Country at the Castle will showcase hits from seminal artists such as Dolly Parton\, Johnny Cash\, Tom McGraw\, Garth Brooks\, Shania Twain\, Luke Combs\, and Lainey Wilson. \nRory and his brilliant band celebrate the very heart of country music – authentic sound\, powerful storytelling\, and a sense of community. As a Northamptonshire based country music artist\, whose work is rooted in the storytelling traditions and musical lineage of country music\, Rory’s repertoire has been shaped by both British live performance culture and the heritage of Nashville songwriting. Rory is part of a growing generation of artists helping to establish a confident\, authentic country music voice in the UK.
URL:https://discover-rutland.co.uk/event/country-at-the-castle/
LOCATION:Rockingham Castle\, Rockingham Castle Estate\, Market Harborough\, LE16 8TH\, United Kingdom
CATEGORIES:Arts & Performances,Festivals & Fairs,Outdoors
ATTACH;FMTTYPE=image/jpeg:https://discover-rutland.co.uk/wp-content/uploads/2026/02/Country-at-The-Castle-Draft-Instagram-Post.jpg
END:VEVENT
BEGIN:VEVENT
DTSTART;TZID=Europe/London:20260531T080000
DTEND;TZID=Europe/London:20260531T170000
DTSTAMP:20260421T132709
CREATED:20251125T135453Z
LAST-MODIFIED:20251125T144731Z
UID:31912-1780214400-1780246800@discover-rutland.co.uk
SUMMARY:192nd Rutland County Show
DESCRIPTION:31st May 2026\n\n\n\n\nJoin us at the Rutland Showground for the 192nd Rutland County Show \nRutland County Show is an annual event showcasing all aspects of rural life in the beautiful county of Rutland and surrounding areas.
URL:https://discover-rutland.co.uk/event/192nd-rutland-county-show/
LOCATION:The Rutland Showground\, Showground Way\, Oakham\, Rutland\, United Kingdom
CATEGORIES:Family Friendly,Festivals & Fairs,Fete / Fair / Festival,Outdoors,Seasonal
ATTACH;FMTTYPE=image/jpeg:https://discover-rutland.co.uk/wp-content/uploads/2025/11/Screenshot-2025-11-25-135246.jpg
END:VEVENT
END:VCALENDAR