BEGIN:VCALENDAR
VERSION:2.0
PRODID:-//Discover Rutland - ECPv6.15.12.2//NONSGML v1.0//EN
CALSCALE:GREGORIAN
METHOD:PUBLISH
X-WR-CALNAME:Discover Rutland
X-ORIGINAL-URL:https://discover-rutland.co.uk
X-WR-CALDESC:Events for Discover Rutland
REFRESH-INTERVAL;VALUE=DURATION:PT1H
X-Robots-Tag:noindex
X-PUBLISHED-TTL:PT1H
BEGIN:VTIMEZONE
TZID:Europe/London
BEGIN:DAYLIGHT
TZOFFSETFROM:+0000
TZOFFSETTO:+0100
TZNAME:BST
DTSTART:20250330T010000
END:DAYLIGHT
BEGIN:STANDARD
TZOFFSETFROM:+0100
TZOFFSETTO:+0000
TZNAME:GMT
DTSTART:20251026T010000
END:STANDARD
BEGIN:DAYLIGHT
TZOFFSETFROM:+0000
TZOFFSETTO:+0100
TZNAME:BST
DTSTART:20260329T010000
END:DAYLIGHT
BEGIN:STANDARD
TZOFFSETFROM:+0100
TZOFFSETTO:+0000
TZNAME:GMT
DTSTART:20261025T010000
END:STANDARD
BEGIN:DAYLIGHT
TZOFFSETFROM:+0000
TZOFFSETTO:+0100
TZNAME:BST
DTSTART:20270328T010000
END:DAYLIGHT
BEGIN:STANDARD
TZOFFSETFROM:+0100
TZOFFSETTO:+0000
TZNAME:GMT
DTSTART:20271031T010000
END:STANDARD
END:VTIMEZONE
BEGIN:VEVENT
DTSTART;TZID=Europe/London:20260111T110000
DTEND;TZID=Europe/London:20260111T140000
DTSTAMP:20260421T164505
CREATED:20251205T073845Z
LAST-MODIFIED:20251209T084641Z
UID:32207-1768129200-1768140000@discover-rutland.co.uk
SUMMARY:Traditional Wedding Fayre at Rutland Hall
DESCRIPTION:Begin planning your dream wedding at Rutland Hall’s Traditional Wedding Fayre.\nSet overlooking Rutland Water\, this inspiring event brings together a handpicked selection of trusted local and regional suppliers — from photographers and florists to décor stylists\, bridalwear specialists and more. \nWander through our welcoming event space\, gather ideas\, and speak directly with experts who can help bring your vision to life. Whether you’re newly engaged or finalising your plans\, the fayre offers inspiration for every couple. \nEvent Highlights:• Trusted wedding suppliers• Décor\, flowers\, photography and bridal inspiration• Complimentary refreshments• Free admission• Free onsite parking \nDate: Sunday 11th January 2026\nTime: 11am – 2pm\nPrice: FREE to book through Event Brite\nVenue: Lakeview Suite and Pavilion at Rutland Hall Hotel & Spa \nTo book\, click the link below and book through Event Brite\, or contact our Weddings Team for more info:\nT: 01572 757 901  |  E: weddings@rutlandhall.co.uk \nGrab Your Tickets \nWe look forward to welcoming you.
URL:https://discover-rutland.co.uk/event/traditional-wedding-fayre-at-rutland-hall/
LOCATION:Rutland Hall Hotel\, Oakham\, Rutland\, LE15 8AB\, United Kingdom
CATEGORIES:Family Friendly,Festivals & Fairs,Fete / Fair / Festival
ATTACH;FMTTYPE=image/jpeg:https://discover-rutland.co.uk/wp-content/uploads/2025/12/39.jpg
END:VEVENT
BEGIN:VEVENT
DTSTART;VALUE=DATE:20260124
DTEND;VALUE=DATE:20260202
DTSTAMP:20260421T164505
CREATED:20251107T122942Z
LAST-MODIFIED:20251121T074238Z
UID:31124-1769212800-1769990399@discover-rutland.co.uk
SUMMARY:The Katherine of Aragon Festival
DESCRIPTION:The Katharine of Aragon Festival returns to Peterborough Cathedral from 24th January to 1st February 2026\, inviting visitors to step into the rich tapestry of Tudor history. This year\, we are honoured to host some of the foremost historians and celebrated authors of the era within the Cathedral’s majestic walls. Alongside these enlightening talks\, the festival will offer a captivating programme of family activities\, immersive tours\, hands-on workshops\, and countless other experiences that bring history vividly to life. \nSet within the historic surroundings of Peterborough Cathedral\, where she is laid to rest\, the Katherine of Aragon festival features a programme of heritage lectures\, costumed interpretation\, choral services\, and family activities. Peterborough Cathedral events can be found here. \nYou are invited to honour Katharine’s enduring legacy.
URL:https://discover-rutland.co.uk/event/the-katherine-of-aragon-festival/
LOCATION:Peterborogh Cathedral\, Cathedral Office\, Minster Precincts\, Peterborough\, PE1 1XS
CATEGORIES:Family Friendly,Festivals & Fairs,Fete / Fair / Festival
ATTACH;FMTTYPE=image/jpeg:https://discover-rutland.co.uk/wp-content/uploads/2025/11/Katharine-of-Aragon.jpg
END:VEVENT
END:VCALENDAR