BEGIN:VCALENDAR
VERSION:2.0
PRODID:-//Discover Rutland - ECPv6.15.12.2//NONSGML v1.0//EN
CALSCALE:GREGORIAN
METHOD:PUBLISH
X-ORIGINAL-URL:https://discover-rutland.co.uk
X-WR-CALDESC:Events for Discover Rutland
REFRESH-INTERVAL;VALUE=DURATION:PT1H
X-Robots-Tag:noindex
X-PUBLISHED-TTL:PT1H
BEGIN:VTIMEZONE
TZID:Europe/London
BEGIN:DAYLIGHT
TZOFFSETFROM:+0000
TZOFFSETTO:+0100
TZNAME:BST
DTSTART:20240331T010000
END:DAYLIGHT
BEGIN:STANDARD
TZOFFSETFROM:+0100
TZOFFSETTO:+0000
TZNAME:GMT
DTSTART:20241027T010000
END:STANDARD
BEGIN:DAYLIGHT
TZOFFSETFROM:+0000
TZOFFSETTO:+0100
TZNAME:BST
DTSTART:20250330T010000
END:DAYLIGHT
BEGIN:STANDARD
TZOFFSETFROM:+0100
TZOFFSETTO:+0000
TZNAME:GMT
DTSTART:20251026T010000
END:STANDARD
BEGIN:DAYLIGHT
TZOFFSETFROM:+0000
TZOFFSETTO:+0100
TZNAME:BST
DTSTART:20260329T010000
END:DAYLIGHT
BEGIN:STANDARD
TZOFFSETFROM:+0100
TZOFFSETTO:+0000
TZNAME:GMT
DTSTART:20261025T010000
END:STANDARD
END:VTIMEZONE
BEGIN:VEVENT
DTSTART;TZID=Europe/London:20251116T100000
DTEND;TZID=Europe/London:20251116T140000
DTSTAMP:20260421T195220
CREATED:20250929T124426Z
LAST-MODIFIED:20251121T083000Z
UID:29192-1763287200-1763301600@discover-rutland.co.uk
SUMMARY:Tolethorpe Clothing Sale
DESCRIPTION:Tolethorpe Clothing Sale is back! On Sunday 16th November 2025\, 10am-2pm\, £2 on the door (under 10’s free). \nNew this year: early bird access 9-10am\, £5 on the door. \nLocal people and traders will be selling preloved\, vintage and nearly new clothing and accessories in a friendly and fun atmosphere at Tolethorpe Hall. Expect four rooms of stalls (mainly womenswear\, some childrenswear and signposted menswear)\, wheelchair access\, changing rooms\, free parking\, festive mulled wine and the Scandi Coffee Co. food truck. \nCash and card payment. \nEveryone is welcome\, and if you REALLY love fashion\, it’s a don’t miss! \nOn the door entry (under 10’s free). All proceeds will go to the Stamford Shakespeare Company Charity.
URL:https://discover-rutland.co.uk/event/tolethorpe-clothing-sale/
LOCATION:Tolethorpe Hall\, Little Casterton\, Stamford\, Rutland\, PE9 4BH\, United Kingdom
CATEGORIES:Festivals & Fairs,Fete / Fair / Festival
ATTACH;FMTTYPE=image/jpeg:https://discover-rutland.co.uk/wp-content/uploads/2025/09/tolethorpe-clothing-sale.jpg
END:VEVENT
BEGIN:VEVENT
DTSTART;TZID=Europe/London:20251121T160000
DTEND;TZID=Europe/London:20251121T190000
DTSTAMP:20260421T195220
CREATED:20251112T081337Z
LAST-MODIFIED:20251121T082811Z
UID:31355-1763740800-1763751600@discover-rutland.co.uk
SUMMARY:Mill Street Late Night Shopping
DESCRIPTION:Join us on Mill Street for a Jingle & Mingle at our late night shopping event✨🎄 \nWe look forward to seeing you all✨
URL:https://discover-rutland.co.uk/event/mill-street-late-night-shopping/
LOCATION:Mill Street
CATEGORIES:Family Friendly,Festivals & Fairs,Fete / Fair / Festival
ATTACH;FMTTYPE=image/jpeg:https://discover-rutland.co.uk/wp-content/uploads/2025/11/mill-street.jpg
END:VEVENT
BEGIN:VEVENT
DTSTART;TZID=Europe/London:20251121T161500
DTEND;TZID=Europe/London:20251231T200000
DTSTAMP:20260421T195220
CREATED:20251001T084941Z
LAST-MODIFIED:20251121T082800Z
UID:29203-1763741700-1767211200@discover-rutland.co.uk
SUMMARY:Christmas Lights at Belton
DESCRIPTION:Experience the Festive Magic: Belton Estate Reveals Enchanting New Christmas Light Trail for 2025! \nCreated by award-winning\, internationally acclaimed light trail producers and firmly positioned within the UK’s seasonal calendar\, Christmas at Belton has everything you need for an unforgettable time with friends and family\, including a fairground\, and\, of course\, magical glimpses of Father Christmas along the way. \nAmong the new installation highlights for 2025 is ‘On the Tide’ by Squidsoup\, a water-based floating floral lightwork created from points of light floating in strands\, positioned by the natural movement of the water. \nOther features which visitors can enjoy this year include an immersive area filled with lasers\, a fire garden and a festive themed animated story projected onto Belton House’s facade. \nGuests can look forward to the iconic tunnel of lights\, larger-than-life installations\, and the ever-popular appearances by Father Christmas. The trail is designed to engage all the senses\, with seasonal music accompanying the stunning visual displays. \nGrab a seasonal snack from one of the hand-picked street food vendors who bring an indulgent twist to tempting treats on offer. Complete your walk under the stars with a festive *spiced winter warmer\, *hot chocolate or *toasted marshmallow and share it with someone special. \nAdult Ticket: £18 to £25 \nChild Ticket: £12.50 to £18.50 \nYour very merriest Christmas starts here. Limited capacity with timed entry. Plan now to secure the date and time of your choice. \n*Separate charges apply. \n 
URL:https://discover-rutland.co.uk/event/christmas-lights-at-belton/
LOCATION:Belton House\, High Road\, Belton\, Grantham\, Rutland\, NG32 2LW\, United Kingdom
CATEGORIES:Festivals & Fairs,Fete / Fair / Festival,Seasonal
ATTACH;FMTTYPE=image/jpeg:https://discover-rutland.co.uk/wp-content/uploads/2025/07/Events-LogosImages-for-DR-Listings-10.jpg
END:VEVENT
BEGIN:VEVENT
DTSTART;TZID=Europe/London:20251122T100000
DTEND;TZID=Europe/London:20251122T160000
DTSTAMP:20260421T195220
CREATED:20251106T124903Z
LAST-MODIFIED:20251121T082741Z
UID:31081-1763805600-1763827200@discover-rutland.co.uk
SUMMARY:Barnsdale Gardens - Christmas Mini Market
DESCRIPTION:Christmas Mini Market: 22nd November\, 10am – 4pm\n\n\nHeld in the Helenium Tea Room\, there will be lots of Christmas stalls for all your Christmas needs. The tearoom will also be putting on a special menu to eat in or take away. Add in a raffle and a tombola and you have a perfect day for all the family. \n\n\n\n\nJust want to come for a spot of retail therapy and a great lunch or afternoon tea? Entry to the Barnsdale Gardens Gift Shop\, Nursery and Tea Room is free.
URL:https://discover-rutland.co.uk/event/barnsdale-gardens-christmas-mini-market/
LOCATION:Barnsdale Gardens\, Barnsdale Avenue\, Exton\, Rutland\, United Kingdom
CATEGORIES:Family Friendly,Festivals & Fairs,Fete / Fair / Festival,Seasonal
ATTACH;FMTTYPE=image/jpeg:https://discover-rutland.co.uk/wp-content/uploads/2025/11/XMAS-MKT.jpg
END:VEVENT
BEGIN:VEVENT
DTSTART;TZID=Europe/London:20251122T100000
DTEND;TZID=Europe/London:20251122T170000
DTSTAMP:20260421T195220
CREATED:20251002T103459Z
LAST-MODIFIED:20251121T082731Z
UID:29421-1763805600-1763830800@discover-rutland.co.uk
SUMMARY:Preston Christmas Market
DESCRIPTION:It’s Back! Preston’s Christmas Market is back bigger and better than ever on Saturday 22 November in Preston Village Hall from 10am-5pm. \nStalls include\, jewellery basketwork\, paper flowers\, wooden gifts\, art work\, ceramics\, Christmas gifts\, a sourdough stall and more\, plus Preston’s legendry cakes\, mulled wine\, tea and coffee. \nAll money raised will be split between the church and the village hall.
URL:https://discover-rutland.co.uk/event/preston-christmas-market/
LOCATION:Preston Village Hall\, 1 Church Lane\, Oakham\, LE15 9NG
CATEGORIES:Family Friendly,Festivals & Fairs,Fete / Fair / Festival,Seasonal
ATTACH;FMTTYPE=image/jpeg:https://discover-rutland.co.uk/wp-content/uploads/2025/10/New-poster-2.jpg
END:VEVENT
BEGIN:VEVENT
DTSTART;TZID=Europe/London:20251123T120000
DTEND;TZID=Europe/London:20251123T170000
DTSTAMP:20260421T195220
CREATED:20251106T083237Z
LAST-MODIFIED:20251121T082641Z
UID:31062-1763899200-1763917200@discover-rutland.co.uk
SUMMARY:Oakham Christmas Light Switch on
DESCRIPTION:Festive fun for all taking place across High Street\, Mill Street\, Market Place and Oakham Castle. \nFun for the Whole Family!\nA Giant Snow Dome\nHook-a-Duck & Festive Stalls\nSanta’s Grotto – (with thanks to The Lions)\nStiltwalker & Fire Performer\nFilbert Fox from Leicester City Football Club\nFairground Rides\nLive Choir Performances\nRutland & Stamford Sound broadcasting live\nThe winner of our Children’s Drawing Competition\nwill switch on the lights! \nContact: enquiries@oakhamtowncouncil.gov.uk
URL:https://discover-rutland.co.uk/event/oakham-lights-switch-on/
LOCATION:Oakham\, High Street\, oakham\, LE15 6
CATEGORIES:Family Friendly,Festivals & Fairs,Fete / Fair / Festival,Seasonal
ATTACH;FMTTYPE=image/jpeg:https://discover-rutland.co.uk/wp-content/uploads/2025/11/Christmas-Light-Switch-on-FB-POST-1.jpg
END:VEVENT
BEGIN:VEVENT
DTSTART;VALUE=DATE:20251127
DTEND;VALUE=DATE:20251201
DTSTAMP:20260421T195220
CREATED:20250929T153215Z
LAST-MODIFIED:20251121T082422Z
UID:29217-1764201600-1764547199@discover-rutland.co.uk
SUMMARY:Burghley Christmas Fair
DESCRIPTION:The beautiful courtyards and grounds of Burghley House will once again be filled with festive Chalets\, pagodas and marquees decked in Christmas lights for the annual Burghley Christmas Fair. From traditional mulled wine and indulgent hot chocolate to warming raclette and tempting sweet and savoury crepês\, there’s something to tantalise everyone’s taste buds. \n\nBurghley Christmas Fair \n\n\n\nEnjoy a truly magical festive shopping experience at the Burghley Christmas Fair \n\n\n\n\n\nThe beautiful courtyards and grounds of Burghley House will be filled with festive chalets\, pagodas and marquees bedecked in sparkling Christmas decorations for the annual Burghley Christmas Fair. \nThe region’s largest and most magical Christmas Fair\, featuring stalls offering a wide range of artisan and unique gifts. Spend the day finding the perfect presents for loved ones\, including stocking fillers\, handmade decorations\, clothes and beautiful homewares. \nBe sure to take a break from the shopping to enjoy the delicious festive treats from the very best food and drink producers. From traditional mulled wine and indulgent hot chocolate to warming raclette and tempting sweet and savoury crepês\, there’s something to tantalise every taste bud. \nEnjoy the most wonderful festive day out with twinkling lights\, music filling the air\, and if you’re lucky\, a few snowflakes too! A large Victorian carousel\, lit up for the season\, adds even more seasonal cheer. \nNew for 2025 \nEnjoy a brand-new enclosed tented space – a welcoming retreat to pause and soak up the festive atmosphere. Inside\, you’ll find plenty of seating\, a tempting selection of food and drink\, and a programme of live musical entertainment every day. \nFestive Drone Show \nFor an extra touch of seasonal magic\, a festive drone show will take place each day. \nThe Burghley Christmas Fair is run in association with the Angel Committee to raise funds for the Sue Ryder Thorpe Hall Hospice in Peterborough.
URL:https://discover-rutland.co.uk/event/burghley-christmas-fair/
LOCATION:Burghley House\, Peterborough\, Stamford\, PE93JY\, United Kingdom
CATEGORIES:Family Friendly,Festivals & Fairs,Fete / Fair / Festival,Seasonal
ATTACH;FMTTYPE=image/jpeg:https://discover-rutland.co.uk/wp-content/uploads/2025/08/Burghley-Christmas-Fair-Burghley-House.jpg
END:VEVENT
BEGIN:VEVENT
DTSTART;TZID=Europe/London:20251127T180000
DTEND;TZID=Europe/London:20251127T210000
DTSTAMP:20260421T195220
CREATED:20251103T111017Z
LAST-MODIFIED:20251121T082354Z
UID:30926-1764266400-1764277200@discover-rutland.co.uk
SUMMARY:FESTIVE LATE NIGHT SHOPPING
DESCRIPTION:Thursday 27th November and\nThursday 4th December\n6pm-9pm \nJoin us for a magical evening to kick off Christmas in true festive style! 🌲✨ \nSip on mulled wine or a glass of fizz as you wander through our artisan market in The View\, featuring favourites – Two Chimps Coffee\, Bramley Products\, Cidentro Cider\, Multum Gin Parvo\, Cap & Copper and of course\, our very own Rutland Nursery range \nTuck into pulled turkey Christmas baps\, hot dogs\, mince pies\, hot chocolate and lots more from The Hut (we’re open a little earlier this year making it the perfect opportunity for a festive supper!) And don’t forget to pop into Hoggy’s Grill for his BBQ stocking fillers and sample some of his delicious festive nibbles \nEnjoy the sounds of live music from Zachary John\, setting the perfect festive mood as you shop and soak up the atmosphere 🎶 \nDiscover our beautiful Christmas trees and wreaths\, find thoughtful presents in the children’s shop\, and explore unique gift ideas in our beautiful main shop throughout the evening 🌲🧸 🛍️ \nLooking for a personal touch? Our friends from Yeti will be offering free engraving on any Yeti drinkware purchased on the night. Plus\, don’t miss Green Machine Creative letterpress printing pop-up — a hands-on station where you can print your very own festive card to take home \nIt’s an evening of music\, food\, shopping\, and Christmas inspiration – the perfect way to start the festive season!
URL:https://discover-rutland.co.uk/event/festive-late-night-shopping/
LOCATION:Rutland Nursery\, Lyndon Road\, Manton\, Rutland\, United Kingdom
CATEGORIES:Experiences & Workshops,Festivals & Fairs,Seasonal
ATTACH;FMTTYPE=image/jpeg:https://discover-rutland.co.uk/wp-content/uploads/2025/11/Screenshot-2025-11-03-110941.jpg
END:VEVENT
BEGIN:VEVENT
DTSTART;TZID=Europe/London:20251129T100000
DTEND;TZID=Europe/London:20251129T140000
DTSTAMP:20260421T195220
CREATED:20251022T124603Z
LAST-MODIFIED:20251121T082133Z
UID:30419-1764410400-1764424800@discover-rutland.co.uk
SUMMARY:Small business Christmas Fayre
DESCRIPTION:Small Business Christmas Fayre \nKetton Sports & Conmunity Centre\, Pit Lane\, Ketton \n29th November 2025 \n10am till 2pm \nover 15 small business stalls selling everything from personalised goods\, hand made gifts\, photography & Clothing \nrefreshments available \nRaffle in aid of MacMillan
URL:https://discover-rutland.co.uk/event/small-business-christmas-fayre/
LOCATION:ketton sports & community Centre\, Pit lane\, Ketton\, Pe9 3 SZ\, United Kingdom
CATEGORIES:Family Friendly,Festivals & Fairs,Fete / Fair / Festival,Seasonal
ATTACH;FMTTYPE=image/jpeg:https://discover-rutland.co.uk/wp-content/uploads/2025/10/D1D222BF-B933-44F4-8C5C-BACFA3A58957-2.jpeg
END:VEVENT
BEGIN:VEVENT
DTSTART;TZID=Europe/London:20251129T100000
DTEND;TZID=Europe/London:20251129T150000
DTSTAMP:20260421T195220
CREATED:20251103T074043Z
LAST-MODIFIED:20251121T081944Z
UID:30828-1764410400-1764428400@discover-rutland.co.uk
SUMMARY:Rutland Fairtrade Christmas Market
DESCRIPTION:The Christmas Market will feature a huge variety of Fairtrade and ethically produced crafts\, gifts\, accessories and foods from around the world. Lots of new stalls this year\, alongside the old favourites\, all in the beautiful setting of Oakham Castle. This annual event is a favourite with both locals and visitors to Rutland. Free admission.
URL:https://discover-rutland.co.uk/event/rutland-fairtrade-christmas-market/
LOCATION:Oakham Castle\, Castle Grounds Market Place\, Oakham\, LE15 6DR\, United Kingdom
CATEGORIES:Festivals & Fairs,Fete / Fair / Festival,Seasonal
ATTACH;FMTTYPE=image/jpeg:https://discover-rutland.co.uk/wp-content/uploads/2025/11/IMG_7340.jpg
END:VEVENT
END:VCALENDAR