BEGIN:VCALENDAR
VERSION:2.0
PRODID:-//Discover Rutland - ECPv6.15.12.2//NONSGML v1.0//EN
CALSCALE:GREGORIAN
METHOD:PUBLISH
X-WR-CALNAME:Discover Rutland
X-ORIGINAL-URL:https://discover-rutland.co.uk
X-WR-CALDESC:Events for Discover Rutland
REFRESH-INTERVAL;VALUE=DURATION:PT1H
X-Robots-Tag:noindex
X-PUBLISHED-TTL:PT1H
BEGIN:VTIMEZONE
TZID:Europe/London
BEGIN:DAYLIGHT
TZOFFSETFROM:+0000
TZOFFSETTO:+0100
TZNAME:BST
DTSTART:20250330T010000
END:DAYLIGHT
BEGIN:STANDARD
TZOFFSETFROM:+0100
TZOFFSETTO:+0000
TZNAME:GMT
DTSTART:20251026T010000
END:STANDARD
BEGIN:DAYLIGHT
TZOFFSETFROM:+0000
TZOFFSETTO:+0100
TZNAME:BST
DTSTART:20260329T010000
END:DAYLIGHT
BEGIN:STANDARD
TZOFFSETFROM:+0100
TZOFFSETTO:+0000
TZNAME:GMT
DTSTART:20261025T010000
END:STANDARD
BEGIN:DAYLIGHT
TZOFFSETFROM:+0000
TZOFFSETTO:+0100
TZNAME:BST
DTSTART:20270328T010000
END:DAYLIGHT
BEGIN:STANDARD
TZOFFSETFROM:+0100
TZOFFSETTO:+0000
TZNAME:GMT
DTSTART:20271031T010000
END:STANDARD
END:VTIMEZONE
BEGIN:VEVENT
DTSTART;TZID=Europe/London:20260808T120000
DTEND;TZID=Europe/London:20260809T160000
DTSTAMP:20260422T021803
CREATED:20260225T141418Z
LAST-MODIFIED:20260225T141418Z
UID:35498-1786190400-1786291200@discover-rutland.co.uk
SUMMARY:Jazz in the Gardens
DESCRIPTION:Jazz in the Gardens\n\n\n\nEnjoy a toe-tapping afternoon of jazz in Burghley’s beautiful gardens\n\n\n\n\n\nSpend a summer’s afternoon in Burghley’s Sculpture Garden listening to the swinging sounds of local Dixieland jazz group\, the Stamford Stompers. Bring the whole family along\, roll out a blanket and soak up the sublime atmosphere. With a soundtrack that will have everyone bopping along – even the littlest of dancers won’t be able to resist joining in! Listen to the Stompers as they perform a wonderfully wide repertoire of classic New Orleans jazz with instruments that include a banjo\, string bass\, clarinet\, trumpet\, and guitar. \nDuring your visit take in the beauty of the Gardens in full summer bloom or let the little ones run wild in Hide & Secrets Adventure Play. The Gardens and Adventure Play are open from 10am to 5pm with the Stamford Stompers performing from 12 noon to 4pm.
URL:https://discover-rutland.co.uk/event/jazz-in-the-gardens/
LOCATION:Burghley House\, Peterborough\, Stamford\, PE93JY\, United Kingdom
CATEGORIES:Arts & Performances,Family Friendly
ATTACH;FMTTYPE=image/webp:https://discover-rutland.co.uk/wp-content/uploads/2026/02/Cut_flower_garden_f2c076154337121741e3dcba94f1c2b4.webp
END:VEVENT
BEGIN:VEVENT
DTSTART;TZID=Europe/London:20260808T140000
DTEND;TZID=Europe/London:20260808T173000
DTSTAMP:20260422T021803
CREATED:20260421T063715Z
LAST-MODIFIED:20260421T123507Z
UID:38743-1786197600-1786210200@discover-rutland.co.uk
SUMMARY:Pinocchio - Outdoor Theatre
DESCRIPTION:Childless toymaker Geppetto makes a wooden puppet – little realising the chaos he is about to unleash. The puppet yearns for adventure and runs away\, but instead of excitement only finds glorious attractions containing hidden dangers. He returns home hoping to be showered with sympathy and learns his tribulations are just beginning. Running away hasn’t worked; lying won’t work; he must become a real boy to achieve the belonging he craves. \nCollodi’s classic has been translated into no fewer than 260 languages since it was first published in 1883.  \nIllyria celebrates this magical coming-of-age tale in a thrilling musical outdoor show. \n  \nDoors open from 2pm\, performance start at 3pm\nRun time: 95-minutes (approx.)\, including a 20-minute interval\nRecommended for ages 5+ (younger children also welcome) \n  \nStandard Event T&Cs Apply\nTickets are non-refundable \nFind out more about Illyria and the show at: https://www.illyria.co.uk/shows
URL:https://discover-rutland.co.uk/event/pinocchio-outdoor-theatre/
LOCATION:Whitwell Point\, Whitwell Car Park\, Whitwell Point\, Whitwell Car Park\, Bull Brig Lane\, Rutland\, Oakham\, LE15 8BL\, United Kingdom
CATEGORIES:Arts & Performances,Family Friendly
ATTACH;FMTTYPE=image/jpeg:https://discover-rutland.co.uk/wp-content/uploads/2026/04/Poster-ratio-1-1-with-title.jpg
END:VEVENT
BEGIN:VEVENT
DTSTART;TZID=Europe/London:20260814T093000
DTEND;TZID=Europe/London:20260816T170000
DTSTAMP:20260422T021803
CREATED:20251120T131334Z
LAST-MODIFIED:20251120T152619Z
UID:31640-1786699800-1786899600@discover-rutland.co.uk
SUMMARY:Rutland Flower Show 2026 – 14-16 August 2026
DESCRIPTION:Our second ever Rutland Flower Show\, on 14-16th August 2026\, will take place at the Rutland Showground (Oakham\, Rutland\, LE15 7TW). The 3-day event will be even better than our first\, bringing together more National Flower Clubs\, Gardening Clubs\, and Famous Florists and Gardeners. \nNEW for 2026\, we will be joined by the legendary Carol Klein from BBC Gardener’s World (Saturday). The return of Rutland’s very own Nick Hamilton from Barnsdale Gardens\, and Matthew Wilson from Radio 4 GQT\, with many more! \nThe show will host amazing Floral & Produce Competitions • Celebrity Gardener Talks & Advice • Show Gardens • Garden & Plant Shopping • Skilled Artisans • Arts & Crafts • Live Music and Flypasts by the magnificent Battle of Britain Memorial Flight (BBMF)
URL:https://discover-rutland.co.uk/event/rutland-flower-show-2026-14-16-august-2026/
LOCATION:The Rutland Showground\, Showground Way\, Oakham\, Rutland\, United Kingdom
CATEGORIES:Arts & Performances,Experiences & Workshops,Family Friendly,Festivals & Fairs,Fete / Fair / Festival,Outdoors,Seasonal
ATTACH;FMTTYPE=image/png:https://discover-rutland.co.uk/wp-content/uploads/2025/11/RFL-Logo-2026-3.png
END:VEVENT
BEGIN:VEVENT
DTSTART;TZID=Europe/London:20260815T120000
DTEND;TZID=Europe/London:20260816T160000
DTSTAMP:20260422T021803
CREATED:20260225T141119Z
LAST-MODIFIED:20260225T141154Z
UID:35496-1786795200-1786896000@discover-rutland.co.uk
SUMMARY:Sounds of the 40s in the Gardens
DESCRIPTION:Join us for a nostalgic journey into the golden era of the 1940s\n\n\n\n\n\nSet against the beautiful backdrop of Burghley’s Sculpture Garden\, enjoy an afternoon of timeless tunes performed by a fabulous vintage vocalist. Immerse yourself in the spirit of 1940s Britain with hits from the likes of the Andrews Sisters\, Vera Lynn\, and Ella Fitzgerald\, along with some lesser-known gems. Bring the whole family along to soak up the charming atmosphere and let the music transport you to a bygone era. \nDuring your visit take in the beauty of the Gardens in full summer bloom or head to Hide & Secrets with the little ones for an outdoor adventure. The Gardens and Adventure Play are open from 10am to 5pm with performances from our 1940s vocalist between 12 noon and 4pm.
URL:https://discover-rutland.co.uk/event/sounds-of-the-40s-in-the-gardens-copy/
LOCATION:Burghley House\, Peterborough\, Stamford\, PE93JY\, United Kingdom
CATEGORIES:Arts & Performances,Family Friendly,Festivals & Fairs
ATTACH;FMTTYPE=image/jpeg:https://discover-rutland.co.uk/wp-content/uploads/2026/02/Burghley_sounds-of-the-40s.jpg
END:VEVENT
BEGIN:VEVENT
DTSTART;TZID=Europe/London:20260816T173000
DTEND;TZID=Europe/London:20260816T233000
DTSTAMP:20260422T021803
CREATED:20260225T095259Z
LAST-MODIFIED:20260225T095259Z
UID:35403-1786901400-1786923000@discover-rutland.co.uk
SUMMARY:Taylor Swift by Moonlight at Rockingham Castle
DESCRIPTION:Calling all Swifties!!! Don’t miss your chance to relive every Taylor era at Rockingham Castle this summer! From the early Nashville days to the dizzy heights of global superstardom\, grab your bestie and your friendship bracelets\, and prepare to be Enchanted by Taylor by Moonlight! \nJoin us on 16th August until the Daylight begins to fade for an afternoon of Taylor tribute magic. Never Ever will you get another chance to Shake it off with family and friends in such historic and stunning surroundings. Bring your glitz\, glam and glow sticks and get into full festival mode! \nDon’t leave a Blank Space in your diary on 16th August – get your early bird tickets now! \nGates open at 3.30pm and the show starts at 5.00pm. \nPlease bring your own blankets or low-backed seating. Picnics are welcome\, please just tidy up after yourself\, either taking rubbish with you\, or using the bins provided (we don’t want any Bad Blood)… \nOutdoor performances will continue in all but the worst weather – be prepared and be sure to dress accordingly. Perhaps a Cardigan…
URL:https://discover-rutland.co.uk/event/taylor-swift-by-moonlight-at-rockingham-castle/
LOCATION:Rockingham Castle\, Rockingham Castle Estate\, Market Harborough\, LE16 8TH\, United Kingdom
CATEGORIES:Arts & Performances,Family Friendly
ATTACH;FMTTYPE=image/jpeg:https://discover-rutland.co.uk/wp-content/uploads/2026/02/Taylor_rockingham.jpg
ORGANIZER;CN="Rockingham Castle":MAILTO:&quot;Rockingham Estate Office&quot;
END:VEVENT
BEGIN:VEVENT
DTSTART;TZID=Europe/London:20260818T140000
DTEND;TZID=Europe/London:20260818T170000
DTSTAMP:20260422T021803
CREATED:20260421T063813Z
LAST-MODIFIED:20260421T123459Z
UID:38748-1787061600-1787072400@discover-rutland.co.uk
SUMMARY:Jungle Book - Outdoor Theatre
DESCRIPTION:Immersion Theatre are thrilled to bring their trademark energy to their wild\, brand-new musical adaptation of the Rudyard Kipling family favourite\, THE JUNGLE BOOK! \nFilled with original music\, audience interaction\, and a host of larger-than-life characters\, you are invited to join Mowgli and his friends\, Baloo the bear and Bagheera the panther\, on a madcap jungle adventure as they meet and attempt to outwit a slithering snake\, some cheeky monkeys\, and the fierce tiger\, Shere Khan! \nFunny\, exciting and wildly entertaining\, this AOOO-some musical will have you howling with laughter: It’s the perfect treat for the whole family! \nRecommended age: 4+ \nApproximate run time: Act 1 – 45 minutes / Interval / Act 2 – 40 minute \nStandard Event T&Cs Apply\nTickets are non-refundable\nFor more information or for Immersion Theatre’s Bad Weather and Cancellation Policy please see the Immersion Theatre website.
URL:https://discover-rutland.co.uk/event/jungle-book-outdoor-theatre/
LOCATION:Whitwell Point\, Whitwell Car Park\, Whitwell Point\, Whitwell Car Park\, Bull Brig Lane\, Rutland\, Oakham\, LE15 8BL\, United Kingdom
CATEGORIES:Arts & Performances,Family Friendly
ATTACH;FMTTYPE=image/jpeg:https://discover-rutland.co.uk/wp-content/uploads/2026/04/Jungle-Book-poster-1.jpg
END:VEVENT
BEGIN:VEVENT
DTSTART;TZID=Europe/London:20260822T100000
DTEND;TZID=Europe/London:20260822T150000
DTSTAMP:20260422T021803
CREATED:20260421T063901Z
LAST-MODIFIED:20260421T121953Z
UID:38753-1787392800-1787410800@discover-rutland.co.uk
SUMMARY:Family Drop In Day - Pond Dipping\, Bug Hunting and Crafts
DESCRIPTION:Come and join us at the Nature Reserve to see what you can discover with pond dipping and bug hunting —perfect for curious minds of all ages! \nAfterwards\, get creative with wildlife crafts to take home as a special memory of your day. \nBooking not required\, just turn up and join in! \nPre-book online for a discounted price. \n  \nThe drop in day is running from 10:00-15:00. You can attend at any time during these times. \nWe advise you arrive before 14:00 to get the most out of the day.\nCrafts running throughout the day. Pond dipping starts on the half hour each hour.
URL:https://discover-rutland.co.uk/event/family-drop-in-day-pond-dipping-bug-hunting-and-crafts-3/
LOCATION:The Anglian Water Bird Watching Centre\, Oakham\, Rutland\, LE15 8BT\, United Kingdom
CATEGORIES:Experiences & Workshops,Family Friendly,Outdoors
ATTACH;FMTTYPE=image/jpeg:https://discover-rutland.co.uk/wp-content/uploads/2026/04/Drop-in-day-3.jpg
END:VEVENT
BEGIN:VEVENT
DTSTART;TZID=Europe/London:20260822T120000
DTEND;TZID=Europe/London:20260823T160000
DTSTAMP:20260422T021803
CREATED:20260225T141432Z
LAST-MODIFIED:20260225T141736Z
UID:35501-1787400000-1787500800@discover-rutland.co.uk
SUMMARY:Jazz in the Gardens
DESCRIPTION:Jazz in the Gardens\n\n\n\nEnjoy a toe-tapping afternoon of jazz in Burghley’s beautiful gardens\n\n\n\n\n\nSpend a summer’s afternoon in Burghley’s Sculpture Garden listening to the swinging sounds of local Dixieland jazz group\, the Stamford Stompers. Bring the whole family along\, roll out a blanket and soak up the sublime atmosphere. With a soundtrack that will have everyone bopping along – even the littlest of dancers won’t be able to resist joining in! Listen to the Stompers as they perform a wonderfully wide repertoire of classic New Orleans jazz with instruments that include a banjo\, string bass\, clarinet\, trumpet\, and guitar. \nDuring your visit take in the beauty of the Gardens in full summer bloom or let the little ones run wild in Hide & Secrets Adventure Play. The Gardens and Adventure Play are open from 10am to 5pm with the Stamford Stompers performing from 12 noon to 4pm.
URL:https://discover-rutland.co.uk/event/jazz-in-the-gardens-copy/
LOCATION:Burghley House\, Peterborough\, Stamford\, PE93JY\, United Kingdom
CATEGORIES:Arts & Performances,Family Friendly
ATTACH;FMTTYPE=image/webp:https://discover-rutland.co.uk/wp-content/uploads/2026/02/Cut_flower_garden_f2c076154337121741e3dcba94f1c2b4.webp
END:VEVENT
BEGIN:VEVENT
DTSTART;VALUE=DATE:20260829
DTEND;VALUE=DATE:20260831
DTSTAMP:20260422T021803
CREATED:20260105T145811Z
LAST-MODIFIED:20260105T145859Z
UID:33120-1787961600-1788134399@discover-rutland.co.uk
SUMMARY:Thomas Branch Line Weekends
DESCRIPTION:A Day Out with Thomas on His Very Own Branch Line\nJoin Thomas for a delightful journey along his countryside branch line to Yarwell\, passing through the famous Wansford Tunnel. With plenty to see and do across the railway\, it’s the perfect family day out. \nAbout the Experience\nAll Thomas Branch Line trains are hauled by Thomas himself\, taking you from Wansford to Yarwell and back throughout the day.\nFor full Thomas departure times\, please refer to our timetable. \n\nWhat’s Included & What You Can See\n• Thomas will pull all services between Wansford and Yarwell\n• Travel on the main train to Peterborough (requires a Freedom Travel Day Pass for adults and children aged 3+)\n• On-train Buffet Car\n• Join the main train at any of our stations\n• Miniature Railway Rides (subject to weather and volunteer availability)\n• Wansford Café serving breakfasts 09:00–10:30\, followed by lunches\, cakes\, ice creams and hot/cold drinks\n• Wansford Gift Shop with a wide range of gifts\, toys — and plenty of Thomas merchandise\n• Charity Shop at Wansford\n• Outdoor Children’s Play Area and riverside picnic space at Wansford \nTicket Prices\nAdult / Senior: £7.00\nChild (3–15 years): £7.00\nToddler (1–2 years): £7.00\nBaby (Under 1 year): Free\nDog: £2.00 \nWhat Your Ticket Includes\nAn all-day ticket on Thomas’s branch line allows unlimited travel on your chosen — or all — Thomas shuttles between Wansford and Yarwell. \nIf you wish to travel on the main line train to Peterborough as well as on Thomas’s shuttles\, you will need to purchase a Freedom Travel Day Pass.\nYour Day Pass covers unlimited travel on the full line plus all Thomas shuttles for ages 3+. \n\nAges 1–2 require only the £7 Thomas ticket\nUnder 1s travel free on both Thomas and the main train
URL:https://discover-rutland.co.uk/event/thomas-branch-line-weekends-copy-copy-copy-copy-copy-copy/
LOCATION:Nene Valley Railway\, Wansford Station\, Stibbington\, Peterborough\, PE8 6LR
CATEGORIES:Family Friendly
ATTACH;FMTTYPE=image/jpeg:https://discover-rutland.co.uk/wp-content/uploads/2026/01/THOMAS-TTT.jpg
END:VEVENT
BEGIN:VEVENT
DTSTART;TZID=Europe/London:20260829T100000
DTEND;TZID=Europe/London:20260831T170000
DTSTAMP:20260422T021803
CREATED:20260224T145459Z
LAST-MODIFIED:20260224T150739Z
UID:35365-1787997600-1788195600@discover-rutland.co.uk
SUMMARY:Stapleford Miniature Railway Open Weekend
DESCRIPTION:Stapleford Miniature Railway hosts two open weekends each year\, head to the Stapleford Estate on 29-31 August 2026 for a vintage family atmosphere\, featuring classic cars\, motorcycles\, tractors\, caravans\, fairground rides\, stalls\, food vendors and more. \nAdults £6\nChildren £4\nunder 5’s free\nTrain rides £4 each \nFree car parking\nWeekend camping available
URL:https://discover-rutland.co.uk/event/stapleford-miniature-railway-open-weekend/
LOCATION:Stapleford Miniature Railway\, Stapleford\, LE14 2SF
CATEGORIES:Family Friendly,Outdoors
ATTACH;FMTTYPE=image/jpeg:https://discover-rutland.co.uk/wp-content/uploads/2026/02/stapleford-miniature-railway.jpg
ORGANIZER;CN="Stapleford Miniature Railway":MAILTO:events@fsmr.co.uk
END:VEVENT
BEGIN:VEVENT
DTSTART;TZID=Europe/London:20260831T110000
DTEND;TZID=Europe/London:20260831T160000
DTSTAMP:20260422T021803
CREATED:20260225T143551Z
LAST-MODIFIED:20260225T143551Z
UID:35512-1788174000-1788192000@discover-rutland.co.uk
SUMMARY:Birds of Prey Day
DESCRIPTION:Get up close to fascinating birds of prey\n\n\n\n\n\nCome and meet a variety of beautiful birds of prey including eagles\, hawks\, falcons and owls who will be making Burghley Sculpture Garden home for the day. Chat to knowledgeable falconry experts to learn all about these amazing birds. A great opportunity to view a selection of birds up close\, ask questions and take some great photos. \nThe birds of prey display will be located in the amphitheatre area of the Sculpture Garden from 11am to 4pm\, with a fascinating falconry talk at 12 noon and 2pm. Make sure to drop by during your visit to the Gardens or Adventure Play.
URL:https://discover-rutland.co.uk/event/birds-of-prey-day/
LOCATION:Burghley House\, Peterborough\, Stamford\, PE93JY\, United Kingdom
CATEGORIES:Experiences & Workshops,Family Friendly,Outdoors
ATTACH;FMTTYPE=image/webp:https://discover-rutland.co.uk/wp-content/uploads/2026/02/birdofprey_owl_616b2c32fb7bb9679ad560fc61635847.webp
END:VEVENT
BEGIN:VEVENT
DTSTART;TZID=Europe/London:20260920T100000
DTEND;TZID=Europe/London:20260920T160000
DTSTAMP:20260422T021803
CREATED:20250925T052851Z
LAST-MODIFIED:20260304T075005Z
UID:29060-1789898400-1789920000@discover-rutland.co.uk
SUMMARY:Rutland Food & Drink Festival
DESCRIPTION:The Rutland Food & Drink Festival is a family-friendly event held in the centre of Oakham against the majestic backdrop of Oakham Castle\, offering a variety of food\, drink\, and craft stalls. \nWith a mix of sweet and savoury treats\, drinks to try\, and a welcoming atmosphere\, it’s a pleasant way to spend a few hours exploring what’s on offer. \nFree to attend and open to all (including well-behaved dogs). \nRan by Carolyn Acton Events
URL:https://discover-rutland.co.uk/event/rutland-food-drink-festival/
LOCATION:Oakham Castle\, Castle Grounds Market Place\, Oakham\, LE15 6DR\, United Kingdom
CATEGORIES:Discover Rutland Food and Drink Week 2025,Family Friendly,Fete / Fair / Festival,Food & Drink
ATTACH;FMTTYPE=image/png:https://discover-rutland.co.uk/wp-content/uploads/2025/08/Food-and-Drink-Festival.png
END:VEVENT
BEGIN:VEVENT
DTSTART;VALUE=DATE:20260926
DTEND;VALUE=DATE:20260928
DTSTAMP:20260422T021803
CREATED:20260105T145910Z
LAST-MODIFIED:20260120T085507Z
UID:33122-1790380800-1790553599@discover-rutland.co.uk
SUMMARY:Thomas Branch Line Weekends
DESCRIPTION:A Day Out with Thomas on His Very Own Branch Line\nJoin Thomas for a delightful journey along his countryside branch line to Yarwell\, passing through the famous Wansford Tunnel. With plenty to see and do across the railway\, it’s the perfect family day out. \nAbout the Experience\nAll Thomas Branch Line trains are hauled by Thomas himself\, taking you from Wansford to Yarwell and back throughout the day.\nFor full Thomas departure times\, please refer to our timetable. \n\nWhat’s Included & What You Can See\n• Thomas will pull all services between Wansford and Yarwell\n• Travel on the main train to Peterborough (requires a Freedom Travel Day Pass for adults and children aged 3+)\n• On-train Buffet Car\n• Join the main train at any of our stations\n• Miniature Railway Rides (subject to weather and volunteer availability)\n• Wansford Café serving breakfasts 09:00–10:30\, followed by lunches\, cakes\, ice creams and hot/cold drinks\n• Wansford Gift Shop with a wide range of gifts\, toys — and plenty of Thomas merchandise\n• Charity Shop at Wansford\n• Outdoor Children’s Play Area and riverside picnic space at Wansford \nTicket Prices\nAdult / Senior: £7.00\nChild (3–15 years): £7.00\nToddler (1–2 years): £7.00\nBaby (Under 1 year): Free\nDog: £2.00 \nWhat Your Ticket Includes\nAn all-day ticket on Thomas’s branch line allows unlimited travel on your chosen — or all — Thomas shuttles between Wansford and Yarwell. \nIf you wish to travel on the main line train to Peterborough as well as on Thomas’s shuttles\, you will need to purchase a Freedom Travel Day Pass.\nYour Day Pass covers unlimited travel on the full line plus all Thomas shuttles for ages 3+. \n\nAges 1–2 require only the £7 Thomas ticket\nUnder 1s travel free on both Thomas and the main train
URL:https://discover-rutland.co.uk/event/thomas-branch-line-weekends-copy-copy-copy-copy-copy-copy-copy/
LOCATION:Nene Valley Railway\, Wansford Station\, Stibbington\, Peterborough\, PE8 6LR
CATEGORIES:Family Friendly
ATTACH;FMTTYPE=image/jpeg:https://discover-rutland.co.uk/wp-content/uploads/2026/01/THOMAS-TTT.jpg
END:VEVENT
BEGIN:VEVENT
DTSTART;VALUE=DATE:20261017
DTEND;VALUE=DATE:20261102
DTSTAMP:20260422T021803
CREATED:20260225T144416Z
LAST-MODIFIED:20260225T144449Z
UID:35524-1792195200-1793577599@discover-rutland.co.uk
SUMMARY:The Burghley Halloween Trail
DESCRIPTION:Our spooktacular Halloween Trail returns this October half term. Can you find the ghosts hiding around Burghley’s Sculpture Garden? \n\n\n\n\nGet the whole family together to follow the ghoulish trail\, collecting clues as you go. Crunch through Autumn leaves and creep along hidden pathways to complete the trail sheet and be rewarded with a tasty treat.
URL:https://discover-rutland.co.uk/event/the-burghley-halloween-trail/
LOCATION:Burghley House\, Peterborough\, Stamford\, PE93JY\, United Kingdom
CATEGORIES:Family Friendly,Seasonal
ATTACH;FMTTYPE=image/webp:https://discover-rutland.co.uk/wp-content/uploads/2026/02/Burghley_Halloween-Trail_616b2c32fb7bb9679ad560fc61635847.webp
END:VEVENT
BEGIN:VEVENT
DTSTART;VALUE=DATE:20261031
DTEND;VALUE=DATE:20261102
DTSTAMP:20260422T021803
CREATED:20260105T150048Z
LAST-MODIFIED:20260105T150135Z
UID:33124-1793404800-1793577599@discover-rutland.co.uk
SUMMARY:Thomas Branch Line Weekends
DESCRIPTION:A Day Out with Thomas on His Very Own Branch Line\nJoin Thomas for a delightful journey along his countryside branch line to Yarwell\, passing through the famous Wansford Tunnel. With plenty to see and do across the railway\, it’s the perfect family day out. \nAbout the Experience\nAll Thomas Branch Line trains are hauled by Thomas himself\, taking you from Wansford to Yarwell and back throughout the day.\nFor full Thomas departure times\, please refer to our timetable. \n\nWhat’s Included & What You Can See\n• Thomas will pull all services between Wansford and Yarwell\n• Travel on the main train to Peterborough (requires a Freedom Travel Day Pass for adults and children aged 3+)\n• On-train Buffet Car\n• Join the main train at any of our stations\n• Miniature Railway Rides (subject to weather and volunteer availability)\n• Wansford Café serving breakfasts 09:00–10:30\, followed by lunches\, cakes\, ice creams and hot/cold drinks\n• Wansford Gift Shop with a wide range of gifts\, toys — and plenty of Thomas merchandise\n• Charity Shop at Wansford\n• Outdoor Children’s Play Area and riverside picnic space at Wansford \nTicket Prices\nAdult / Senior: £7.00\nChild (3–15 years): £7.00\nToddler (1–2 years): £7.00\nBaby (Under 1 year): Free\nDog: £2.00 \nWhat Your Ticket Includes\nAn all-day ticket on Thomas’s branch line allows unlimited travel on your chosen — or all — Thomas shuttles between Wansford and Yarwell. \nIf you wish to travel on the main line train to Peterborough as well as on Thomas’s shuttles\, you will need to purchase a Freedom Travel Day Pass.\nYour Day Pass covers unlimited travel on the full line plus all Thomas shuttles for ages 3+. \n\nAges 1–2 require only the £7 Thomas ticket\nUnder 1s travel free on both Thomas and the main train
URL:https://discover-rutland.co.uk/event/thomas-branch-line-weekends-copy-copy-copy-copy-copy-copy-copy-copy/
LOCATION:Nene Valley Railway\, Wansford Station\, Stibbington\, Peterborough\, PE8 6LR
CATEGORIES:Family Friendly
ATTACH;FMTTYPE=image/jpeg:https://discover-rutland.co.uk/wp-content/uploads/2026/01/THOMAS-TTT.jpg
END:VEVENT
END:VCALENDAR