BEGIN:VCALENDAR
VERSION:2.0
PRODID:-//Discover Rutland - ECPv6.15.12.2//NONSGML v1.0//EN
CALSCALE:GREGORIAN
METHOD:PUBLISH
X-ORIGINAL-URL:https://discover-rutland.co.uk
X-WR-CALDESC:Events for Discover Rutland
REFRESH-INTERVAL;VALUE=DURATION:PT1H
X-Robots-Tag:noindex
X-PUBLISHED-TTL:PT1H
BEGIN:VTIMEZONE
TZID:Europe/London
BEGIN:DAYLIGHT
TZOFFSETFROM:+0000
TZOFFSETTO:+0100
TZNAME:BST
DTSTART:20250330T010000
END:DAYLIGHT
BEGIN:STANDARD
TZOFFSETFROM:+0100
TZOFFSETTO:+0000
TZNAME:GMT
DTSTART:20251026T010000
END:STANDARD
BEGIN:DAYLIGHT
TZOFFSETFROM:+0000
TZOFFSETTO:+0100
TZNAME:BST
DTSTART:20260329T010000
END:DAYLIGHT
BEGIN:STANDARD
TZOFFSETFROM:+0100
TZOFFSETTO:+0000
TZNAME:GMT
DTSTART:20261025T010000
END:STANDARD
BEGIN:DAYLIGHT
TZOFFSETFROM:+0000
TZOFFSETTO:+0100
TZNAME:BST
DTSTART:20270328T010000
END:DAYLIGHT
BEGIN:STANDARD
TZOFFSETFROM:+0100
TZOFFSETTO:+0000
TZNAME:GMT
DTSTART:20271031T010000
END:STANDARD
END:VTIMEZONE
BEGIN:VEVENT
DTSTART;TZID=Europe/London:20260424T183000
DTEND;TZID=Europe/London:20260424T210000
DTSTAMP:20260421T150040
CREATED:20260317T144753Z
LAST-MODIFIED:20260413T075752Z
UID:37535-1777055400-1777064400@discover-rutland.co.uk
SUMMARY:Nose-to-Tail Hoggett Dining Experience at Rutland Hall
DESCRIPTION:Rutland Hall Hotel & Spa invites you to a unique culinary evening celebrating the art of nose-to-tail dining. \nThis exclusive Hoggett dining experience showcases a thoughtfully curated multi-course menu\, where each dish highlights different cuts of the animal. With a focus on sustainability and creativity\, our chefs bring together bold flavours\, refined techniques\, and carefully sourced ingredients. \nPerfect for food lovers seeking something a little different\, this intimate evening promises a relaxed atmosphere\, exceptional food\, and a memorable dining experience. \nEvent Details:Date: Friday 24th April 2026Time: 6:30 pmPrice: £39.50 per personLocation: Apple Blossom Suite\, Rutland Hall Hotel & Spa \nBooking:Call 01572 757 901 or email reservations@rutlandhall.co.uk
URL:https://discover-rutland.co.uk/event/nose-to-tail-hoggett-dining-experience-at-rutland-hall/
LOCATION:Rutland Hall Hotel\, Oakham\, Rutland\, LE15 8AB\, United Kingdom
CATEGORIES:Family Friendly,Food & Drink,Seasonal
ATTACH;FMTTYPE=image/jpeg:https://discover-rutland.co.uk/wp-content/uploads/2026/03/Sunday-Lunch-March-2026-1-1920x1320.jpg-2.jpg
END:VEVENT
BEGIN:VEVENT
DTSTART;VALUE=DATE:20260425
DTEND;VALUE=DATE:20260427
DTSTAMP:20260421T150040
CREATED:20260105T145337Z
LAST-MODIFIED:20260105T145428Z
UID:33112-1777075200-1777247999@discover-rutland.co.uk
SUMMARY:Thomas Branch Line Weekends
DESCRIPTION:A Day Out with Thomas on His Very Own Branch Line\nJoin Thomas for a delightful journey along his countryside branch line to Yarwell\, passing through the famous Wansford Tunnel. With plenty to see and do across the railway\, it’s the perfect family day out. \nAbout the Experience\nAll Thomas Branch Line trains are hauled by Thomas himself\, taking you from Wansford to Yarwell and back throughout the day.\nFor full Thomas departure times\, please refer to our timetable. \n\nWhat’s Included & What You Can See\n• Thomas will pull all services between Wansford and Yarwell\n• Travel on the main train to Peterborough (requires a Freedom Travel Day Pass for adults and children aged 3+)\n• On-train Buffet Car\n• Join the main train at any of our stations\n• Miniature Railway Rides (subject to weather and volunteer availability)\n• Wansford Café serving breakfasts 09:00–10:30\, followed by lunches\, cakes\, ice creams and hot/cold drinks\n• Wansford Gift Shop with a wide range of gifts\, toys — and plenty of Thomas merchandise\n• Charity Shop at Wansford\n• Outdoor Children’s Play Area and riverside picnic space at Wansford \nTicket Prices\nAdult / Senior: £7.00\nChild (3–15 years): £7.00\nToddler (1–2 years): £7.00\nBaby (Under 1 year): Free\nDog: £2.00 \nWhat Your Ticket Includes\nAn all-day ticket on Thomas’s branch line allows unlimited travel on your chosen — or all — Thomas shuttles between Wansford and Yarwell. \nIf you wish to travel on the main line train to Peterborough as well as on Thomas’s shuttles\, you will need to purchase a Freedom Travel Day Pass.\nYour Day Pass covers unlimited travel on the full line plus all Thomas shuttles for ages 3+. \n\nAges 1–2 require only the £7 Thomas ticket\nUnder 1s travel free on both Thomas and the main train
URL:https://discover-rutland.co.uk/event/thomas-branch-line-weekends-copy-copy/
LOCATION:Nene Valley Railway\, Wansford Station\, Stibbington\, Peterborough\, PE8 6LR
CATEGORIES:Family Friendly
ATTACH;FMTTYPE=image/jpeg:https://discover-rutland.co.uk/wp-content/uploads/2026/01/THOMAS-TTT.jpg
END:VEVENT
BEGIN:VEVENT
DTSTART;VALUE=DATE:20260426
DTEND;VALUE=DATE:20260427
DTSTAMP:20260421T150040
CREATED:20251009T105409Z
LAST-MODIFIED:20251120T142005Z
UID:29763-1777161600-1777247999@discover-rutland.co.uk
SUMMARY:CiCLE Classic
DESCRIPTION:The CiCLE Classic is Britain’s own Belgian classic style race. It has everything – farm tracks\, steep inclines\, competitive racing and a gruelling drive to the line. \nFirst held in 2005 as a national level race within the British Cycling Premier Calendar series at that time\, by 2007 the Rutland-Melton CiCLE Classic was added to the UCI international calendar as a class 1.2 event. It has remained Britain’s only one day race for elite men within the UCI Europe Tour calendar since that time. \nHaving existed for over 20 years the race is now the longest ever running single day international race in the history of British cycle sport. CiCLE Classic is THE British Classic. \nAimed at breaking the mold of so many British races held over several laps of a single repetitive circuit\, the event was planned as a place to place race emulating the famous Spring classic races of Northern Europe such as the Ronde van Vlaanderen or Paris-Roubaix. \nThe neighbouring and inter-related towns of Oakham in Rutland and Melton Mowbray in Leicestershire continue after 20 years to provide the perfect start and finish venues for the race. \nBeyond the race\, if you want to stay longer and discover our amazing county\, check out our Guide.
URL:https://discover-rutland.co.uk/event/cicle-classic/
LOCATION:Oakham\, High Street\, oakham\, LE15 6
CATEGORIES:Family Friendly,Outdoors,Sporting
ATTACH;FMTTYPE=image/jpeg:https://discover-rutland.co.uk/wp-content/uploads/2025/10/hill-climb.jpg
END:VEVENT
BEGIN:VEVENT
DTSTART;VALUE=DATE:20260426
DTEND;VALUE=DATE:20260427
DTSTAMP:20260421T150040
CREATED:20260202T095416Z
LAST-MODIFIED:20260202T095626Z
UID:34636-1777161600-1777247999@discover-rutland.co.uk
SUMMARY:Stilton Cheese Classic Car Run
DESCRIPTION:The Stilton Cheese Classic Car Run will roar back to life on Sunday 26 April 2026\, once again bringing together classic-car owners\, families and motoring fans for a nostalgic journey through the Rutland countryside\, and this year promises to be bigger and better than ever. \nOrganised by Uppingham First\, the run will begin with a gathering at the historic Falcon Hotel in Uppingham. From there\, participants will follow the traditional route; once traversed by horse-drawn carriages delivering cheese. \nThere will be the very much anticipated stop off at New Lodge Farm Bulwick to rest\, recharge and socialise. They have all your food and drink requirements covered. \nWhy It’s More Special This Year \nFor classic-car enthusiasts and curious newcomers alike – whether you own a vintage vehicle or simply enjoy seeing classic cars in action\, the Stilton Car Run offers something for everyone: beautiful scenery\, friendly camaraderie and a slice of motoring heritage. \nWhat You Need to Know \nDate: Sunday 26th April 2026 \nMeet-up point: Falcon Hotel\, Uppingham — morning assembly before starting the run. \nEntry: Open now — car owners interested in registering should sign up soon to guarantee a place; spectators are warmly encouraged to come along and enjoy the spectacle. \n“After last year’s fantastic turnout\, we’re thrilled to bring the Stilton Car Run back for 2026” \nPlease head to https://stiltoncheeserun.uk to sign up.
URL:https://discover-rutland.co.uk/event/stilton-cheese-classic-car-run/
LOCATION:The Falcon Hotel\, High Street East\, Uppingham\, Oakham\, United Kingdom
CATEGORIES:Family Friendly,Outdoors
ATTACH;FMTTYPE=image/jpeg:https://discover-rutland.co.uk/wp-content/uploads/2026/02/Screenshot-2026-01-29-173047.jpg
END:VEVENT
END:VCALENDAR