BEGIN:VCALENDAR
VERSION:2.0
PRODID:-//Discover Rutland - ECPv6.15.12.2//NONSGML v1.0//EN
CALSCALE:GREGORIAN
METHOD:PUBLISH
X-WR-CALNAME:Discover Rutland
X-ORIGINAL-URL:https://discover-rutland.co.uk
X-WR-CALDESC:Events for Discover Rutland
REFRESH-INTERVAL;VALUE=DURATION:PT1H
X-Robots-Tag:noindex
X-PUBLISHED-TTL:PT1H
BEGIN:VTIMEZONE
TZID:Europe/London
BEGIN:DAYLIGHT
TZOFFSETFROM:+0000
TZOFFSETTO:+0100
TZNAME:BST
DTSTART:20250330T010000
END:DAYLIGHT
BEGIN:STANDARD
TZOFFSETFROM:+0100
TZOFFSETTO:+0000
TZNAME:GMT
DTSTART:20251026T010000
END:STANDARD
BEGIN:DAYLIGHT
TZOFFSETFROM:+0000
TZOFFSETTO:+0100
TZNAME:BST
DTSTART:20260329T010000
END:DAYLIGHT
BEGIN:STANDARD
TZOFFSETFROM:+0100
TZOFFSETTO:+0000
TZNAME:GMT
DTSTART:20261025T010000
END:STANDARD
BEGIN:DAYLIGHT
TZOFFSETFROM:+0000
TZOFFSETTO:+0100
TZNAME:BST
DTSTART:20270328T010000
END:DAYLIGHT
BEGIN:STANDARD
TZOFFSETFROM:+0100
TZOFFSETTO:+0000
TZNAME:GMT
DTSTART:20271031T010000
END:STANDARD
END:VTIMEZONE
BEGIN:VEVENT
DTSTART;VALUE=DATE:20260624
DTEND;VALUE=DATE:20260801
DTSTAMP:20260421T181414
CREATED:20251125T134600Z
LAST-MODIFIED:20260113T072103Z
UID:31909-1782259200-1785542399@discover-rutland.co.uk
SUMMARY:Sweet Pea Season 2026
DESCRIPTION:Treat your senses to the beauty of the sweet pea\, as these unique flowers come into bloom. \nWe’re already looking forward to Sweet Pea Season 2026\, which will be starting on 24th June\, but there’s still plenty to see at Easton Walled Gardens \nFrom the heritage pastel to the heady fragrance\, there’s a world of sweet peas to discover at Easton Walled Gardens.In late June and throughout July\, treat your senses to the visual delights of perfect blooms in stripes\, bicolours\, picotee\, light pastels and deep velvet tones. Then take in the sweet smells that give the sweet pea its scientific name Lathyrus odoratus.
URL:https://discover-rutland.co.uk/event/sweet-pea-season-2026/
LOCATION:Easton Walled Gardens\, Easton\, Grantham\, Lincolnshire\, Rutland\, NG33 5AP\, United Kingdom
CATEGORIES:Family Friendly,Outdoors,Seasonal
ATTACH;FMTTYPE=image/jpeg:https://discover-rutland.co.uk/wp-content/uploads/2025/11/EWG-17.7.16-7-resized-800x530-1.jpg
END:VEVENT
BEGIN:VEVENT
DTSTART;TZID=Europe/London:20260702T100000
DTEND;TZID=Europe/London:20260702T120000
DTSTAMP:20260421T181414
CREATED:20260421T063321Z
LAST-MODIFIED:20260421T124205Z
UID:38731-1782986400-1782993600@discover-rutland.co.uk
SUMMARY:Swift Box Building
DESCRIPTION:Swifts usually arrive in the UK from early May\, enlivening our skies with their swooping\, diving and exuberant cries. See our Swift migration video below to experience their long journey taken to reach our skies. \nSadly\, these aerial masters are on the UK Red list due to their declining numbers here. The reasons behind this loss are complex\, but there are two steps we can take to help: providing suitable nesting sites and ensuring that there are plenty of insects for them to feed on. \n  \nBring the family this half term and create a home for birds at our woodland workshop! \nWork together to create your very own box to take home! \nSession will last approximately 2 hours​. \n  \nAdditional Information \nMaterials provided flat packed and ready to assemble in our classroom.\nSuitable for ages 6+ (all under 18’s must be supervised by an adult)
URL:https://discover-rutland.co.uk/event/swift-box-building/
LOCATION:The Anglian Water Bird Watching Centre\, Oakham\, Rutland\, LE15 8BT\, United Kingdom
CATEGORIES:Experiences & Workshops,Family Friendly,Outdoors
ATTACH;FMTTYPE=image/jpeg:https://discover-rutland.co.uk/wp-content/uploads/2026/04/pexels-mahmoud-yahyaoui-21839277.jpg
END:VEVENT
BEGIN:VEVENT
DTSTART;TZID=Europe/London:20260711T163000
DTEND;TZID=Europe/London:20260711T220000
DTSTAMP:20260421T181414
CREATED:20260225T135135Z
LAST-MODIFIED:20260225T135135Z
UID:35482-1783787400-1783807200@discover-rutland.co.uk
SUMMARY:Battle Proms Concert at Burghley House
DESCRIPTION:The 21st annual Battle Proms Picnic Concert: an uplifting celebration of iconic music\, dazzling fireworks and breathtaking displays!\n\n\n\n\n\nPack a picnic and chill the fizz – it’s going to be bigger and better than ever! Join us for stirring music\, fireworks\, Spitfire display\, live cannons\, mounted cavalry\, the Red Devils parachutists and so much more at this unique Vintage Spectacular. \nIf swing is your thing you can get your toes tapping with the gorgeous harmonies and 1940s glamour of the Battle Proms Belles and their superb live band\, and join in with the fabulous moves from the Victory Swing dancers. \nAround the arena you’ll be invited to revive the nostalgia of a bygone era at the fascinating WWII living history displays led by the country’s foremost wartime enthusiasts\, with authentic vintage vehicles\, memorabilia and expert re-enactors. \nEnjoy a glorious orchestral programme of iconic pieces from film\, TV and the musicals alongside uplifting classical music you know and love\, including the 1812 Overture and Beethoven’s ‘Battle Symphony’ complete with 200 live firing cannons\, and much-loved operatic arias from superstar soprano Denise Leigh. The evening closes with a jubilant flag-waving\, sing-along finale with all the traditional proms favourites under a sky of dazzling fireworks! \nFor full programme details and tickets head to the Battle Proms website.
URL:https://discover-rutland.co.uk/event/battle-proms-concert-at-burghley-house/
LOCATION:Burghley House\, Peterborough\, Stamford\, PE93JY\, United Kingdom
CATEGORIES:Experiences & Workshops,Family Friendly,Festivals & Fairs
ATTACH;FMTTYPE=image/webp:https://discover-rutland.co.uk/wp-content/uploads/2026/02/The-Quintessential-Battle-Proms-firework-finale-1_sml_3a203015825df3ffefb2b8ac7fa3a859.webp
END:VEVENT
BEGIN:VEVENT
DTSTART;TZID=Europe/London:20260711T163000
DTEND;TZID=Europe/London:20260711T223000
DTSTAMP:20260421T181414
CREATED:20260224T152658Z
LAST-MODIFIED:20260224T152658Z
UID:35376-1783787400-1783809000@discover-rutland.co.uk
SUMMARY:Battle Proms Picnic Concert
DESCRIPTION:The 21st annual Battle Proms Picnic Concert: an uplifting celebration of iconic music\, dazzling fireworks and breath-taking displays!\n\n\n\n\n\nPack a picnic and chill the fizz – it’s going to be bigger and better than ever! Join us for stirring music\, fireworks\, Spitfire display\, live cannons\, mounted cavalry\, the Red Devils parachutists and so much more at this unique Vintage Spectacular. \nIf swing is your thing you can get your toes tapping with the gorgeous harmonies and 1940s glamour of the Battle Proms Belles and their superb live band\, and join in with the fabulous moves from the Victory Swing dancers. \nAround the arena you’ll be invited to revive the nostalgia of a bygone era at the fascinating WWII living history displays led by the country’s foremost wartime enthusiasts\, with authentic vintage vehicles\, memorabilia and expert re-enactors. \nEnjoy a glorious orchestral programme of iconic pieces from film\, TV and the musicals alongside uplifting classical music you know and love\, including the 1812 Overture and Beethoven’s ‘Battle Symphony’ complete with 200 live firing cannons\, and much-loved operatic arias from superstar soprano Denise Leigh. The evening closes with a jubilant flag-waving\, sing-along finale with all the traditional proms favourites under a sky of dazzling fireworks!
URL:https://discover-rutland.co.uk/event/battle-proms-picnic-concert/
LOCATION:Burghley House\, Peterborough\, Stamford\, PE93JY\, United Kingdom
CATEGORIES:Arts & Performances,Family Friendly,Outdoors
ATTACH;FMTTYPE=image/jpeg:https://discover-rutland.co.uk/wp-content/uploads/2021/11/The-Quintessential-Battle-Proms-firework-finale.jpg
END:VEVENT
BEGIN:VEVENT
DTSTART;VALUE=DATE:20260725
DTEND;VALUE=DATE:20260727
DTSTAMP:20260421T181414
CREATED:20260105T145718Z
LAST-MODIFIED:20260105T145758Z
UID:33118-1784937600-1785110399@discover-rutland.co.uk
SUMMARY:Thomas Branch Line Weekends
DESCRIPTION:A Day Out with Thomas on His Very Own Branch Line\nJoin Thomas for a delightful journey along his countryside branch line to Yarwell\, passing through the famous Wansford Tunnel. With plenty to see and do across the railway\, it’s the perfect family day out. \nAbout the Experience\nAll Thomas Branch Line trains are hauled by Thomas himself\, taking you from Wansford to Yarwell and back throughout the day.\nFor full Thomas departure times\, please refer to our timetable. \n\nWhat’s Included & What You Can See\n• Thomas will pull all services between Wansford and Yarwell\n• Travel on the main train to Peterborough (requires a Freedom Travel Day Pass for adults and children aged 3+)\n• On-train Buffet Car\n• Join the main train at any of our stations\n• Miniature Railway Rides (subject to weather and volunteer availability)\n• Wansford Café serving breakfasts 09:00–10:30\, followed by lunches\, cakes\, ice creams and hot/cold drinks\n• Wansford Gift Shop with a wide range of gifts\, toys — and plenty of Thomas merchandise\n• Charity Shop at Wansford\n• Outdoor Children’s Play Area and riverside picnic space at Wansford \nTicket Prices\nAdult / Senior: £7.00\nChild (3–15 years): £7.00\nToddler (1–2 years): £7.00\nBaby (Under 1 year): Free\nDog: £2.00 \nWhat Your Ticket Includes\nAn all-day ticket on Thomas’s branch line allows unlimited travel on your chosen — or all — Thomas shuttles between Wansford and Yarwell. \nIf you wish to travel on the main line train to Peterborough as well as on Thomas’s shuttles\, you will need to purchase a Freedom Travel Day Pass.\nYour Day Pass covers unlimited travel on the full line plus all Thomas shuttles for ages 3+. \n\nAges 1–2 require only the £7 Thomas ticket\nUnder 1s travel free on both Thomas and the main train
URL:https://discover-rutland.co.uk/event/thomas-branch-line-weekends-copy-copy-copy-copy-copy/
LOCATION:Nene Valley Railway\, Wansford Station\, Stibbington\, Peterborough\, PE8 6LR
CATEGORIES:Family Friendly
ATTACH;FMTTYPE=image/jpeg:https://discover-rutland.co.uk/wp-content/uploads/2026/01/THOMAS-TTT.jpg
END:VEVENT
BEGIN:VEVENT
DTSTART;TZID=Europe/London:20260725T173000
DTEND;TZID=Europe/London:20260725T230000
DTSTAMP:20260421T181414
CREATED:20260225T093029Z
LAST-MODIFIED:20260225T093029Z
UID:35395-1785000600-1785020400@discover-rutland.co.uk
SUMMARY:Classic Ibiza at Burghley
DESCRIPTION:A night of wholesome euphoria and feel-good atmosphere under the stars\n\n\n\n\n\nParty the night away to Classic Ibiza anthems under the stars in a family friendly environment with the beautiful backdrop of Burghley House. Classic Ibiza is a symphony for your senses. Join us on a magical rollercoaster ride of dance music’s most iconic tracks straight from the White Isle. All the family are guaranteed a night to remember.\nWitness the Urban Soul Orchestra\, world class DJs and a host of critically acclaimed vocalists bring a heady blend of Balearic beats to life in the beautiful grounds of Burghley House. Classic Ibiza starts with a chill-out set where you can enjoy your picnics and a drink\, or dance along as the sun fades. The DJ turns things up in the interval\, getting you into the mood before the Urban Soul Orchestra and vocalists return to the stage to bring a vibrant atmosphere to the summer evening. One classic dance track will follow another\, as the delightful outdoor setting of Burghley turns into a magical\, alfresco celebration\, with accompanying lasers.
URL:https://discover-rutland.co.uk/event/classic-ibiza-at-burghley/
LOCATION:Burghley House\, Peterborough\, Stamford\, PE93JY\, United Kingdom
CATEGORIES:Arts & Performances,Family Friendly,Outdoors
ATTACH;FMTTYPE=image/jpeg:https://discover-rutland.co.uk/wp-content/uploads/2022/01/Classic-Ibiza.jpg
END:VEVENT
BEGIN:VEVENT
DTSTART;TZID=Europe/London:20260726T110000
DTEND;TZID=Europe/London:20260726T160000
DTSTAMP:20260421T181414
CREATED:20260204T074414Z
LAST-MODIFIED:20260204T074414Z
UID:34691-1785063600-1785081600@discover-rutland.co.uk
SUMMARY:Fairy Day at Rockingham Castle
DESCRIPTION:Sparkles and wands at the ready!\nA wonderfully enchanting day awaits you at Rockingham Castle on Sunday 26th July! \nEmbark on a magical adventure through the Wild Garden! Seek out the tiny fairy doors and discover which Rockingham fairies\, pixies\, or elves make their home here! \nIf you’re very lucky\, you might catch a glimpse of the Rockingham Woodland Fairies as you venture through the gardens and grounds. They will be here to meet you between 11am – 3pm\, and are always delighted to stop for a chat and a photo. \nLet your adventure continue inside the Castle – follow the Toadstool Trail to discover the secret word. \nTutus and tiaras\, fairy wings and magic wands – the Rockingham fairies would love to see your most sparkly fairy fancy dress outfits. Sturdy outdoor footwear is advised. The Wild Garden has areas of uneven ground and get muddy and slippery when it has rained – it’s a good job that tutus look great with wellies! Be sure to check the forecast before choosing your outfit. \nWalkers House Tearoom will be serving an enchanting selection of cakes\, sweet treats\, and light lunches.
URL:https://discover-rutland.co.uk/event/fairy-day-at-rockingham-castle/
LOCATION:Rockingham Castle\, Rockingham Castle Estate\, Market Harborough\, LE16 8TH\, United Kingdom
CATEGORIES:Family Friendly,Outdoors,Seasonal
ATTACH;FMTTYPE=image/jpeg:https://discover-rutland.co.uk/wp-content/uploads/2026/02/Fairy-Event-2023-35-of-58.jpg
END:VEVENT
BEGIN:VEVENT
DTSTART;VALUE=DATE:20260730
DTEND;VALUE=DATE:20260816
DTSTAMP:20260421T181414
CREATED:20260225T093743Z
LAST-MODIFIED:20260324T102659Z
UID:35398-1785369600-1786838399@discover-rutland.co.uk
SUMMARY:Cirquoise at Gates Garden Centre
DESCRIPTION:For the third year running\, much-loved Cirquoise returns! A cast of extraordinary artistes creates a magical\, family-friendly spectacular blending high-energy performances\, jaw-dropping skills and an electric atmosphere.
URL:https://discover-rutland.co.uk/event/cirquoise-at-gates-garden-centre/
LOCATION:Gates Garden Centre\, Somerby Road\,\, Cold Overton\,\, LE15 7QB
CATEGORIES:Arts & Performances,Family Friendly
ATTACH;FMTTYPE=image/webp:https://discover-rutland.co.uk/wp-content/uploads/2026/02/cirquoise-gates.webp
END:VEVENT
END:VCALENDAR