BEGIN:VCALENDAR
VERSION:2.0
PRODID:-//Discover Rutland - ECPv6.15.12.2//NONSGML v1.0//EN
CALSCALE:GREGORIAN
METHOD:PUBLISH
X-ORIGINAL-URL:https://discover-rutland.co.uk
X-WR-CALDESC:Events for Discover Rutland
REFRESH-INTERVAL;VALUE=DURATION:PT1H
X-Robots-Tag:noindex
X-PUBLISHED-TTL:PT1H
BEGIN:VTIMEZONE
TZID:Europe/London
BEGIN:DAYLIGHT
TZOFFSETFROM:+0000
TZOFFSETTO:+0100
TZNAME:BST
DTSTART:20250330T010000
END:DAYLIGHT
BEGIN:STANDARD
TZOFFSETFROM:+0100
TZOFFSETTO:+0000
TZNAME:GMT
DTSTART:20251026T010000
END:STANDARD
BEGIN:DAYLIGHT
TZOFFSETFROM:+0000
TZOFFSETTO:+0100
TZNAME:BST
DTSTART:20260329T010000
END:DAYLIGHT
BEGIN:STANDARD
TZOFFSETFROM:+0100
TZOFFSETTO:+0000
TZNAME:GMT
DTSTART:20261025T010000
END:STANDARD
BEGIN:DAYLIGHT
TZOFFSETFROM:+0000
TZOFFSETTO:+0100
TZNAME:BST
DTSTART:20270328T010000
END:DAYLIGHT
BEGIN:STANDARD
TZOFFSETFROM:+0100
TZOFFSETTO:+0000
TZNAME:GMT
DTSTART:20271031T010000
END:STANDARD
END:VTIMEZONE
BEGIN:VEVENT
DTSTART;VALUE=DATE:20260605
DTEND;VALUE=DATE:20260608
DTSTAMP:20260421T164558
CREATED:20260225T125536Z
LAST-MODIFIED:20260225T125829Z
UID:35439-1780617600-1780876799@discover-rutland.co.uk
SUMMARY:Adventure Cinema
DESCRIPTION:Join us for an unforgettable open-air cinema experience\n\n\n\n\nGet ready for a weekend of big-screen favourites\, feel-good sing-alongs and unforgettable shared moments beneath the summer sky. \nFrom family favourites and musical spectaculars to cinematic classics and concert screenings\, the Adventure Cinema programme at Burghley offers something for everyone. With the splendour of Burghley House as the backdrop\, don’t miss the chance to see your favourites including Wicked Sing-A-Long\, Mamma Mia ExtrABBAganza alongside Pride & Prejudice in the very setting where it was filmed\, giving you the rare chance to step straight into the story. \nThere’s something undeniably special about watching a film outdoors\, surrounded by hundreds of fellow film fans. So pack a picnic\, chairs and a blanket\, gather your friends and family\, and settle in for an experience filled with laughter\, music and an unbeatable atmosphere. \nA range of delicious street food options and a fully stocked bar will be available – perfectly paired with a movie under the sun and stars.
URL:https://discover-rutland.co.uk/event/adventure-cinema/
LOCATION:Burghley House\, Peterborough\, Stamford\, PE93JY\, United Kingdom
CATEGORIES:Arts & Performances,Family Friendly
ATTACH;FMTTYPE=image/jpeg:https://discover-rutland.co.uk/wp-content/uploads/2026/02/Adventure-Cinema-2.jpg
END:VEVENT
BEGIN:VEVENT
DTSTART;TZID=Europe/London:20260605T180000
DTEND;TZID=Europe/London:20260605T223000
DTSTAMP:20260421T164558
CREATED:20260225T130117Z
LAST-MODIFIED:20260225T130117Z
UID:35442-1780682400-1780698600@discover-rutland.co.uk
SUMMARY:Wicked Sing-A-Long (PG)
DESCRIPTION:Adventure Cinema at Burghley House\n\nStep into the magical world of Wicked under the stars\, sing along to every unforgettable song\, and be spellbound as this beloved story comes to life on the big screen. \nFriday 5 June \nGates open 6pm | Film begins 7.30pm | Film ends 10.10pm
URL:https://discover-rutland.co.uk/event/wicked-sing-a-long-pg/
LOCATION:Burghley House\, Peterborough\, Stamford\, PE93JY\, United Kingdom
CATEGORIES:Arts & Performances,Family Friendly
ATTACH;FMTTYPE=image/jpeg:https://discover-rutland.co.uk/wp-content/uploads/2026/02/Wicked.jpg
END:VEVENT
BEGIN:VEVENT
DTSTART;TZID=Europe/London:20260606T120000
DTEND;TZID=Europe/London:20260606T153000
DTSTAMP:20260421T164558
CREATED:20260225T130301Z
LAST-MODIFIED:20260225T130301Z
UID:35445-1780747200-1780759800@discover-rutland.co.uk
SUMMARY:Sing\, Adventure Cinema\, Burghley House
DESCRIPTION:Sing (U)\n\nExperience a fantastic animated musical movie about a singing competition\, put together for animals in an attempt to save a theatre. \nSaturday 6 June \nGates open 12 noon | Film begins 1.30pm | Film ends 3.17pm
URL:https://discover-rutland.co.uk/event/sing-adventure-cinema-burghley-house/
LOCATION:Burghley House\, Peterborough\, Stamford\, PE93JY\, United Kingdom
CATEGORIES:Arts & Performances,Family Friendly
ATTACH;FMTTYPE=image/jpeg:https://discover-rutland.co.uk/wp-content/uploads/2026/02/Sing.jpg
END:VEVENT
BEGIN:VEVENT
DTSTART;TZID=Europe/London:20260607T100000
DTEND;TZID=Europe/London:20260607T120000
DTSTAMP:20260421T164558
CREATED:20260225T130653Z
LAST-MODIFIED:20260225T135242Z
UID:35451-1780826400-1780833600@discover-rutland.co.uk
SUMMARY:The Gruffalo & Stick Man\, Adventure Cinema at Burghley House
DESCRIPTION:The Gruffalo & Stick Man (U)\n\nAn amazing family outdoor cinema experience with a double bill of brilliant Julia Donaldson & Axel Scheffler animations. \nSunday 7 June \nGates open 10am | Film begins 11am | Film ends 11.53am
URL:https://discover-rutland.co.uk/event/the-gruffalo-stick-man-adventure-cinema-at-burghley-house/
LOCATION:Burghley House\, Peterborough\, Stamford\, PE93JY\, United Kingdom
CATEGORIES:Arts & Performances,Family Friendly
ATTACH;FMTTYPE=image/jpeg:https://discover-rutland.co.uk/wp-content/uploads/2026/02/The-Gruffalo-1.jpg
END:VEVENT
BEGIN:VEVENT
DTSTART;TZID=Europe/London:20260613T100000
DTEND;TZID=Europe/London:20260614T170000
DTSTAMP:20260421T164558
CREATED:20260224T145345Z
LAST-MODIFIED:20260224T150619Z
UID:35361-1781344800-1781456400@discover-rutland.co.uk
SUMMARY:Models & Miniatures - Steam & Vintage Event
DESCRIPTION:Stapleford Miniature Railway hosts two open weekends each year\, Head to the Stapleford Estate on 13/14 June 2026 for classic cars\, motorcycles\, tractors\, caravans\, fairground rides\, stalls\, food vendors and more. \nUnfortunately due to maintenance work having being delayed due to the wet weather\, the Stapleford miniature steam railway will not be in operation on this occasion. \nAdults £6\nChildren £4\nunder 5’s free
URL:https://discover-rutland.co.uk/event/models-miniatures-steam-vintage-event/
LOCATION:Stapleford Miniature Railway\, Stapleford\, LE14 2SF
CATEGORIES:Family Friendly,Outdoors
ATTACH;FMTTYPE=image/jpeg:https://discover-rutland.co.uk/wp-content/uploads/2026/02/stapleford-miniature-railway.jpg
ORGANIZER;CN="Stapleford Miniature Railway":MAILTO:events@fsmr.co.uk
END:VEVENT
BEGIN:VEVENT
DTSTART;VALUE=DATE:20260614
DTEND;VALUE=DATE:20260615
DTSTAMP:20260421T164558
CREATED:20260226T105729Z
LAST-MODIFIED:20260226T105950Z
UID:35574-1781395200-1781481599@discover-rutland.co.uk
SUMMARY:Uppingham Feast Day
DESCRIPTION:A vibrant celebration that transforms the historic Market Place into Rutland’s ultimate summer party on Sunday 14th June.\n\nThis free\, volunteer-led community event attracts hundreds of visitors for a family-fun day packed with entertainment and local flavour.\n\nLive Music & Entertainment: Enjoy a continuous programme from mid-day until late evening\, featuring everything from jazz and folk to soul\, pop\, and rock across multiple stages.\nA “Feast” for All: The High Street will be lined with an array of food stalls\, offering a wide variety of local and international treats.\nFamily Fun: Children can enjoy varied activities and entertainment throughout the day.\nCrafts & Gifts: Browse unique handmade goods and gifts at the craft fair hosted in the Town Hall.\n\nExperience the best of Uppingham’s community spirit at this “super Sunday” event.
URL:https://discover-rutland.co.uk/event/uppingham-feast-day/
LOCATION:Uppingham\, Uppingham
CATEGORIES:Arts & Performances,Family Friendly,Festivals & Fairs,Food & Drink,Outdoors
ATTACH;FMTTYPE=image/jpeg:https://discover-rutland.co.uk/wp-content/uploads/2022/06/uppingham-feast-day.jpg
END:VEVENT
BEGIN:VEVENT
DTSTART;VALUE=DATE:20260620
DTEND;VALUE=DATE:20260622
DTSTAMP:20260421T164558
CREATED:20260225T131537Z
LAST-MODIFIED:20260225T131537Z
UID:35464-1781913600-1782086399@discover-rutland.co.uk
SUMMARY:Living History Display
DESCRIPTION:Living History Display\n\n\n\nStep into the 17th century\n\n\n\n\n\nExperience the sights\, sounds\, and skills of the English Civil War as Colonel John Pickering’s Regiment of Foote brings history to life at Burghley. This immersive Living History event showcases the crafts\, trades\, and daily life of the mid-1640s\, offering a fascinating journey into the past. \nMeet the soldiers who fought on the side of Parliament as well as their Royalist adversaries\, and discover how they lived while on the march. Learn about the role of soldiers\, the equipment they used\, and how a regiment was structured. There will also be displays of arms\, offering detailed explanations of the weaponry of the time and its role in 17th century life. \nExplore 17th century encampments where re-enactors demonstrate traditional crafts such as wood carving\, spinning\, and candle-making. Engage with history as you handle period objects\, try on traditional clothing\, and discover the realities of life during the Civil War—from domestic routines to the challenges of the time. \nPerfect for history enthusiasts of all ages\, this event offers a unique opportunity to step back in time and experience 17th century life up close!
URL:https://discover-rutland.co.uk/event/living-history-display/
LOCATION:Burghley House\, Peterborough\, Stamford\, PE93JY\, United Kingdom
CATEGORIES:Arts & Performances,Family Friendly,Festivals & Fairs
ATTACH;FMTTYPE=image/jpeg:https://discover-rutland.co.uk/wp-content/uploads/2026/02/Burghley_Living-History5.jpg
END:VEVENT
BEGIN:VEVENT
DTSTART;TZID=Europe/London:20260621T100000
DTEND;TZID=Europe/London:20260621T160000
DTSTAMP:20260421T164558
CREATED:20260326T134841Z
LAST-MODIFIED:20260326T134841Z
UID:37827-1782036000-1782057600@discover-rutland.co.uk
SUMMARY:Fathers Day at Belvoir Castle
DESCRIPTION:This Father’s Day\, treat Dad to a day that’s anything but ordinary. Set within the breathtaking grounds of Belvoir Castle\, our annual celebration brings together great food\, live music\, and entertainment for all ages in a truly memorable setting.  \nFor 2026\, guests can enjoy a varied display of supercars in the morning and an aerial display in the afternoon adding stand out moments and excitement throughout the day. There will be a grand supercar departure procession at 13:30\, with activities continuing into the afternoon.  \nThe castle grounds will be full with activity. Local food traders will be serving a tempting range of dishes\, while gift stalls from local makers offer the perfect opportunity to find something special for Dad. Classic lawn games provide a little friendly competition\, and live music will create the soundtrack to the day\, featuring a mix of country\, folk and rock\, alongside our much-loved resident Belvoir Castle Piper. There will also be opportunities to enter your Dad into competitions and win some special prizes.  \nWith plenty of space to relax\, explore and enjoy the atmosphere\, it’s a day designed for shared moments with family. Whether you’re celebrating a Dad\, Grandad or a father figure\, this is a Father’s Day experience to enjoy together sharing good food\, good company\, and a beautiful setting.  \nFather’s Day event tickets include access to Belvoir Castle’s gardens and grounds.\nFor those wishing to explore the interior of the castle upgrades are available for you to be able to explore everything Belvoir Castle has to offer.  \nCelebrate Father’s Day the Belvoir way this year.  \nTo note:  \n-Aerial display timings will be announced closer to the event date and are subject to weather conditions.  \n-Parking info can be found here: https://www.belvoircastle.com/about/parking. Accessible parking is limited but available by speaking to the visitor hub upon your arrival. 
URL:https://discover-rutland.co.uk/event/fathers-day-at-belvoir-castle/
LOCATION:Belvoir Castle\, Woolsthorpe Rd\,\, Grantham\, Lincolnshire\, NG32 1PA
CATEGORIES:Family Friendly
ATTACH;FMTTYPE=image/jpeg:https://discover-rutland.co.uk/wp-content/uploads/2026/03/Fathers-Day.jpg
END:VEVENT
BEGIN:VEVENT
DTSTART;TZID=Europe/London:20260621T110000
DTEND;TZID=Europe/London:20260621T160000
DTSTAMP:20260421T164558
CREATED:20260204T074302Z
LAST-MODIFIED:20260204T074302Z
UID:34686-1782039600-1782057600@discover-rutland.co.uk
SUMMARY:Medieval Joust at Rockingham Castle
DESCRIPTION:We are thrilled to announce the return of the Knights of Nottingham and the Medieval Sokemen to Rockingham Castle this summer! Join us on Sunday 21st June for another epic joust and living history experience! \nPrepare for action packed day at Rockingham Castle as the Knights of Nottingham and their trusty steeds thunder across the Tilting Lawn once again. Witness sword-swinging action as the brave knights give a momentous display of skill and courage as they battle for victory in front of King Edward IV! \nThe year is 1470 and Edward IV and his entourage are encamped at Rockingham Castle. Experience the sights\, sounds and smells of medieval life. The king’s surgeon and apothecary will be on hand to discuss ailments\, injuries\, and remedies. Discover how the armour and weaponry used in the joust were made and and used – try it on for size! Take in a medieval fashion show\, watch a terrifying ladder of swords display\, and take the time to listen to our story-teller’s fascinating medieval tales! \nDon’t miss the drama and excitement come to life!
URL:https://discover-rutland.co.uk/event/medieval-joust-at-rockingham-castle/
LOCATION:Rockingham Castle\, Rockingham Castle Estate\, Market Harborough\, LE16 8TH\, United Kingdom
CATEGORIES:Arts & Performances,Family Friendly,Outdoors
ATTACH;FMTTYPE=image/jpeg:https://discover-rutland.co.uk/wp-content/uploads/2026/02/Knights-Of-Nottingham-2023-96-of-154.jpg
END:VEVENT
BEGIN:VEVENT
DTSTART;TZID=Europe/London:20260623T100000
DTEND;TZID=Europe/London:20260623T120000
DTSTAMP:20260421T164558
CREATED:20260127T072534Z
LAST-MODIFIED:20260421T122114Z
UID:34374-1782208800-1782216000@discover-rutland.co.uk
SUMMARY:Family Bug Hotel Building
DESCRIPTION:Join us this Insect Awareness Week for a Bug Hotel Building Workshop on 23rd June! \nCome along and create a cosy\, eco‑friendly bug hotel to welcome a variety of beneficial insects into your garden or outdoor space. \nTake your bug hotel home with you!​ \nSession will last approximately 2 hours \nAdditional Information \nMaterials provided flat packed and ready to assemble in our classroom.\nSuitable for ages 6+ (all under 18’s must be supervised by an adult)
URL:https://discover-rutland.co.uk/event/family-bug-hotel-building/
LOCATION:The Anglian Water Bird Watching Centre\, Oakham\, Rutland\, LE15 8BT\, United Kingdom
CATEGORIES:Experiences & Workshops,Family Friendly,Workshops & Courses
ATTACH;FMTTYPE=image/jpeg:https://discover-rutland.co.uk/wp-content/uploads/2026/01/Bug-hotel-thumbnail.jpg
END:VEVENT
BEGIN:VEVENT
DTSTART;TZID=Europe/London:20260623T100000
DTEND;TZID=Europe/London:20260623T150000
DTSTAMP:20260421T164558
CREATED:20260421T062736Z
LAST-MODIFIED:20260421T122127Z
UID:38721-1782208800-1782226800@discover-rutland.co.uk
SUMMARY:Family Bug Hotel Building
DESCRIPTION:Join us this Insect Week for a Bug Hotel Building Workshop on 23rd June! \nCome along and create a cosy\, eco‑friendly bug hotel to welcome a variety of beneficial insects into your garden or outdoor space. \nTake your bug hotel home with you!​ \nSession will last approximately 2 hours \nAdditional Information \nMaterials provided flat packed and ready to assemble in our classroom.\nSuitable for ages 6+ (all under 18’s must be supervised by an adult)
URL:https://discover-rutland.co.uk/event/family-bug-hotel-building-2/
LOCATION:The Anglian Water Bird Watching Centre\, Oakham\, Rutland\, LE15 8BT\, United Kingdom
CATEGORIES:Experiences & Workshops,Family Friendly,Outdoors
ATTACH;FMTTYPE=image/jpeg:https://discover-rutland.co.uk/wp-content/uploads/2026/04/Bug-hotel-thumbnail.jpg
END:VEVENT
BEGIN:VEVENT
DTSTART;VALUE=DATE:20260624
DTEND;VALUE=DATE:20260801
DTSTAMP:20260421T164558
CREATED:20251125T134600Z
LAST-MODIFIED:20260113T072103Z
UID:31909-1782259200-1785542399@discover-rutland.co.uk
SUMMARY:Sweet Pea Season 2026
DESCRIPTION:Treat your senses to the beauty of the sweet pea\, as these unique flowers come into bloom. \nWe’re already looking forward to Sweet Pea Season 2026\, which will be starting on 24th June\, but there’s still plenty to see at Easton Walled Gardens \nFrom the heritage pastel to the heady fragrance\, there’s a world of sweet peas to discover at Easton Walled Gardens.In late June and throughout July\, treat your senses to the visual delights of perfect blooms in stripes\, bicolours\, picotee\, light pastels and deep velvet tones. Then take in the sweet smells that give the sweet pea its scientific name Lathyrus odoratus.
URL:https://discover-rutland.co.uk/event/sweet-pea-season-2026/
LOCATION:Easton Walled Gardens\, Easton\, Grantham\, Lincolnshire\, Rutland\, NG33 5AP\, United Kingdom
CATEGORIES:Family Friendly,Outdoors,Seasonal
ATTACH;FMTTYPE=image/jpeg:https://discover-rutland.co.uk/wp-content/uploads/2025/11/EWG-17.7.16-7-resized-800x530-1.jpg
END:VEVENT
BEGIN:VEVENT
DTSTART;TZID=Europe/London:20260627T100000
DTEND;TZID=Europe/London:20260627T150000
DTSTAMP:20260421T164558
CREATED:20260421T063214Z
LAST-MODIFIED:20260421T121947Z
UID:38726-1782554400-1782572400@discover-rutland.co.uk
SUMMARY:Family Drop In Day - Pond Dipping\, Bug Hunting and Crafts
DESCRIPTION:Did you know 22nd-28th June is Insect Week? \nCome and join us at the Nature Reserve to see what you can discover with pond dipping and bug hunting —perfect for curious minds of all ages! \nAfterwards\, get creative with wildlife crafts to take home as a special memory of your day. \nBooking not required\, just turn up and join in! \nPre-book online for a discounted price. \n  \nThe drop in day is running from 10:00-15:00. You can attend at any time during these times. \nWe advise you arrive before 14:00 to get the most out of the day.\nCrafts running throughout the day. Pond dipping starts on the half hour each hour.  
URL:https://discover-rutland.co.uk/event/family-drop-in-day-pond-dipping-bug-hunting-and-crafts-2/
LOCATION:The Anglian Water Bird Watching Centre\, Oakham\, Rutland\, LE15 8BT\, United Kingdom
CATEGORIES:Family Friendly,Outdoors
ATTACH;FMTTYPE=image/jpeg:https://discover-rutland.co.uk/wp-content/uploads/2026/04/Drop-in-day-1.jpg
END:VEVENT
BEGIN:VEVENT
DTSTART;VALUE=DATE:20260628
DTEND;VALUE=DATE:20260630
DTSTAMP:20260421T164558
CREATED:20260105T145604Z
LAST-MODIFIED:20260105T145705Z
UID:33116-1782604800-1782777599@discover-rutland.co.uk
SUMMARY:Thomas Branch Line Weekends
DESCRIPTION:A Day Out with Thomas on His Very Own Branch Line\nJoin Thomas for a delightful journey along his countryside branch line to Yarwell\, passing through the famous Wansford Tunnel. With plenty to see and do across the railway\, it’s the perfect family day out. \nAbout the Experience\nAll Thomas Branch Line trains are hauled by Thomas himself\, taking you from Wansford to Yarwell and back throughout the day.\nFor full Thomas departure times\, please refer to our timetable. \n\nWhat’s Included & What You Can See\n• Thomas will pull all services between Wansford and Yarwell\n• Travel on the main train to Peterborough (requires a Freedom Travel Day Pass for adults and children aged 3+)\n• On-train Buffet Car\n• Join the main train at any of our stations\n• Miniature Railway Rides (subject to weather and volunteer availability)\n• Wansford Café serving breakfasts 09:00–10:30\, followed by lunches\, cakes\, ice creams and hot/cold drinks\n• Wansford Gift Shop with a wide range of gifts\, toys — and plenty of Thomas merchandise\n• Charity Shop at Wansford\n• Outdoor Children’s Play Area and riverside picnic space at Wansford \nTicket Prices\nAdult / Senior: £7.00\nChild (3–15 years): £7.00\nToddler (1–2 years): £7.00\nBaby (Under 1 year): Free\nDog: £2.00 \nWhat Your Ticket Includes\nAn all-day ticket on Thomas’s branch line allows unlimited travel on your chosen — or all — Thomas shuttles between Wansford and Yarwell. \nIf you wish to travel on the main line train to Peterborough as well as on Thomas’s shuttles\, you will need to purchase a Freedom Travel Day Pass.\nYour Day Pass covers unlimited travel on the full line plus all Thomas shuttles for ages 3+. \n\nAges 1–2 require only the £7 Thomas ticket\nUnder 1s travel free on both Thomas and the main train
URL:https://discover-rutland.co.uk/event/thomas-branch-line-weekends-copy-copy-copy-copy/
LOCATION:Nene Valley Railway\, Wansford Station\, Stibbington\, Peterborough\, PE8 6LR
CATEGORIES:Family Friendly
ATTACH;FMTTYPE=image/jpeg:https://discover-rutland.co.uk/wp-content/uploads/2026/01/THOMAS-TTT.jpg
END:VEVENT
END:VCALENDAR