BEGIN:VCALENDAR
VERSION:2.0
PRODID:-//Discover Rutland - ECPv6.15.12.2//NONSGML v1.0//EN
CALSCALE:GREGORIAN
METHOD:PUBLISH
X-ORIGINAL-URL:https://discover-rutland.co.uk
X-WR-CALDESC:Events for Discover Rutland
REFRESH-INTERVAL;VALUE=DURATION:PT1H
X-Robots-Tag:noindex
X-PUBLISHED-TTL:PT1H
BEGIN:VTIMEZONE
TZID:Europe/London
BEGIN:DAYLIGHT
TZOFFSETFROM:+0000
TZOFFSETTO:+0100
TZNAME:BST
DTSTART:20250330T010000
END:DAYLIGHT
BEGIN:STANDARD
TZOFFSETFROM:+0100
TZOFFSETTO:+0000
TZNAME:GMT
DTSTART:20251026T010000
END:STANDARD
BEGIN:DAYLIGHT
TZOFFSETFROM:+0000
TZOFFSETTO:+0100
TZNAME:BST
DTSTART:20260329T010000
END:DAYLIGHT
BEGIN:STANDARD
TZOFFSETFROM:+0100
TZOFFSETTO:+0000
TZNAME:GMT
DTSTART:20261025T010000
END:STANDARD
BEGIN:DAYLIGHT
TZOFFSETFROM:+0000
TZOFFSETTO:+0100
TZNAME:BST
DTSTART:20270328T010000
END:DAYLIGHT
BEGIN:STANDARD
TZOFFSETFROM:+0100
TZOFFSETTO:+0000
TZNAME:GMT
DTSTART:20271031T010000
END:STANDARD
END:VTIMEZONE
BEGIN:VEVENT
DTSTART;TZID=Europe/London:20261003T093000
DTEND;TZID=Europe/London:20261003T153000
DTSTAMP:20260421T224718
CREATED:20260225T144215Z
LAST-MODIFIED:20260225T144215Z
UID:35521-1791019800-1791041400@discover-rutland.co.uk
SUMMARY:Art Workshop - Still Life
DESCRIPTION:Explore colour\, texture and composition while creating your own still life artwork inspired by Burghley\n\n\n\n\n\nEnjoy a creative day at Burghley exploring the timeless tradition of still life using a range of mixed media techniques. \nLed by artist Hannah Magrath\, this relaxed and friendly workshop will take inspiration from the objects\, textures and surroundings of Burghley House. You’ll create your own still life composition\, choosing from natural and man-made forms such as fruit\, flowers\, glassware or decorative items. \nHannah will guide you from the first sketch to building up colour and texture using materials of your choice – from pencil and ink to pastel or paint. Demonstrations and one-to-one support throughout the day will help you experiment confidently and produce your very own Burghley inspired still life artwork. \nPerfect for beginners or anyone looking to advance their skills. \nAll materials are provided\, and no previous experience is needed.
URL:https://discover-rutland.co.uk/event/art-workshop-still-life/
LOCATION:Burghley House\, Peterborough\, Stamford\, PE93JY\, United Kingdom
CATEGORIES:Arts & Performances,Experiences & Workshops
ATTACH;FMTTYPE=image/webp:https://discover-rutland.co.uk/wp-content/uploads/2026/02/5-Still-life-Pears-2_616b2c32fb7bb9679ad560fc61635847.webp
END:VEVENT
BEGIN:VEVENT
DTSTART;TZID=Europe/London:20261024T173000
DTEND;TZID=Europe/London:20261024T210000
DTSTAMP:20260421T224718
CREATED:20260113T083030Z
LAST-MODIFIED:20260120T085500Z
UID:33642-1792863000-1792875600@discover-rutland.co.uk
SUMMARY:Murder on the Railway- Halloween: House of Murder
DESCRIPTION:Have you got the super-sleuth skills to find and solve the clues? \nThe detective persona to interrogate the suspects? \nThe judge and jury deliberation to identify the killer? \nThen our Murder Mystery evenings are the perfect way to enjoy an evening with friends\, a ride on the train\, a delightful bottle of wine and a savoury snack basket (snack basket and bottle of wine served per table of 2). The snack baskets are suitable for both gluten-free and vegan diets. \n£120 per table of two \nWhat can you expect from all our Murder Mysteries?\nA fully interactive and immersive evening where you will: \n• Have an opportunity to investigate the murder scene\n• Be given evidence to review and decipher\n• Have the opportunity to interrogate each suspect at your table\n• Enjoy a snack box and bottle of wine (between 2 people)\n• Have a ride behind one of our heritage trains (usually steam\, but not guaranteed)\n• Our on-train bar will be open from 18:00 (located in our Buffet Car) serving a variety of drinks for you to purchase \nThe evening is fully scripted (apart from the improvisation element depending on what questions are asked): nothing is left to chance. Every look\, line\, movement and positioning is precise\, to give the outcome we desire. Our team of writers and actors work tirelessly on their characters\, back story and preparation for questions. In fact\, it takes more time to prepare for that than it does for these fabulous actors to be script down! \nThere can be only one winning team. So it is important to write down as many clues about each suspect and in general that you uncover. The team with the most clues will be victorious. \nItinerary\nCheck in at 5:30pm\nCurtain up at 6:00pm\nTake your seats on the train at 6:45pm\nTrain departure at 7:00pm\nArrive back at Wansford at 8:10pm\nConclusion and evening ends at 8:45pm \nA self-support group of social outcasts meet regularly to try to cope with their Halloween-rooted anxieties. This month’s unconditional positive regard goes right out the window when one of the members gets murdered. The remaining suspects need to prove their innocence to weed out the guilty party. \nOver 18’s only
URL:https://discover-rutland.co.uk/event/murder-on-the-railway-copy-copy-copy/
LOCATION:Nene Valley Railway\, Wansford Station\, Stibbington\, Peterborough\, PE8 6LR
CATEGORIES:Experiences & Workshops
ATTACH;FMTTYPE=image/jpeg:https://discover-rutland.co.uk/wp-content/uploads/2025/10/MotR24-01.jpg
END:VEVENT
END:VCALENDAR