BEGIN:VCALENDAR
VERSION:2.0
PRODID:-//Discover Rutland - ECPv6.15.12.2//NONSGML v1.0//EN
CALSCALE:GREGORIAN
METHOD:PUBLISH
X-ORIGINAL-URL:https://discover-rutland.co.uk
X-WR-CALDESC:Events for Discover Rutland
REFRESH-INTERVAL;VALUE=DURATION:PT1H
X-Robots-Tag:noindex
X-PUBLISHED-TTL:PT1H
BEGIN:VTIMEZONE
TZID:Europe/London
BEGIN:DAYLIGHT
TZOFFSETFROM:+0000
TZOFFSETTO:+0100
TZNAME:BST
DTSTART:20250330T010000
END:DAYLIGHT
BEGIN:STANDARD
TZOFFSETFROM:+0100
TZOFFSETTO:+0000
TZNAME:GMT
DTSTART:20251026T010000
END:STANDARD
BEGIN:DAYLIGHT
TZOFFSETFROM:+0000
TZOFFSETTO:+0100
TZNAME:BST
DTSTART:20260329T010000
END:DAYLIGHT
BEGIN:STANDARD
TZOFFSETFROM:+0100
TZOFFSETTO:+0000
TZNAME:GMT
DTSTART:20261025T010000
END:STANDARD
BEGIN:DAYLIGHT
TZOFFSETFROM:+0000
TZOFFSETTO:+0100
TZNAME:BST
DTSTART:20270328T010000
END:DAYLIGHT
BEGIN:STANDARD
TZOFFSETFROM:+0100
TZOFFSETTO:+0000
TZNAME:GMT
DTSTART:20271031T010000
END:STANDARD
END:VTIMEZONE
BEGIN:VEVENT
DTSTART;TZID=Europe/London:20260122T100000
DTEND;TZID=Europe/London:20260416T123000
DTSTAMP:20260421T163633
CREATED:20251126T121424Z
LAST-MODIFIED:20251126T132716Z
UID:31951-1769076000-1776342600@discover-rutland.co.uk
SUMMARY:An Introduction to Watercolour Painting with Dawn Wright: Four Week Course 2026
DESCRIPTION:22nd January | 19th February | 19th March | 16th April\nThursdays\, 10am-12:30pm.\nNew Year\, New Hobby! Watercolour painting classes for beginners. \nStart the year creatively with An Introduction to Watercolour Painting at Barnsdale Gardens\, led by artist Dawn Wright. Perfect for complete beginners\, this four-day course will help you gain confidence with brushes\, colour mixing\, and a range of watercolour techniques. \nThrough friendly demonstrations and one-to-one support\, Dawn will guide you in creating your own atmospheric paintings inspired by nature. Enjoy a relaxing\, hands-on experience while discovering the joy of watercolour painting in beautiful surroundings. \nPrice includes: All materials; tea/coffee and entry to the Gardens every day of this four day course.
URL:https://discover-rutland.co.uk/event/an-introduction-to-watercolour-painting-with-dawn-wright-four-week-course-2026/
LOCATION:Barnsdale Gardens\, Barnsdale Avenue\, Exton\, Rutland\, United Kingdom
CATEGORIES:Experiences & Workshops
ATTACH;FMTTYPE=image/jpeg:https://discover-rutland.co.uk/wp-content/uploads/2025/11/IMG_1110.jpeg
END:VEVENT
BEGIN:VEVENT
DTSTART;TZID=Europe/London:20260201T130000
DTEND;TZID=Europe/London:20260201T160000
DTSTAMP:20260421T163633
CREATED:20251003T062553Z
LAST-MODIFIED:20251121T074144Z
UID:29474-1769950800-1769961600@discover-rutland.co.uk
SUMMARY:Block Printing on Fabric
DESCRIPTION:Make your own blocks to decorate fabric bags with a unique design. Tea towels also available. Such fun\, and no-one will have one like yours! Great for gifts. \n1-4pm £30 per person. \nWorkshop Leader Sue Ball
URL:https://discover-rutland.co.uk/event/block-printing-on-fabric/
LOCATION:Springboard Arts\, Lambley Cottage\, Lyndon Road\, North Luffenham\, LE15 8JZ
CATEGORIES:Arts & Performances,Experiences & Workshops
ATTACH;FMTTYPE=image/webp:https://discover-rutland.co.uk/wp-content/uploads/2025/10/rsw_776h_1035cg_true-1.webp
END:VEVENT
BEGIN:VEVENT
DTSTART;TZID=Europe/London:20260204T190000
DTEND;TZID=Europe/London:20260204T201500
DTSTAMP:20260421T163633
CREATED:20250929T163418Z
LAST-MODIFIED:20251121T074134Z
UID:29253-1770231600-1770236100@discover-rutland.co.uk
SUMMARY:Monthly Gong Sound Bath
DESCRIPTION:Calm your mind\, refresh your body.\nFor centuries\, sound has been recognised as a powerful form of healing in cultures all over the world. The Gong is one of the most powerful idiophone (vibrating) instruments that is used for sound healing and is rapidly gaining popularity in the Western world. The deep\, resonant sound vibrations help to stop incessant thinking and allow people to easily reach a state of meditation\, allowing the mind and body to relax and let go. \nClasses available from: \n\n24 Sept\, 22 Oct\, 26 Nov 2025\, 7 Jan\,  4 Feb\, 4 Mar 2026\nBeginning 7pm until 8:15pm
URL:https://discover-rutland.co.uk/event/monthly-gong-sound-bath-3/
LOCATION:Tolethorpe Hall Rutland Open Air Theatre\, Stamford\, Rutland\, PE9 4BH\, United Kingdom
CATEGORIES:Experiences & Workshops
ATTACH;FMTTYPE=image/jpeg:https://discover-rutland.co.uk/wp-content/uploads/2025/09/Gong-Sound-Bath-tolethorpe.jpg
END:VEVENT
BEGIN:VEVENT
DTSTART;TZID=Europe/London:20260206T110000
DTEND;TZID=Europe/London:20260206T123000
DTSTAMP:20260421T163633
CREATED:20260123T154341Z
LAST-MODIFIED:20260123T154341Z
UID:34231-1770375600-1770381000@discover-rutland.co.uk
SUMMARY:Snowdrop Walk in the Gardens
DESCRIPTION:An exclusive opportunity to tour Burghley’s private South Gardens and Sculpture Garden with Burghley’s Gardening Team. \nAdmire the swathes of snowdrops across Capability Brown’s undulating landscapes\, see all the newly planted areas ready for the open season and find out what the team has been working on over the winter season.
URL:https://discover-rutland.co.uk/event/snowdrop-walk-in-the-gardens/
LOCATION:Burghley House\, Peterborough\, Stamford\, PE93JY\, United Kingdom
CATEGORIES:Experiences & Workshops
ATTACH;FMTTYPE=image/jpeg:https://discover-rutland.co.uk/wp-content/uploads/2026/01/snowdrops5.jpg
END:VEVENT
BEGIN:VEVENT
DTSTART;VALUE=DATE:20260207
DTEND;VALUE=DATE:20260208
DTSTAMP:20260421T163633
CREATED:20260116T112855Z
LAST-MODIFIED:20260116T112855Z
UID:33786-1770422400-1770508799@discover-rutland.co.uk
SUMMARY:Terrarium Workshop
DESCRIPTION:Take part in an immersive workshop where you’ll design\, build\, and take home your very own miniature garden. Perfect for all skill levels\, this hands-on experience is guided by our in-house garden expert\, Sarah Webster\, who will lead you through every step of creating a beautiful and self-sustaining terrarium. \nYou’ll explore the principles of terrarium design and the science behind their microclimates\, learning how to select materials and plants\, arrange them into a balanced ecosystem\, and care for your creation to keep it thriving for years. Along the way\, Sarah will share expert tips to ensure your terrarium flourishes long after the workshop ends. \nDuring the session\, you’ll be inspired by a variety of terrariums at different stages of growth before enjoying hands-on time to craft your own personalised miniature garden—ideal for brightening up your home. \nWhat’s Included:\n• All materials needed to create your terrarium\, including a glass container\, plants\, soil\, moss\, and gravel. Bring your own personal touches if you wish.\n• A care instructions card to take home.\n• Refreshments to enjoy during the workshop. \nThis enriching workshop offers a unique opportunity to bring a little piece of nature into your home while learning practical gardening skills in a creative\, supportive environment.
URL:https://discover-rutland.co.uk/event/terrarium-workshop-2/
LOCATION:Rutland Nursery\, Lyndon Road\, Manton\, Rutland\, United Kingdom
CATEGORIES:Experiences & Workshops
ATTACH;FMTTYPE=image/jpeg:https://discover-rutland.co.uk/wp-content/uploads/2026/01/Screenshot-2024-06-19-143230.jpg
END:VEVENT
BEGIN:VEVENT
DTSTART;TZID=Europe/London:20260207T100000
DTEND;TZID=Europe/London:20260207T160000
DTSTAMP:20260421T163633
CREATED:20251030T123436Z
LAST-MODIFIED:20251120T142243Z
UID:30746-1770458400-1770480000@discover-rutland.co.uk
SUMMARY:Weaving Workshop
DESCRIPTION:Time: 10.00am – 4.00pm \nEver dreamed of creating your very own handwoven fabric? If so\, this workshop is for you! \nSuitable for complete beginners or those with a little more experience. Each workshop is focused on a small group (max 6); allowing for individual support in a relaxed and creative environment. \nSo\, if you are new to weaving\, or looking to develop your skills by experimenting with colour\, yarn and texture – come along and join the fun.  Whether you already have a creative idea in mind\, or are just happy to experiment; you will have an enjoyable time creating a truly unique piece of work alongside other like-minded people.  You will be able to create a unique length of fabric suitable for a scarf\, small cushion cover\, place mat or piece of wall art – so everyone leaves with something special. \nThe workshop looms will be ‘pre-warped’\, so after some initial instruction you will very quickly get on to the exciting bit of weaving your own fabric and playing around with different yarns and textures. \nChristina Kalkun from naturallytextile.co.uk will be helping you create your individual textile pieces. \nHandouts will be provided for techniques covered. \nWhat’s included in the price? \nAll equipment and materials – if you have any left-over yarn that you would like to use then please bring it with you.\nTea\, coffee and biscuits\nLight lunch\nFree Parking \n\n\n\n\n 
URL:https://discover-rutland.co.uk/event/weaving-workshop/
LOCATION:Tressilian House\, 67 Dalby Road\, Melton Mowbray\, Leicestershire\, LE13 0BQ
CATEGORIES:Experiences & Workshops
ATTACH;FMTTYPE=image/jpeg:https://discover-rutland.co.uk/wp-content/uploads/2025/10/Screenshot-2025-10-30-123417.jpg
END:VEVENT
BEGIN:VEVENT
DTSTART;TZID=Europe/London:20260207T170000
DTEND;TZID=Europe/London:20260207T213000
DTSTAMP:20260421T163633
CREATED:20260116T115448Z
LAST-MODIFIED:20260120T125139Z
UID:33803-1770483600-1770499800@discover-rutland.co.uk
SUMMARY:An Evening with Dr Dean Lomax - Saturday\, 7th February 2026 - Rutland County Museum
DESCRIPTION:You’re Invited!\nAn Evening with Dr Dean Lomax – Saturday\, 7th February 2026 – Rutland County Museum \n\nThe Secret Lives of Dinosaurs & the Remarkable “Rutland Sea Dragon” \nJoin us for a fascinating talk with renowned palaeontologist Dr Dean Lomax\, as he brings to life the hidden world of dinosaurs and shares the extraordinary story behind the discovery of the famous Rutland Sea Dragon. \nTicket options: \n\nTalk only: £25\nTalk + signed copy of the book: £49\n\nYour ticket includes a complimentary glass of wine on arrival. \n  \nDoors open at 5.00pm and talk starts at 6.30pm \nTickets are available via WeGotTickets https://wegottickets.com/event/689422 or from Rutland County Museum reception. \nWe hope you can join us for this exciting and inspiring evening! \nTickets on sale from 17/1/26
URL:https://discover-rutland.co.uk/event/an-evening-with-dr-dean-lomax-saturday-7th-february-2026-rutland-county-museum/
LOCATION:Rutland County Museum\, Catmos Street\, Oakham\, LE15 6HW
CATEGORIES:Experiences & Workshops
ATTACH;FMTTYPE=image/jpeg:https://discover-rutland.co.uk/wp-content/uploads/2026/01/Dinotalk-7.jpg
END:VEVENT
BEGIN:VEVENT
DTSTART;TZID=Europe/London:20260212T090000
DTEND;TZID=Europe/London:20260212T140000
DTSTAMP:20260421T163633
CREATED:20260120T080223Z
LAST-MODIFIED:20260120T080223Z
UID:34020-1770886800-1770904800@discover-rutland.co.uk
SUMMARY:Pasta Masterclass - The Olive Branch
DESCRIPTION:A morning of hands-on tuition (9am-12pm) followed by lunch in the pub. \nThe day starts at 9am with a chat over a coffee and pastries\, before being taken through to ‘The Barn’ and introduced to your ingredients. You will wield the spoon and mixing bowls under expert tuition\, working your way through all the different skills required by an expert pasta maker. \nAfter a morning of mixing\, kneading\, rolling\, cutting and shaping. You’ll have a two course lunch light lunch (or something more substantial if you prefer)\, utilising some of items well have taught you to create that morning. After lunch you are free to leave or check in and stay at Beech House. All the wonderful produce from your mornings work\, will be labeled and ready for you to take home\, along with recipe notes to impress. \nCoffee\, pastries\, light lunch in the pub\, recipe notes & your lovely handmade pasta to take home. \nLearn how to make various styles & flavours of fresh pasta from scratch.\nSaffron pasta dough\nTomato pasta dough\nSquid ink pasta dough \nRavioli\nTortellini\nCannelloni\nLinguine \nNOTE – recipe notes and tuition will be provided for all the above and a selection will be made. (There isn’t time to demonstrate and make them all) \nAt a glance…\nStart: 9am for coffee & croissants \nClass Starts: 9.30am \nIncludes: Coffee\, pastries\, light lunch\, recipe notes & your lovely handmade pasta to take home. \nPasta Doughs: Saffron\, Tomato\, Squid ink \nPasta Styles: Ravioli\, Tortellini\, Cannelloni\, Linguine \nLunch: 12noon \nFinish:2pm \nPrice: £95 \nCall: 01780 410355 \nBook Online
URL:https://discover-rutland.co.uk/event/pasta-masterclass-the-olive-branch/
LOCATION:The Olive Branch Country Inn\, Rutland Main St Clipsham Oakham\, St Clipsham\, Oakham\, LE15 7SH\, United Kingdom
CATEGORIES:Experiences & Workshops,Food & Drink
ATTACH;FMTTYPE=image/jpeg:https://discover-rutland.co.uk/wp-content/uploads/2026/01/Screenshot-2026-01-20-080104.jpg
END:VEVENT
BEGIN:VEVENT
DTSTART;VALUE=DATE:20260214
DTEND;VALUE=DATE:20260221
DTSTAMP:20260421T163633
CREATED:20260210T083015Z
LAST-MODIFIED:20260210T101600Z
UID:34895-1771027200-1771631999@discover-rutland.co.uk
SUMMARY:Daily Garden Tours
DESCRIPTION:Discover the beauty of Burghley’s Sculpture Garden in winter with our Daily Garden Tours\, guided by a member of our expert Gardens Team. \nExplore the season’s highlights\, from swathes of enchanting snowdrops to the first signs of spring blooms. Experience the Sculpture Garden as it awakens after the winter and learn about the seasonal tasks underway. \nThese relaxed walks are the perfect way to enjoy the beauty of the gardens\, while learning from those who care for them. \nTo join one of our Daily Garden Tours during your visit to the Gardens\, simply head to the Gardens Entrance for 11.30am where a member of our friendly Gardens Team will be waiting to meet you. Our winter Garden Tours are included with your Admission Ticket or Annual Pass and last 30 minutes. \nWrap up warm and enjoy the beauty of winter at Burghley.
URL:https://discover-rutland.co.uk/event/daily-garden-tours/
LOCATION:Burghley House\, Peterborough\, Stamford\, PE93JY\, United Kingdom
CATEGORIES:Experiences & Workshops,Seasonal
ATTACH;FMTTYPE=image/jpeg:https://discover-rutland.co.uk/wp-content/uploads/2026/01/South_Gardens_Spring-1.jpg
END:VEVENT
BEGIN:VEVENT
DTSTART;TZID=Europe/London:20260214T183000
DTEND;TZID=Europe/London:20260214T213000
DTSTAMP:20260421T163633
CREATED:20251210T112747Z
LAST-MODIFIED:20260115T101611Z
UID:32393-1771093800-1771104600@discover-rutland.co.uk
SUMMARY:Valentines Day Special
DESCRIPTION:6:30 pm – 9:30 pm\nFebruary 14\, 2026 \n\n\n\nWhat does the evening include? \n\nA fantastic selection of wine for Lovers of France\n5 Wines\nA guide to each wine\, their grapes and which foods they pair best with\nExclusive in store offers\nLimited to 12 seats making it a more intimate affair\n\n\nThese events are charged at only £39 per person.
URL:https://discover-rutland.co.uk/event/valentines-day-special/
LOCATION:French Cellar\, French Cellar - L'Art de Vivre - French Wine Merchant & French Art\, Mill Street\, Oakham\, UK\, Oakham\, United Kingdom
CATEGORIES:Experiences & Workshops,Food & Drink
ATTACH;FMTTYPE=image/jpeg:https://discover-rutland.co.uk/wp-content/uploads/2025/12/Screenshot-2025-12-10-105826.jpg
END:VEVENT
BEGIN:VEVENT
DTSTART;TZID=Europe/London:20260218T100000
DTEND;TZID=Europe/London:20260218T123000
DTSTAMP:20260421T163633
CREATED:20260120T082333Z
LAST-MODIFIED:20260120T082604Z
UID:34042-1771408800-1771417800@discover-rutland.co.uk
SUMMARY:David Austin Roses - Rose Pruning Workshop Morning session
DESCRIPTION:We are delighted to welcome an expert Rose Consultant from David Austin Roses for a special Rose Pruning Workshop at Gates Oakham on Wednesday 18 February!\n \nJoin our David Austin rose expert for an enjoyable\, relaxed half-day workshop covering everything you need to know about pruning to keep your roses healthy and thriving. \nThis interactive session will show you how to get the very best from your roses – keeping them neat\, vigorous and producing an abundance of beautiful blooms from late spring right through to autumn. \nThe workshop will also explore companion planting and essential rose care\, with expert guidance on all rose types\, including shrub\, patio\, standard\, climbing and rambling roses. \nThere will be plenty of opportunities to ask questions and gain tailored advice from both the David Austin specialist and the Gates team. \n 
URL:https://discover-rutland.co.uk/event/david-austin-roses-rose-pruning-workshop/
LOCATION:Gates Garden Centre\, Somerby Road\,\, Cold Overton\,\, LE15 7QB
CATEGORIES:Experiences & Workshops,Seasonal
ATTACH;FMTTYPE=image/png:https://discover-rutland.co.uk/wp-content/uploads/2026/01/Screenshot-2026-01-20-081917.png
END:VEVENT
BEGIN:VEVENT
DTSTART;TZID=Europe/London:20260218T140000
DTEND;TZID=Europe/London:20260218T163000
DTSTAMP:20260421T163633
CREATED:20260120T082533Z
LAST-MODIFIED:20260120T083348Z
UID:34045-1771423200-1771432200@discover-rutland.co.uk
SUMMARY:David Austin Roses - Rose Pruning Workshop Afternoon
DESCRIPTION:We are delighted to welcome an expert Rose Consultant from David Austin Roses for a special Rose Pruning Workshop at Gates Oakham on Wednesday 18 February!\n \nJoin our David Austin rose expert for an enjoyable\, relaxed half-day workshop covering everything you need to know about pruning to keep your roses healthy and thriving. \nThis interactive session will show you how to get the very best from your roses – keeping them neat\, vigorous and producing an abundance of beautiful blooms from late spring right through to autumn. \nThe workshop will also explore companion planting and essential rose care\, with expert guidance on all rose types\, including shrub\, patio\, standard\, climbing and rambling roses. \nThere will be plenty of opportunities to ask questions and gain tailored advice from both the David Austin specialist and the Gates team. \n 
URL:https://discover-rutland.co.uk/event/david-austin-roses-rose-pruning-workshop-copy/
LOCATION:Gates Garden Centre\, Somerby Road\,\, Cold Overton\,\, LE15 7QB
CATEGORIES:Experiences & Workshops,Seasonal
ATTACH;FMTTYPE=image/png:https://discover-rutland.co.uk/wp-content/uploads/2026/01/Screenshot-2026-01-20-081917.png
END:VEVENT
BEGIN:VEVENT
DTSTART;TZID=Europe/London:20260218T184500
DTEND;TZID=Europe/London:20260218T210000
DTSTAMP:20260421T163633
CREATED:20260116T113152Z
LAST-MODIFIED:20260116T113152Z
UID:33789-1771440300-1771448400@discover-rutland.co.uk
SUMMARY:Authors In Conversation: ‘The Weekend Gardener’ Henry Agg
DESCRIPTION:Henry Agg knows first-hand how to create a beautiful garden while balancing work and family life. After years in the corporate world\, he taught himself to garden\, later studying with the RHS and the English Gardening School. Now a qualified garden designer with his own practice and over 550k Instagram followers\, Henry is passionate about helping time-poor gardeners feel confident to give it a go. \nIn his book The Weekend Gardener\, Henry shares practical\, accessible advice on planning\, building\, planting and maintaining a garden. Packed with design tips\, DIY projects\, time-saving guidance and seasonal tasks\, the book is designed to help gardeners make the most of limited spare time. A strong advocate for the wellbeing benefits of gardening\, Henry’s approach shows that whether you have 20 minutes after work or a few hours at the weekend\, creating your dream garden is absolutely achievable. \nWe’re over the moon to be welcoming Henry as he joins our regular host Chris Young to talk about his new book ‘The Weekend Gardener’. \n6:45pm Doors open and refreshments available from the bar \n7.30pm Interview followed by questions from the floor \n8.30pm Book signing \n9:00pm Event ends \nPhoto Credit Dorling Kindersley: Clive Nichols
URL:https://discover-rutland.co.uk/event/authors-in-conversation-the-weekend-gardener-henry-agg/
LOCATION:Rutland Nursery\, Lyndon Road\, Manton\, Rutland\, United Kingdom
CATEGORIES:Experiences & Workshops
ATTACH;FMTTYPE=image/jpeg:https://discover-rutland.co.uk/wp-content/uploads/2026/01/Henry-Agg.jpg
END:VEVENT
BEGIN:VEVENT
DTSTART;TZID=Europe/London:20260219T100000
DTEND;TZID=Europe/London:20260219T130000
DTSTAMP:20260421T163633
CREATED:20260126T154618Z
LAST-MODIFIED:20260126T154618Z
UID:34340-1771495200-1771506000@discover-rutland.co.uk
SUMMARY:Family Nest Box Building
DESCRIPTION:National Nest Box Week in 2026 is February 14th to February 21st and encourages people to put up nest boxes to provide nesting and shelter opportunities for birds\, helping to address the shortage of natural nesting sites. \nThe week begins on St. Valentine’s Day\, marking the start of the bird breeding season. \n  \nBring the family this half term and create a home for birds at our woodland workshop! \nWork together to create your very own nest box to take home! \nSession will last approximately 2 hours​. \n  \nAdditional Information \nMaterials provided flat packed and ready to assemble in our classroom.\nSuitable for ages 6+ (all under 18’s must be supervised by an adult)
URL:https://discover-rutland.co.uk/event/family-nest-box-building/
LOCATION:The Anglian Water Bird Watching Centre\, Oakham\, Rutland\, LE15 8BT\, United Kingdom
CATEGORIES:Experiences & Workshops,Family Friendly,Workshops & Courses
ATTACH;FMTTYPE=image/jpeg:https://discover-rutland.co.uk/wp-content/uploads/2026/01/Owl-box-making-thumbnail_1.jpg
END:VEVENT
BEGIN:VEVENT
DTSTART;TZID=Europe/London:20260219T103000
DTEND;TZID=Europe/London:20260219T123000
DTSTAMP:20260421T163633
CREATED:20260120T080956Z
LAST-MODIFIED:20260120T080956Z
UID:34029-1771497000-1771504200@discover-rutland.co.uk
SUMMARY:Winter Cookery Demonstration - Thursday\, 19th February
DESCRIPTION:Join us for Seasonal Cookery Demonstrations at The Olive Branch – an engaging two-hour session led by head chef Dean Carroll\, followed by a delicious three-course lunch. \nDean’s passion for “back-to-basics” cooking shines as he shares tips and techniques using fresh\, locally sourced ingredients. You’ll enjoy lively\, interactive demonstrations during which you can ask questions and learn kitchen secrets. \nYour day begins at 10am with coffee\, and at 1pm\, you’ll savour the dishes you watched being prepared. You’ll also take home recipe sheets so you can recreate the experience at home. \nWinter Cookery Demonstration – Thursday\, 19th February \nAt a glance….\nCoffee: 10:00am \nDemonstration: 10:30am \nLunch: 12.30pm \nMenu: 3 Courses & a glass of wine \nTicket: £80 per person \nCall: 01780 410 355 \nBook Online
URL:https://discover-rutland.co.uk/event/winter-cookery-demonstration-thursday-19th-february/
LOCATION:The Olive Branch Country Inn\, Rutland Main St Clipsham Oakham\, St Clipsham\, Oakham\, LE15 7SH\, United Kingdom
CATEGORIES:Experiences & Workshops,Food & Drink
ATTACH;FMTTYPE=image/jpeg:https://discover-rutland.co.uk/wp-content/uploads/2026/01/Screenshot-2026-01-20-080929.jpg
END:VEVENT
BEGIN:VEVENT
DTSTART;TZID=Europe/London:20260220T183000
DTEND;TZID=Europe/London:20260220T213000
DTSTAMP:20260421T163633
CREATED:20251210T113153Z
LAST-MODIFIED:20251210T113610Z
UID:32396-1771612200-1771623000@discover-rutland.co.uk
SUMMARY:Tour De France
DESCRIPTION:6:30 pm – 9:30 pm\nFebruary 20\, 2026 \n\n\nWhat does the evening include? \n\nA fantastic selection of wine carefully curated to pair beautifully with your Christmas Dinner\n5 Wines\nA guide to each wine\, their grapes and which foods they pair best with\nExclusive in store offers\nLimited to 12 seats making it a more intimate affair\n\nThese events are charged at only £39 per person.
URL:https://discover-rutland.co.uk/event/tour-de-france/
LOCATION:French Cellar\, French Cellar - L'Art de Vivre - French Wine Merchant & French Art\, Mill Street\, Oakham\, UK\, Oakham\, United Kingdom
CATEGORIES:Experiences & Workshops,Food & Drink
ATTACH;FMTTYPE=image/jpeg:https://discover-rutland.co.uk/wp-content/uploads/2025/12/Screenshot-2025-12-10-105838.jpg
END:VEVENT
BEGIN:VEVENT
DTSTART;TZID=Europe/London:20260225T103000
DTEND;TZID=Europe/London:20260226T153000
DTSTAMP:20260421T163633
CREATED:20251212T080810Z
LAST-MODIFIED:20251212T080820Z
UID:32465-1772015400-1772119800@discover-rutland.co.uk
SUMMARY:Botanical Painting Workshop: Winter Bulbs. 25th - 26th February\, 2026.
DESCRIPTION:Dawn Wright has been painting and teaching botanical art for the past 16 years. She is a Fellow of the UK’s Society of Botanical Artists. She exhibits regularly around the UK with her work being held in many private collections. \nShe enjoys recreating the colours that the changing seasons and the natural world bring us\, relishing the challenge of capturing light\, drama and detail in the plant world. Dawn’s approach is through gentle\, supportive encouragement and enthusiasm. \nPrice includes the two day workshop\, tea/coffee\, cream tea and entry to the Gardens on both days of this two day workshop. \nIf you require materials\, Dawn can provide everything you need for both days.
URL:https://discover-rutland.co.uk/event/botanical-painting-workshop-winter-bulbs-25th-26th-february-2026/
LOCATION:Barnsdale Gardens\, Barnsdale Avenue\, Exton\, Rutland\, United Kingdom
CATEGORIES:Arts & Performances,Experiences & Workshops
ATTACH;FMTTYPE=image/jpeg:https://discover-rutland.co.uk/wp-content/uploads/2025/12/Screenshot-2025-12-12-080745.jpg
END:VEVENT
BEGIN:VEVENT
DTSTART;TZID=Europe/London:20260226T090000
DTEND;TZID=Europe/London:20260226T140000
DTSTAMP:20260421T163633
CREATED:20260120T075647Z
LAST-MODIFIED:20260120T075719Z
UID:34014-1772096400-1772114400@discover-rutland.co.uk
SUMMARY:Bread Masterclass - The Olive Branch
DESCRIPTION:A morning of hand-on tuition (9am-12pm) followed by lunch in the pub. \nThe day starts at 9am with a chat over a coffee and pastries\, before being taken through to ‘The Barn’ and introduced to your ingredients. You will wield the spoon and mixing bowls under expert tuition\, working your way through all the different skills required by an expert baker. \nAfter a morning of mixing\, kneading\, and baking\, you have the option of partaking in a two course lunch light lunch (or something more substantial if you prefer)\, showcasing some of items you’ll have created that morning. After lunch you are free to leave or check in and stay at Beech House. All the wonderful produce from your mornings work\, will be labelled and ready for you to take home\, along with recipe notes to impress. \nCoffee\, pastries\, light lunch in the pub\, recipe notes & your lovely handmade bread to take home. \nLearn how to make various styles & flavours of fresh bread from scratch. \nWhite Bread\nBagels\nEnglish muffin\nDate & Walnut loaf (recipe only) \n  \nAt a glance…\nStart: 9am for coffee & croissants \nClass Starts: 9.30am \nIncludes: Coffee\, pastries\, light lunch\, recipe notes & your lovely handmade bread to take home. \nBread Styles: White Bread\, Date & Walnut loaf\, Bagels\, English muffin \nLunch: 12noon \nFinish: 2pm \nPrice: £95 \nCall: 01780 410355
URL:https://discover-rutland.co.uk/event/bread-masterclass-the-olive-branch-copy/
LOCATION:The Olive Branch Country Inn\, Rutland Main St Clipsham Oakham\, St Clipsham\, Oakham\, LE15 7SH\, United Kingdom
CATEGORIES:Experiences & Workshops,Food & Drink
ATTACH;FMTTYPE=image/jpeg:https://discover-rutland.co.uk/wp-content/uploads/2026/01/Screenshot-2026-01-20-075357.jpg
END:VEVENT
END:VCALENDAR