BEGIN:VCALENDAR
VERSION:2.0
PRODID:-//Discover Rutland - ECPv6.15.12.2//NONSGML v1.0//EN
CALSCALE:GREGORIAN
METHOD:PUBLISH
X-WR-CALNAME:Discover Rutland
X-ORIGINAL-URL:https://discover-rutland.co.uk
X-WR-CALDESC:Events for Discover Rutland
REFRESH-INTERVAL;VALUE=DURATION:PT1H
X-Robots-Tag:noindex
X-PUBLISHED-TTL:PT1H
BEGIN:VTIMEZONE
TZID:Europe/London
BEGIN:DAYLIGHT
TZOFFSETFROM:+0000
TZOFFSETTO:+0100
TZNAME:BST
DTSTART:20250330T010000
END:DAYLIGHT
BEGIN:STANDARD
TZOFFSETFROM:+0100
TZOFFSETTO:+0000
TZNAME:GMT
DTSTART:20251026T010000
END:STANDARD
BEGIN:DAYLIGHT
TZOFFSETFROM:+0000
TZOFFSETTO:+0100
TZNAME:BST
DTSTART:20260329T010000
END:DAYLIGHT
BEGIN:STANDARD
TZOFFSETFROM:+0100
TZOFFSETTO:+0000
TZNAME:GMT
DTSTART:20261025T010000
END:STANDARD
BEGIN:DAYLIGHT
TZOFFSETFROM:+0000
TZOFFSETTO:+0100
TZNAME:BST
DTSTART:20270328T010000
END:DAYLIGHT
BEGIN:STANDARD
TZOFFSETFROM:+0100
TZOFFSETTO:+0000
TZNAME:GMT
DTSTART:20271031T010000
END:STANDARD
END:VTIMEZONE
BEGIN:VEVENT
DTSTART;TZID=Europe/London:20260424T100000
DTEND;TZID=Europe/London:20260502T150000
DTSTAMP:20260421T132325
CREATED:20260304T142931Z
LAST-MODIFIED:20260304T142931Z
UID:35756-1777024800-1777734000@discover-rutland.co.uk
SUMMARY:Marie-Thérèse King Exhibition of Batik Work
DESCRIPTION:Marie-Thérèse’s exhibition of batik work is open to all and free with garden admission. She describes herself as a non-digital designer\, creating exquisite batik textile designs inspired by her passion for British wildlife\, in particular birds\, butterflies\, insects and wild flowers\, using the ancient Indonesian art-form of layering melted wax and water based dyes on Indonesian cotton to create vibrant paintings. \nShe teaches workshops in printmaking\, cyanotype\, batik and collage and will be hosting a workshop at Barnsdale Gardens later this year. Find out more here… \nFor more info\, visit Marie-Thérèse’s website by clicking here…
URL:https://discover-rutland.co.uk/event/marie-therese-king-exhibition-of-batik-work/
LOCATION:Barnsdale Gardens\, Barnsdale Avenue\, Exton\, Rutland\, United Kingdom
CATEGORIES:Arts & Performances
ATTACH;FMTTYPE=image/jpeg:https://discover-rutland.co.uk/wp-content/uploads/2026/03/Barnsdale-collection.jpg
END:VEVENT
BEGIN:VEVENT
DTSTART;TZID=Europe/London:20260425T080000
DTEND;TZID=Europe/London:20260525T170000
DTSTAMP:20260421T132325
CREATED:20260401T065721Z
LAST-MODIFIED:20260401T065721Z
UID:38005-1777104000-1779728400@discover-rutland.co.uk
SUMMARY:Sid Burnard Exhibition 2026
DESCRIPTION:We’re delighted to announce a new exhibition of creations by Sid Burnard\, opening on Saturday 25th April 2026. \nSid Burnard is putting together objects that make profound\, witty and beautiful remarks about life\, the universe and everything. Sam Llewellyn\, acclaimed thriller writer and children’s author \nThere is something irresistible in the way Sid turns random detritus into objects of movement\, elegance and wit. Simon Beaufoy\, screenwriter\, ‘Slumdog Millionaire’ \nThis will be 78 year old Sid Burnard’s 4th Goldmark show. His work is made from the jetsam he finds lying about on beaches\, riverbanks and hedges. What others may think of as junk Sid treats as precious cargo to fetch back to his studio\, study and play with\, until he finally and magically transforms them into a bird\, a beast\, an insect or a boat.
URL:https://discover-rutland.co.uk/event/sid-burnard-exhibition-2026/
LOCATION:Goldmark Gallery\, 14 Orange Street\,\, Uppingham\,\, LE15 9SQ
CATEGORIES:Arts & Performances
ATTACH;FMTTYPE=image/jpeg:https://discover-rutland.co.uk/wp-content/uploads/2026/04/Screenshot-2026-04-01-075411.jpg
END:VEVENT
BEGIN:VEVENT
DTSTART;TZID=Europe/London:20260425T190000
DTEND;TZID=Europe/London:20260425T213000
DTSTAMP:20260421T132325
CREATED:20260401T083941Z
LAST-MODIFIED:20260401T094504Z
UID:38013-1777143600-1777152600@discover-rutland.co.uk
SUMMARY:Concert: Fenella Humphreys – Violin Recital
DESCRIPTION:Join award-winning violinist Fenella Humphreys for an evening of outstanding classical music in the beautiful setting of St Andrew’s Church. \nDate & Time: Saturday 25 April 2026\, 7:30 pmLocation: Lyddington \nA celebrated performer and former BBC Music Magazine Premiere Recording Award winner\, Humphreys is known for her expressive intensity and captivating stage presence. This recital promises a rich and varied programme showcasing the violin repertoire at its finest. \nProgramme includes works by: \n\nBach – Partita No. 3 in E major\, BWV 1006\nBiber – Passacaglia\nYsaÿe – Sonata No. 2 in A minor\nMore highlights from the solo violin repertoire\n\nTickets: \n\nAdults: £20\nUnder 25s in full-time education: £5\n\nBooking:\nAvailable online via Music in Lyddington or by email/phone (details on organiser’s website). \nExperience an inspiring evening of virtuoso violin performance in an intimate historic venue.
URL:https://discover-rutland.co.uk/event/concert-fenella-humphreys-violin-recital/
CATEGORIES:Arts & Performances
ATTACH;FMTTYPE=image/png:https://discover-rutland.co.uk/wp-content/uploads/2026/04/Screenshot-2026-04-01-093536.png
END:VEVENT
BEGIN:VEVENT
DTSTART;TZID=Europe/London:20260426T100000
DTEND;TZID=Europe/London:20260426T170000
DTSTAMP:20260421T132325
CREATED:20251212T080241Z
LAST-MODIFIED:20251212T080302Z
UID:32458-1777197600-1777222800@discover-rutland.co.uk
SUMMARY:Tetra Printing Workshop - 26th April\, 2026
DESCRIPTION:10am-5pm\nJoin artist and printmaker Marie-Thérèse King for a creative and eco-friendly Tetra Printing Workshop at Barnsdale Gardens. Discover how to transform everyday waste\, from tetra pak cartons to pill boxes\, into beautiful\, textured printing plates. \nUnder Marie-Thérèse’s expert guidance\, you’ll learn how to cut\, shape and mark your recycled materials to create unique designs\, before printing your own artworks on the press. Each participant will have the chance to make 2–3 plates and print them during the session. \nPerfect for beginners and creatives alike\, this relaxed and inspiring workshop combines sustainability and creativity in a hands-on environment surrounded by the beauty of Barnsdale Gardens. \nPlease bring an apron — things may get delightfully inky! \nIncludes tea/coffee\, garden entry and all materials\, plus a 15% discount voucher towards lunch.
URL:https://discover-rutland.co.uk/event/tetra-printing-workshop-26th-april-2026/
LOCATION:Barnsdale Gardens\, Barnsdale Avenue\, Exton\, Rutland\, United Kingdom
CATEGORIES:Arts & Performances,Experiences & Workshops
ATTACH;FMTTYPE=image/jpeg:https://discover-rutland.co.uk/wp-content/uploads/2025/12/Screenshot-2025-12-12-080103.jpg
END:VEVENT
BEGIN:VEVENT
DTSTART;TZID=Europe/London:20260428T080000
DTEND;TZID=Europe/London:20260503T170000
DTSTAMP:20260421T132325
CREATED:20260113T083511Z
LAST-MODIFIED:20260120T085649Z
UID:33644-1777363200-1777827600@discover-rutland.co.uk
SUMMARY:The Great British Bake Off Musical
DESCRIPTION:Step into the iconic tent and experience The Great British Bake Off Musical — a feel-good\, laugh-out-loud celebration of baking\, bravery\, and finding your place. Bursting with British wit\, irresistible charm\, and toe-tapping songs\, this joyful musical serves up all the warmth and humour fans love\, with a theatrical twist that’s utterly delicious. \nMeet a group of hopeful bakers as they face signature bakes\, nail-biting technicals\, and dazzling showstoppers\, all while navigating nerves\, new friendships\, and the pressure of the clock. Watched closely by familiar-style judges and presenters\, their journey is filled with triumphs\, disasters\, and plenty of soggy bottoms. With an original score that captures every whisk\, wobble\, and winning bake\, this musical is an immersive treat from start to finish. \nPerfect for audiences of all ages\, The Great British Bake Off Musical is a heart-warming crowd-pleaser that proves dreams can rise when passion and community come together. Whether you’re a devoted Bake Off fan or simply in the mood for an uplifting night at the theatre\, this is one show guaranteed to leave you smiling — and craving cake.
URL:https://discover-rutland.co.uk/event/the-great-british-bake-off-musical/
LOCATION:Stamford Corn Exchange\, Theatre\, Stamford\, PE9 1PX\, United Kingdom
CATEGORIES:Arts & Performances
ATTACH;FMTTYPE=image/jpeg:https://discover-rutland.co.uk/wp-content/uploads/2026/01/Screenshot-2026-01-13-083438.jpg
END:VEVENT
BEGIN:VEVENT
DTSTART;TZID=Europe/London:20260430T100000
DTEND;TZID=Europe/London:20260430T170000
DTSTAMP:20260421T132325
CREATED:20251212T081221Z
LAST-MODIFIED:20251212T081245Z
UID:32473-1777543200-1777568400@discover-rutland.co.uk
SUMMARY:Experimental Batik Workshop. 30th April\, 2026
DESCRIPTION:10am-5pm\nSplish\, splash\, stamp\, crackle and scrunch your way through a joyful day of creativity! This hands-on Experimental Batik Workshop invites you to explore every playful aspect of the Batik process — from applying hot wax with a variety of tools to layering vibrant dyes and creating beautiful\, textured designs. \nWhether you’re a complete beginner or returning after our Introduction to Batik Workshop\, you’ll have the freedom to experiment and develop your own unique piece of textile art. If you’ve completed the introductory session\, this is your chance to build on your skills and design a more experimental Batik creation. If you’re new to Batik\, you’re warmly encouraged to join — no experience needed! \nAll materials are provided\, along with tea\, coffee and a 15% discount on main meals in the Helenium Tea Room. Just bring an apron and your imagination for a fun-filled day of colour\, wax and creative discovery.
URL:https://discover-rutland.co.uk/event/experimental-batik-workshop-30th-april-2026/
LOCATION:Barnsdale Gardens\, Barnsdale Avenue\, Exton\, Rutland\, United Kingdom
CATEGORIES:Arts & Performances,Experiences & Workshops
ATTACH;FMTTYPE=image/jpeg:https://discover-rutland.co.uk/wp-content/uploads/2025/12/Screenshot-2025-12-12-081124.jpg
END:VEVENT
BEGIN:VEVENT
DTSTART;TZID=Europe/London:20260430T193000
DTEND;TZID=Europe/London:20260430T213000
DTSTAMP:20260421T132325
CREATED:20260409T105307Z
LAST-MODIFIED:20260409T105347Z
UID:38288-1777577400-1777584600@discover-rutland.co.uk
SUMMARY:Too Much Too Young
DESCRIPTION:The UK’s smash hit Ska theatre experience sweeping the nation. Get ready for an electrifying night of music with Too Much Too Young – The Music of 2Tone & Beyond\, a high-octane\, two-hour theatre experience that takes audiences on an unforgettable ride through the ska sound that shaped generations.\n\n\n\nThis feel-good journey explores the birth of ska in Jamaica and follows its explosive history through to the British revival in the late ’70s and ’80s\, celebrating the groundbreaking music and the legendary artists who made it a global phenomenon. \nDescribed by the press as “The must-see show for any ska fan” and featuring a powerhouse live band\, the production is a feast for the senses with stunning digital video displays\, authentic instruments\, clothing\, vibrant set\, and a dynamic cast that brings the spirit of the era to life. \nPrepare to be transported back in time with hits from the likes of Madness\, The Specials\, The Beat\, Bad Manners\, The Selecter\, The Bodysnatchers\, and more! Whether you’re a longtime fan or discovering the magic of ska for the first time\, this nostalgic trip to the ’70s and ’80s will have you dancing all night long!
URL:https://discover-rutland.co.uk/event/too-much-too-young/
LOCATION:Stamford Corn Exchange\, Theatre\, Stamford\, PE9 1PX\, United Kingdom
CATEGORIES:Arts & Performances
ATTACH;FMTTYPE=image/jpeg:https://discover-rutland.co.uk/wp-content/uploads/2026/04/Screenshot-2026-04-09-114947.jpg
END:VEVENT
END:VCALENDAR