BEGIN:VCALENDAR
VERSION:2.0
PRODID:-//Discover Rutland - ECPv6.15.12.2//NONSGML v1.0//EN
CALSCALE:GREGORIAN
METHOD:PUBLISH
X-WR-CALNAME:Discover Rutland
X-ORIGINAL-URL:https://discover-rutland.co.uk
X-WR-CALDESC:Events for Discover Rutland
REFRESH-INTERVAL;VALUE=DURATION:PT1H
X-Robots-Tag:noindex
X-PUBLISHED-TTL:PT1H
BEGIN:VTIMEZONE
TZID:Europe/London
BEGIN:DAYLIGHT
TZOFFSETFROM:+0000
TZOFFSETTO:+0100
TZNAME:BST
DTSTART:20250330T010000
END:DAYLIGHT
BEGIN:STANDARD
TZOFFSETFROM:+0100
TZOFFSETTO:+0000
TZNAME:GMT
DTSTART:20251026T010000
END:STANDARD
BEGIN:DAYLIGHT
TZOFFSETFROM:+0000
TZOFFSETTO:+0100
TZNAME:BST
DTSTART:20260329T010000
END:DAYLIGHT
BEGIN:STANDARD
TZOFFSETFROM:+0100
TZOFFSETTO:+0000
TZNAME:GMT
DTSTART:20261025T010000
END:STANDARD
BEGIN:DAYLIGHT
TZOFFSETFROM:+0000
TZOFFSETTO:+0100
TZNAME:BST
DTSTART:20270328T010000
END:DAYLIGHT
BEGIN:STANDARD
TZOFFSETFROM:+0100
TZOFFSETTO:+0000
TZNAME:GMT
DTSTART:20271031T010000
END:STANDARD
END:VTIMEZONE
BEGIN:VEVENT
DTSTART;VALUE=DATE:20260423
DTEND;VALUE=DATE:20260424
DTSTAMP:20260423T121223
CREATED:20260331T083645Z
LAST-MODIFIED:20260331T083744Z
UID:37997-1776902400-1776988799@discover-rutland.co.uk
SUMMARY:Spa Day at In The Stix
DESCRIPTION:We are thrilled to announce the launch of our new spa days for 2025! Join us for a rejuvenating morning or afternoon session\, perfect for couples or groups of up to 6 people. This exclusive experience offers unlimited access to our fantastic wellness facilities\, including the log-fired barrel sauna\, cold water shower\, and cold plunge bath. \nYou will also get to unwind in our luxurious log-fired hot tub and get to sample the comfort of a dome. Relax and enjoy the living area complete with a cosy log burner\, Chesterfield sofas\, hanging chair\, and ensuite bathroom facilities. On warm summer days\, you can take advantage of the outdoor sofas and soak up some sun. \nThis unique opportunity allows you to relax and benefit from the incredible amenities at In the Stix\, escape the everyday hustle and bustle\, reconnect with friends\, and immerse yourself in the ultimate spa experience amidst nature. We can’t wait to welcome you for a day of relaxation and indulgence! \n2 hour slots available
URL:https://discover-rutland.co.uk/event/spa-day-at-in-the-stix-copy/
LOCATION:In The Stix\, Rutland Glamping Brook Farm\, Greetham\, Rutland\, LE15 7SN
CATEGORIES:Experiences & Workshops
ATTACH;FMTTYPE=image/jpeg:https://discover-rutland.co.uk/wp-content/uploads/2026/03/Screenshot-2026-03-31-093009.jpg
END:VEVENT
BEGIN:VEVENT
DTSTART;TZID=Europe/London:20260423T173000
DTEND;TZID=Europe/London:20260423T210000
DTSTAMP:20260423T121223
CREATED:20260421T081609Z
LAST-MODIFIED:20260421T081609Z
UID:38784-1776965400-1776978000@discover-rutland.co.uk
SUMMARY:St Georges Day Dinner
DESCRIPTION:St. George’s Day Dinner\n\nArrive at 6.45pm for a glass of fizz and some smoked salmon canapes \nAt 7.15pm dinner will be served beginning with\, an Olive Branch prawn cocktail – a fresh\, elegant take on a British classic. Sweet prawns\, crisp salad and a well-balanced sauce set the tone for the meal. \nFor the main course Dean will present and carve the Beef Wellington. Tender beef wrapped in mushroom duxelles and golden pastry\, served with fondant potato\, glazed carrot and a rich red wine sauce. It’s a dish that celebrates traditional British cooking at its best. \nTo finish\, Strawberry & Elderflower Eton Mess with strawberry sorbet. Light\, fresh and seasonal\, it’s a fitting end to a menu designed to mark the occasion. \nThis special St George’s Day menu will be available for one day only\, celebrating British classics.
URL:https://discover-rutland.co.uk/event/st-georges-day-dinner/
LOCATION:The Olive Branch Country Inn\, Rutland Main St Clipsham Oakham\, St Clipsham\, Oakham\, LE15 7SH\, United Kingdom
CATEGORIES:Food & Drink
ATTACH;FMTTYPE=image/jpeg:https://discover-rutland.co.uk/wp-content/uploads/2026/04/Screenshot-2026-04-21-091532.jpg
END:VEVENT
BEGIN:VEVENT
DTSTART;TZID=Europe/London:20260423T190000
DTEND;TZID=Europe/London:20260423T210000
DTSTAMP:20260423T121223
CREATED:20260113T081917Z
LAST-MODIFIED:20260120T085701Z
UID:33631-1776970800-1776978000@discover-rutland.co.uk
SUMMARY:An Evening of Mediumship with Gary Peters
DESCRIPTION:Back for another date! \nAn Evening of Mediumship with Gary Peters Spiritual Medium. \n£25 per ticket (includes meal) \nFor tickets contact the venue or pop in
URL:https://discover-rutland.co.uk/event/an-evening-of-mediumship-with-gary-peters/
LOCATION:Don Paddy’s\, 8 Market Place\,\, Oakham\, LE15 9QH
CATEGORIES:Experiences & Workshops
ATTACH;FMTTYPE=image/jpeg:https://discover-rutland.co.uk/wp-content/uploads/2026/01/Screenshot-2026-01-13-074808.jpg
END:VEVENT
END:VCALENDAR