BEGIN:VCALENDAR
VERSION:2.0
PRODID:-//Discover Rutland - ECPv6.15.12.2//NONSGML v1.0//EN
CALSCALE:GREGORIAN
METHOD:PUBLISH
X-WR-CALNAME:Discover Rutland
X-ORIGINAL-URL:https://discover-rutland.co.uk
X-WR-CALDESC:Events for Discover Rutland
REFRESH-INTERVAL;VALUE=DURATION:PT1H
X-Robots-Tag:noindex
X-PUBLISHED-TTL:PT1H
BEGIN:VTIMEZONE
TZID:Europe/London
BEGIN:DAYLIGHT
TZOFFSETFROM:+0000
TZOFFSETTO:+0100
TZNAME:BST
DTSTART:20250330T010000
END:DAYLIGHT
BEGIN:STANDARD
TZOFFSETFROM:+0100
TZOFFSETTO:+0000
TZNAME:GMT
DTSTART:20251026T010000
END:STANDARD
BEGIN:DAYLIGHT
TZOFFSETFROM:+0000
TZOFFSETTO:+0100
TZNAME:BST
DTSTART:20260329T010000
END:DAYLIGHT
BEGIN:STANDARD
TZOFFSETFROM:+0100
TZOFFSETTO:+0000
TZNAME:GMT
DTSTART:20261025T010000
END:STANDARD
BEGIN:DAYLIGHT
TZOFFSETFROM:+0000
TZOFFSETTO:+0100
TZNAME:BST
DTSTART:20270328T010000
END:DAYLIGHT
BEGIN:STANDARD
TZOFFSETFROM:+0100
TZOFFSETTO:+0000
TZNAME:GMT
DTSTART:20271031T010000
END:STANDARD
END:VTIMEZONE
BEGIN:VEVENT
DTSTART;TZID=Europe/London:20260422T180000
DTEND;TZID=Europe/London:20260422T210000
DTSTAMP:20260422T015902
CREATED:20260326T071805Z
LAST-MODIFIED:20260326T071805Z
UID:37767-1776880800-1776891600@discover-rutland.co.uk
SUMMARY:South African Night
DESCRIPTION:We heard you… and we’ve finally caved 😅🇿🇦✨ \nYour long awaited South African themed evening is here 🥂 \nJoin us on 22nd April from 6pm for a vibrant night filled with flavour\, warmth\, and a true taste of South Africa 🇿🇦 \nEnjoy 3 beautiful wines\, traditional dishes\, and a perfectly paired shot for £35 per person 🍷 \nThis is one you do not want to miss… and trust us\, it will sell out fast 💨 \nBooking is essential so secure your spot now 📞
URL:https://discover-rutland.co.uk/event/south-african-night/
LOCATION:Ovation Wine & Spirit Bar\, Gaol Street\, Oakham\, Rutland\, United Kingdom
CATEGORIES:Food & Drink
ATTACH;FMTTYPE=image/jpeg:https://discover-rutland.co.uk/wp-content/uploads/2026/03/Screenshot-2026-03-26-071627.jpg
END:VEVENT
BEGIN:VEVENT
DTSTART;TZID=Europe/London:20260422T190000
DTEND;TZID=Europe/London:20260422T233000
DTSTAMP:20260422T015902
CREATED:20260306T094049Z
LAST-MODIFIED:20260310T094859Z
UID:37204-1776884400-1776900600@discover-rutland.co.uk
SUMMARY:Drag Karaoke with a Twist at The Fox\, North Luffenham
DESCRIPTION:Nimble Media is proud to be taking part in the Franklins £50 Challenge\, raising money for The Arthur Ellis Foundation – a charity dedicated to improving mental health support for children and young people. \nGet ready for a night of big voices\, bold performances and brilliant entertainment at Drag Karaoke with a Twist\, proudly presented by Nimble Media and hosted by the fabulous Gladys Carpet-Bowles. \nTaking place on Wednesday 22nd April from 7pm until late at The Fox in North Luffenham\, this unforgettable evening combines karaoke\, games and a disco – all while raising money for the Arthur Ellis Mental Health Foundation. \nThis isn’t your average karaoke night. When it’s your turn to sing\, you’ll choose a Green\, Yellow or Red challenge card\, each offering a different level of difficulty – from classic karaoke with lyrics\, to singing without any help\, or even performing while completing a hilarious challenge. Players can also gamble their points for a chance to win big prizes\, with up to £10\,000 up for grabs on the night. \nYour £25 ticket includes a burger and fries\, plus an evening packed with karaoke prizes\, a raffle and a cheesy disco to keep the party going until late. \nWith only 60 tickets available\, this is set to be a lively\, inclusive night out for friends\, couples and colleagues – all supporting accessible and reliable mental health support through the Arthur Ellis Mental Health Foundation. \nBooking: \nTo secure your place\, click Give Now and purchase at £25.00 per person. When paying\, please enter your name in full so we know it’s you paying for the tickets\, and leave the message: Looking forward to seeing you all at the Drag Karaoke. \nPlease leave your email address when checking out so that we can contact you to organise ticket delivery. \nAlternately please contact Nimble Media on 01780 432930\, email info@nimblemedia.co.uk\, or purchase tickets directly from The Fox North Luffenham (cash only).
URL:https://discover-rutland.co.uk/event/drag-karaoke-with-a-twist-at-the-fox-north-luffenham/
LOCATION:The Fox\, 1 Pinfold Lane\, Oakham\, LE15 8LE
ATTACH;FMTTYPE=image/jpeg:https://discover-rutland.co.uk/wp-content/uploads/2026/03/FINAL.jpg
ORGANIZER;CN="Nimble Media":MAILTO:info@nimblemedia.co.uk
END:VEVENT
END:VCALENDAR